BEGIN:VCALENDAR
VERSION:2.0
PRODID:-//Tŷ Pawb - ECPv6.15.20//NONSGML v1.0//EN
CALSCALE:GREGORIAN
METHOD:PUBLISH
X-ORIGINAL-URL:https://www.typawb.wales/?lang=cy
X-WR-CALDESC:Events for Tŷ Pawb
REFRESH-INTERVAL;VALUE=DURATION:PT1H
X-Robots-Tag:noindex
X-PUBLISHED-TTL:PT1H
BEGIN:VTIMEZONE
TZID:Europe/London
BEGIN:DAYLIGHT
TZOFFSETFROM:+0000
TZOFFSETTO:+0100
TZNAME:BST
DTSTART:20240331T010000
END:DAYLIGHT
BEGIN:STANDARD
TZOFFSETFROM:+0100
TZOFFSETTO:+0000
TZNAME:GMT
DTSTART:20241027T010000
END:STANDARD
BEGIN:DAYLIGHT
TZOFFSETFROM:+0000
TZOFFSETTO:+0100
TZNAME:BST
DTSTART:20250330T010000
END:DAYLIGHT
BEGIN:STANDARD
TZOFFSETFROM:+0100
TZOFFSETTO:+0000
TZNAME:GMT
DTSTART:20251026T010000
END:STANDARD
BEGIN:DAYLIGHT
TZOFFSETFROM:+0000
TZOFFSETTO:+0100
TZNAME:BST
DTSTART:20260329T010000
END:DAYLIGHT
BEGIN:STANDARD
TZOFFSETFROM:+0100
TZOFFSETTO:+0000
TZNAME:GMT
DTSTART:20261025T010000
END:STANDARD
END:VTIMEZONE
BEGIN:VEVENT
DTSTART;TZID=Europe/London:20251219T150000
DTEND;TZID=Europe/London:20251219T170000
DTSTAMP:20260420T094502
CREATED:20251128T093332Z
LAST-MODIFIED:20251215T134021Z
UID:10002201-1766156400-1766163600@www.typawb.wales
SUMMARY:The Tŷ Pawb Kids’ Christmas Party 2025!
DESCRIPTION:3pm to 5pm\, Friday 19th December \nJoin us for a jolly Christmas celebration with craft activities\, games and dancing! Children will receive a small present from santa at this event. \nDressing up is strongly encouraged\, we want to see lots of elves\, angels\, reindeer and snowfolk. \nPlaces are £3.00 per child\, please book in advance to avoid disappointment. Email teampawb@wrexham.gov.uk to book. \nThis party is most suitable for ages 4 to 11. Children must be accompanied by a parent or carer.
URL:https://www.typawb.wales/event/the-ty-pawb-kids-christmas-party-2025/?lang=cy
LOCATION:Tŷ Pawb\, Stryd y Farchnad\, Wrecsam\, LL13 8BB
ATTACH;FMTTYPE=image/png:https://www.typawb.wales/wp-content/uploads/2025/11/heather-website-1.png
END:VEVENT
END:VCALENDAR