BEGIN:VCALENDAR
VERSION:2.0
PRODID:-//Tŷ Pawb - ECPv6.15.20//NONSGML v1.0//EN
CALSCALE:GREGORIAN
METHOD:PUBLISH
X-ORIGINAL-URL:https://www.typawb.wales/?lang=cy
X-WR-CALDESC:Events for Tŷ Pawb
REFRESH-INTERVAL;VALUE=DURATION:PT1H
X-Robots-Tag:noindex
X-PUBLISHED-TTL:PT1H
BEGIN:VTIMEZONE
TZID:Europe/London
BEGIN:DAYLIGHT
TZOFFSETFROM:+0000
TZOFFSETTO:+0100
TZNAME:BST
DTSTART:20240331T010000
END:DAYLIGHT
BEGIN:STANDARD
TZOFFSETFROM:+0100
TZOFFSETTO:+0000
TZNAME:GMT
DTSTART:20241027T010000
END:STANDARD
BEGIN:DAYLIGHT
TZOFFSETFROM:+0000
TZOFFSETTO:+0100
TZNAME:BST
DTSTART:20250330T010000
END:DAYLIGHT
BEGIN:STANDARD
TZOFFSETFROM:+0100
TZOFFSETTO:+0000
TZNAME:GMT
DTSTART:20251026T010000
END:STANDARD
BEGIN:DAYLIGHT
TZOFFSETFROM:+0000
TZOFFSETTO:+0100
TZNAME:BST
DTSTART:20260329T010000
END:DAYLIGHT
BEGIN:STANDARD
TZOFFSETFROM:+0100
TZOFFSETTO:+0000
TZNAME:GMT
DTSTART:20261025T010000
END:STANDARD
END:VTIMEZONE
BEGIN:VEVENT
DTSTART;TZID=Europe/London:20251223T103000
DTEND;TZID=Europe/London:20251223T120000
DTSTAMP:20260420T094502
CREATED:20251217T164416Z
LAST-MODIFIED:20251217T165106Z
UID:10002335-1766485800-1766491200@www.typawb.wales
SUMMARY:Croeso Cynnes
DESCRIPTION:Croeso Cynnes yn Tŷ Pawb – Gweithgaredd Celf Gofal Gwres wythnosol am ddim gyda phryd poeth! \nFel rhan o ymdrechion Cyngor Wrecsam i gefnogi preswylwyr drwy argyfwng cost byw\, sefydlwyd nifer o ‘lefydd cynnes’ cymunedol ym Mhrecast Wrecsam. Mae’r rhain eisoes yn lleoedd cynnes lle gall pobl fynd i aros yn gynnes\, gan gynnwys deg o’n llyfrgelloedd a’r Hub Lles. Yn cychwyn ar yr 11eg o Ragfyr\, Croeso Cynnes yn Nhŷ Pawb yw prosiect Lles Cynnes newydd a fydd yn cynnig cyfle i gyfranogwyr ddysgu sgiliau crefft newydd\, mewn amgylchedd cymdeithasol ymlaciol gyda diod boeth am ddim a phryd poeth. Mae Croeso Cynnes wedi’i ariannu trwy Gronfa Grantiau Bach Lleoedd Cynnes er budd preswylwyr sy’n wynebu anawsterau gyda chost bywyd. \nBydd y sesiynau yn cael eu cyflwyno gan artist lleol profiadol\, Ceri Wright\, a byddant yn cynnwys amrywiaeth o weithgareddau creadigol gan gynnwys gweithio gyda argraffu\, collage a glai. Bydd bwyd a diod ar gael gan Gaffi The Courtyard yn cawód bwyd Ty Pawb\, trwy docyn a roddir i gyfranogwyr y sesiwn.\nBydd y prosiect yn cael ei gynnal rhwng 10:30yb – 12:00yp ar y dyddiadau canlynol:\n• Dydd Iau 11eg Rhagfyr – Gwneud Pot Pinch o Glai\n• Dydd Iau 18fed Rhagfyr – Argraffu Eich Papur Lapio Eich Hun\n• Dydd Mawrth 22ain Rhagfyr – Gwneud Se bon Tanysgrin\nAm fwy o wybodaeth am y rhaglen hon\, cysylltwch â: teampawb@wrexham.gov.uk
URL:https://www.typawb.wales/event/warm-welcome/?lang=cy
LOCATION:Tŷ Pawb\, Stryd y Farchnad\, Wrecsam\, LL13 8BB
CATEGORIES:Digwyddiadau,Learning
ATTACH;FMTTYPE=image/jpeg:https://www.typawb.wales/wp-content/uploads/2025/12/2-P1003642.jpg
ORGANIZER;CN="T%C5%B7 Pawb Arts Engagement Team":MAILTO:teampawb@wrexham.gov.uk
END:VEVENT
END:VCALENDAR