BEGIN:VCALENDAR
VERSION:2.0
PRODID:-//Tŷ Pawb - ECPv6.15.20//NONSGML v1.0//EN
CALSCALE:GREGORIAN
METHOD:PUBLISH
X-ORIGINAL-URL:https://www.typawb.wales/?lang=cy
X-WR-CALDESC:Events for Tŷ Pawb
REFRESH-INTERVAL;VALUE=DURATION:PT1H
X-Robots-Tag:noindex
X-PUBLISHED-TTL:PT1H
BEGIN:VTIMEZONE
TZID:Europe/London
BEGIN:DAYLIGHT
TZOFFSETFROM:+0000
TZOFFSETTO:+0100
TZNAME:BST
DTSTART:20250330T010000
END:DAYLIGHT
BEGIN:STANDARD
TZOFFSETFROM:+0100
TZOFFSETTO:+0000
TZNAME:GMT
DTSTART:20251026T010000
END:STANDARD
BEGIN:DAYLIGHT
TZOFFSETFROM:+0000
TZOFFSETTO:+0100
TZNAME:BST
DTSTART:20260329T010000
END:DAYLIGHT
BEGIN:STANDARD
TZOFFSETFROM:+0100
TZOFFSETTO:+0000
TZNAME:GMT
DTSTART:20261025T010000
END:STANDARD
BEGIN:DAYLIGHT
TZOFFSETFROM:+0000
TZOFFSETTO:+0100
TZNAME:BST
DTSTART:20270328T010000
END:DAYLIGHT
BEGIN:STANDARD
TZOFFSETFROM:+0100
TZOFFSETTO:+0000
TZNAME:GMT
DTSTART:20271031T010000
END:STANDARD
END:VTIMEZONE
BEGIN:VEVENT
DTSTART;TZID=Europe/London:20260130T190000
DTEND;TZID=Europe/London:20260130T230000
DTSTAMP:20260420T061128
CREATED:20251213T110720Z
LAST-MODIFIED:20251213T110720Z
UID:10002331-1769799600-1769814000@www.typawb.wales
SUMMARY:WIRED | CERDDORIAETH ELECTRONIG BYW
DESCRIPTION:WIRED | CERDDORIAETH ELECTRONIG BYW \nAm noson oedd ein digwyddiad WIRED olaf yn 2025\, ein digwyddiad mwyaf eto — tŷ llawn\, egni anhygoel\, ac ystafell yn llawn pobl sy’n wirioneddol ofalu am gerddoriaeth electronig fyw a chreadigrwydd. Diolch i bob artist\, pob cydweithiwr gweledol\, pob DJ\, a phawb a ddaeth i lawr i gefnogi’r hyn rydym yn ei adeiladu yn Tŷ Pawb. Mae nosweithiau fel hyn yn profi pa mor gryf ac ysbrydoledig yw’r gymuned wedi dod.  \nRydym yn cymryd seibiant byr — ond byddwn yn ôl i gychwyn 2026 gyda rhywbeth arbennig.  \nMae WIRED yn dychwelyd ddydd Gwener 30 Ionawr 2026   \nTŷ Pawb\, Wrecsam  7pm – 11pm   \nArtistiaid Electronig Byw | Delweddau Byw | System Sain + Goleuadau Trochol    \nPERFFORMWYR IONAWR:  \nC-90 • D-N-A • CHONK  \nCRIES FROM THE LTN  \nMARK HUCKRIDGE  \nPRESWYLWYR WIRED  \nDELWEDDAU GAN PANORAMA MAPPING + GWESTION  \nYSTAFEL 2: CLWB SYNTH – STIWDIO SYNTH RHYNGWEITHIOL   \nDiolch eto am flwyddyn anhygoel. Gadewch i ni wneud 2026 hyd yn oed yn fwy.
URL:https://www.typawb.wales/event/wired-cerddoriaeth-electronig-byw/?lang=cy
LOCATION:Tŷ Pawb\, Stryd y Farchnad\, Wrecsam\, LL13 8BB
CATEGORIES:Digwyddiadau
ATTACH;FMTTYPE=image/jpeg:https://www.typawb.wales/wp-content/uploads/2025/12/Wired-Jan-2026.jpg
END:VEVENT
END:VCALENDAR