BEGIN:VCALENDAR
VERSION:2.0
PRODID:-//Tŷ Pawb - ECPv6.15.20//NONSGML v1.0//EN
CALSCALE:GREGORIAN
METHOD:PUBLISH
X-ORIGINAL-URL:https://www.typawb.wales/?lang=cy
X-WR-CALDESC:Events for Tŷ Pawb
REFRESH-INTERVAL;VALUE=DURATION:PT1H
X-Robots-Tag:noindex
X-PUBLISHED-TTL:PT1H
BEGIN:VTIMEZONE
TZID:Europe/London
BEGIN:DAYLIGHT
TZOFFSETFROM:+0000
TZOFFSETTO:+0100
TZNAME:BST
DTSTART:20250330T010000
END:DAYLIGHT
BEGIN:STANDARD
TZOFFSETFROM:+0100
TZOFFSETTO:+0000
TZNAME:GMT
DTSTART:20251026T010000
END:STANDARD
BEGIN:DAYLIGHT
TZOFFSETFROM:+0000
TZOFFSETTO:+0100
TZNAME:BST
DTSTART:20260329T010000
END:DAYLIGHT
BEGIN:STANDARD
TZOFFSETFROM:+0100
TZOFFSETTO:+0000
TZNAME:GMT
DTSTART:20261025T010000
END:STANDARD
BEGIN:DAYLIGHT
TZOFFSETFROM:+0000
TZOFFSETTO:+0100
TZNAME:BST
DTSTART:20270328T010000
END:DAYLIGHT
BEGIN:STANDARD
TZOFFSETFROM:+0100
TZOFFSETTO:+0000
TZNAME:GMT
DTSTART:20271031T010000
END:STANDARD
END:VTIMEZONE
BEGIN:VEVENT
DTSTART;TZID=Europe/London:20260208T100000
DTEND;TZID=Europe/London:20260208T123000
DTSTAMP:20260420T134536
CREATED:20260120T185050Z
LAST-MODIFIED:20260120T185050Z
UID:10002411-1770544800-1770553800@www.typawb.wales
SUMMARY:NEW Academi Gresford Opera Workshop
DESCRIPTION:Galwad i bob cerddor ifanc! Ymunwch â ni am weithdy anffurfiol a hamddenol lle byddwn yn dysgu cerddoriaeth o’r opera Gresford\, Up From Underground\, a enwebwyd am Wobr Ivor Novello\, gan chwarae a chynnal ochr yn ochr â cherddorion o gerddorfa NEW Sinfonia. \nAr agor i BOB offerynnwr Gradd 1 ac uwch! \nBydd cerddorion ifanc yn perfformio darnau newydd o’n cynhyrchiad Opera ochr yn ochr â’n cerddorfa o gerddorion proffesiynol. Bydd y gweithdy hwn yn datblygu eu perfformiad ensemble\, eu hyder a’u sgiliau arweinyddiaeth\, ac yn creu atgofion cerddorol ysbrydoledig a pharhaol wrth iddynt chwarae ochr yn ochr â cherddorion proffesiynol. Byddant hefyd yn cael eu gwahodd i roi cynnig ar gynnal y gerddorfa! \n \nAm 12.15pm bydd gennym berfformiad anffurfiol o’r hyn rydym wedi gweithio arno i rieni cyn i’r gweithdy ddod i ben am 12.30pm. \nRydym yn mynd ag opera Gresford\, Up From Underground\, a enwebwyd am Wobr\, gan Jon Guy\, ar daith ledled Cymru. Mae cyfleoedd i gerddorion ifanc chwarae yn y gerddorfa yn ystod y perfformiadau yn ogystal â’r gweithdai. Rhaid i gerddorion ifanc gymryd rhan mewn gweithdy i fod yn gymwys i chwarae mewn perfformiad. \nOs hoffech gofrestru\, anfonwch ateb gan ddefnyddio’r ffurflen isod fel ein bod yn gwybod pwy sy’n mynychu a pha offerynnau maen nhw’n eu chwarae. \nGellir dod o hyd i gerddoriaeth ddalen yn y ffolder sydd wedi’i chysylltu isod. Mae 5 rhan ac mae gan bob rhan rai amrywiadau ar gyfer lefel anhawster – dewiswch ba ran bynnag sydd fwyaf addas i chi! Rydym yn argymell argraffu eich rhannau ymarfer eich hun ond bydd copïau printiedig o bob rhan ar gael ar y diwrnod. \nEwch i wefan NEW Sinfonia i archebu
URL:https://www.typawb.wales/event/new-academi-gresford-opera-workshop/?lang=cy
LOCATION:Tŷ Pawb\, Stryd y Farchnad\, Wrecsam\, LL13 8BB
CATEGORIES:Digwyddiadau,Dysgu
ATTACH;FMTTYPE=image/avif:https://www.typawb.wales/wp-content/uploads/2026/01/new-academy.avif
END:VEVENT
END:VCALENDAR