BEGIN:VCALENDAR
VERSION:2.0
PRODID:-//Tŷ Pawb - ECPv6.15.20//NONSGML v1.0//EN
CALSCALE:GREGORIAN
METHOD:PUBLISH
X-ORIGINAL-URL:https://www.typawb.wales/?lang=cy
X-WR-CALDESC:Events for Tŷ Pawb
REFRESH-INTERVAL;VALUE=DURATION:PT1H
X-Robots-Tag:noindex
X-PUBLISHED-TTL:PT1H
BEGIN:VTIMEZONE
TZID:Europe/London
BEGIN:DAYLIGHT
TZOFFSETFROM:+0000
TZOFFSETTO:+0100
TZNAME:BST
DTSTART:20250330T010000
END:DAYLIGHT
BEGIN:STANDARD
TZOFFSETFROM:+0100
TZOFFSETTO:+0000
TZNAME:GMT
DTSTART:20251026T010000
END:STANDARD
BEGIN:DAYLIGHT
TZOFFSETFROM:+0000
TZOFFSETTO:+0100
TZNAME:BST
DTSTART:20260329T010000
END:DAYLIGHT
BEGIN:STANDARD
TZOFFSETFROM:+0100
TZOFFSETTO:+0000
TZNAME:GMT
DTSTART:20261025T010000
END:STANDARD
BEGIN:DAYLIGHT
TZOFFSETFROM:+0000
TZOFFSETTO:+0100
TZNAME:BST
DTSTART:20270328T010000
END:DAYLIGHT
BEGIN:STANDARD
TZOFFSETFROM:+0100
TZOFFSETTO:+0000
TZNAME:GMT
DTSTART:20271031T010000
END:STANDARD
END:VTIMEZONE
BEGIN:VEVENT
DTSTART;TZID=Europe/London:20260221T090000
DTEND;TZID=Europe/London:20260221T170000
DTSTAMP:20260420T061129
CREATED:20260109T170837Z
LAST-MODIFIED:20260109T170837Z
UID:10002394-1771664400-1771693200@www.typawb.wales
SUMMARY:Diwrnod Profiad: Creu Fflasg Yfed Ledr Canoloesol
DESCRIPTION:Dysgwch ac ymarferwch amrywiaeth o sgiliau gwaith lledr traddodiadol fel torri\, bevelio\, gwnïo â llaw\, mowldio gwlyb a sgleinio\, gyda Chyfarwyddwr Battle Horse Ltd\, Shelley Musker Turner\, sydd â dros ddegawd o brofiad o wneud propiau lledr a chyfrwyau ar gyfer y diwydiant ffilm. \nGadewch gyda’ch fflasg yfed lledr arddull ganoloesol wedi’i chrefft â llaw ac sy’n gwbl weithredol yn ogystal â’r sgiliau sylfaenol i ddechrau unrhyw brosiect gwaith lledr eich hun. Byddwch hefyd yn derbyn taflen ddefnyddiol gyda rhestr o gyflenwyr Prydeinig a argymhellir ar gyfer yr offer a’r deunyddiau a ddefnyddiwyd ar y cwrs. \n£145 (Yn cynnwys deunyddiau\, te\, coffi a chacen)\n9am-5pm \nRhoddir y ffi lawn i Gymorth i Ferched Cymru\, y brif elusen sy’n gweithio i roi terfyn ar drais tuag at fenywod a phlant yng Nghymru. \nOedran lleiaf 16.\nEwch i’r wefan i archebu \nDSCF0420-2 DSCF0007 DSCF0454
URL:https://www.typawb.wales/event/diwrnod-profiad-creu-fflasg-yfed-ledr-canoloesol/?lang=cy
CATEGORIES:Digwyddiadau
ATTACH;FMTTYPE=image/jpeg:https://www.typawb.wales/wp-content/uploads/2026/01/DSCF0009.jpg
END:VEVENT
END:VCALENDAR