BEGIN:VCALENDAR
VERSION:2.0
PRODID:-//Tŷ Pawb - ECPv6.15.20//NONSGML v1.0//EN
CALSCALE:GREGORIAN
METHOD:PUBLISH
X-WR-CALNAME:Tŷ Pawb
X-ORIGINAL-URL:https://www.typawb.wales/?lang=cy
X-WR-CALDESC:Events for Tŷ Pawb
REFRESH-INTERVAL;VALUE=DURATION:PT1H
X-Robots-Tag:noindex
X-PUBLISHED-TTL:PT1H
BEGIN:VTIMEZONE
TZID:Europe/London
BEGIN:DAYLIGHT
TZOFFSETFROM:+0000
TZOFFSETTO:+0100
TZNAME:BST
DTSTART:20250330T010000
END:DAYLIGHT
BEGIN:STANDARD
TZOFFSETFROM:+0100
TZOFFSETTO:+0000
TZNAME:GMT
DTSTART:20251026T010000
END:STANDARD
BEGIN:DAYLIGHT
TZOFFSETFROM:+0000
TZOFFSETTO:+0100
TZNAME:BST
DTSTART:20260329T010000
END:DAYLIGHT
BEGIN:STANDARD
TZOFFSETFROM:+0100
TZOFFSETTO:+0000
TZNAME:GMT
DTSTART:20261025T010000
END:STANDARD
BEGIN:DAYLIGHT
TZOFFSETFROM:+0000
TZOFFSETTO:+0100
TZNAME:BST
DTSTART:20270328T010000
END:DAYLIGHT
BEGIN:STANDARD
TZOFFSETFROM:+0100
TZOFFSETTO:+0000
TZNAME:GMT
DTSTART:20271031T010000
END:STANDARD
END:VTIMEZONE
BEGIN:VEVENT
DTSTART;TZID=Europe/London:20260224T110000
DTEND;TZID=Europe/London:20260224T150000
DTSTAMP:20260419T213610
CREATED:20260205T113735Z
LAST-MODIFIED:20260205T114250Z
UID:10002456-1771930800-1771945200@www.typawb.wales
SUMMARY:Eich Wrecsam2029 l Gofod Agored i Artistiaid a Chreadigwyr
DESCRIPTION:Gofod Agored i Artistiaid a Chreadigwyr gyda Dirty Protest Theatre \nBeth ydych chi ei eisiau gan Wrecsam2029? \nDyddiad: Dydd Mawrth\, 24 Chwefror \nBle: Gofod perfformio Tŷ Pawb \nAr gyfer pwy: Artistiaid\, creadigwyr a gweithwyr diwylliannol o Wrecsam \nYmunwch â Dirty Protest\, cwmni theatr arobryn sydd wedi’i leoli yn Wrecsam\, am drafodaeth Gofod Agored ddeinamig sy’n dod ag artistiaid a chreadigwyr lleol ynghyd i archwilio dyfodol diwylliannol Wrecsam. \nMae’r sesiwn hon yn gwahodd cyfranogwyr i rannu eu meddyliau ar: \n\nDiwylliant Wrecsam heddiw\nStrategaeth Ddiwylliannol 10 mlynedd ar gyfer Wrecsam\nSyniadau ac uchelgeisiau ar gyfer cais Dinas Diwylliant y DU Wrecsam2029 a’i rhaglen o ddigwyddiadau\nYr hyn sydd ei angen arnoch i adeiladu gyrfa gynaliadwy\, creu cyfleoedd newydd\, ac adeiladu seilwaith ar gyfer celfyddydau a diwylliant â gwell cefnogaeth yn Wrecsam\n\nNid panel na chyflwyniad yw hwn\, mae’n ofod wedi’i lunio gan y bobl yn yr ystafell. \nBeth yw Gofod Agored? \nMae Gofod Agored yn fformat trafodaeth dan arweiniad cyfranogwyr lle rydych chi’n helpu i osod yr agenda. Fe’ch gwahoddir i gynnig pynciau sy’n bwysig i chi\, ymuno â sgyrsiau sy’n bwysig i chi\, a symud yn rhydd rhwng trafodaethau. Mae Gofod Agored yn meithrin creadigrwydd\, cydweithio a pherchnogaeth wirioneddol. \nBydd syniadau\, sgyrsiau a mewnwelediadau’n cael eu cipio a’u rhannu\, gan helpu i droi trafodaeth yn weithredu ar y cyd. \nDewch yn barod i wrando\, rhannu\, herio\, a helpu i lunio stori ddiwylliannol Wrecsam – o greadigrwydd gwaelodol i Wrecsam2029 a thu hwnt. Mae eich llais yn bwysig. Byddwch yn rhan o’r sgwrs. \nDewch i rannu\, creu a llunio stori dyfodol Wrecsam. \nSgyrsiau a Gweithdai Ar Y Gweill am https://www.wrecsam2029.wales/en_gb/dirty-protest-theatre/ \nMae gweithdai\, sesiynau galw heibio a sesiynau i gyd yn rhad ac am ddim i fynychu\, a chyhoeddir canllawiau oedran neu wybodaeth mynediad arall ar gyfer pob sesiwn unigol\, yn ôl yr angen. Gellir mynychu sesiynau fel sesiynau cerdded i mewn\, heb fod angen archebu ymlaen llaw. \nOs oes gan unrhyw un sy’n mynychu ofynion mynediad penodol y maent am eu trafod gyda’r trefnwyr\, anfonwch e-bost at info@dirtyprotesttheatre.co.uk
URL:https://www.typawb.wales/event/dirty-protest-theatre-l-open-space-for-artists-creatives/?lang=cy
CATEGORIES:Digwyddiadau,Dysgu,Teuluoedd
ATTACH;FMTTYPE=image/png:https://www.typawb.wales/wp-content/uploads/2026/02/Dirty-Protest-Thatre.png
END:VEVENT
END:VCALENDAR