BEGIN:VCALENDAR
VERSION:2.0
PRODID:-//Tŷ Pawb - ECPv6.15.20//NONSGML v1.0//EN
CALSCALE:GREGORIAN
METHOD:PUBLISH
X-WR-CALNAME:Tŷ Pawb
X-ORIGINAL-URL:https://www.typawb.wales/?lang=cy
X-WR-CALDESC:Events for Tŷ Pawb
REFRESH-INTERVAL;VALUE=DURATION:PT1H
X-Robots-Tag:noindex
X-PUBLISHED-TTL:PT1H
BEGIN:VTIMEZONE
TZID:Europe/London
BEGIN:DAYLIGHT
TZOFFSETFROM:+0000
TZOFFSETTO:+0100
TZNAME:BST
DTSTART:20250330T010000
END:DAYLIGHT
BEGIN:STANDARD
TZOFFSETFROM:+0100
TZOFFSETTO:+0000
TZNAME:GMT
DTSTART:20251026T010000
END:STANDARD
BEGIN:DAYLIGHT
TZOFFSETFROM:+0000
TZOFFSETTO:+0100
TZNAME:BST
DTSTART:20260329T010000
END:DAYLIGHT
BEGIN:STANDARD
TZOFFSETFROM:+0100
TZOFFSETTO:+0000
TZNAME:GMT
DTSTART:20261025T010000
END:STANDARD
BEGIN:DAYLIGHT
TZOFFSETFROM:+0000
TZOFFSETTO:+0100
TZNAME:BST
DTSTART:20270328T010000
END:DAYLIGHT
BEGIN:STANDARD
TZOFFSETFROM:+0100
TZOFFSETTO:+0000
TZNAME:GMT
DTSTART:20271031T010000
END:STANDARD
END:VTIMEZONE
BEGIN:VEVENT
DTSTART;TZID=Europe/London:20260305T080000
DTEND;TZID=Europe/London:20260305T170000
DTSTAMP:20260419T233227
CREATED:20260305T140603Z
LAST-MODIFIED:20260305T140721Z
UID:10002495-1772697600-1772730000@www.typawb.wales
SUMMARY:Drumming Meditations l  Myfyrdodau Drymio
DESCRIPTION:*at the Roof Garden and Art Gallery\, Tŷ Pawb.*\n*yn yr Ardd To ac Oriel Gelf Ty Pawb \nDrumming for Wellbeing Sessions  \nSaturday 7th March 4 pm – Dydd Sadwrn 7 Mawrth\, 4PM\nwith Creuynni Wellbeing CIC \nSaturday 11th April – 4pm Dydd Sadwrn 11 Ebrill\, 4PM\nwith M’anam Cara \nand special event: at Focus Wales\nSaturday 9th May\,  3pm Dydd Sadwrn 9 Mai\,\, 3PM\nwith Creuynni Wellbeing CIC
URL:https://www.typawb.wales/event/drumming-meditations/?lang=cy
LOCATION:Tŷ Pawb\, Stryd y Farchnad\, Wrecsam\, LL13 8BB
ATTACH;FMTTYPE=image/png:https://www.typawb.wales/wp-content/uploads/2026/03/Druming-Meditation-Posters.png
END:VEVENT
END:VCALENDAR