BEGIN:VCALENDAR
VERSION:2.0
PRODID:-//Tŷ Pawb - ECPv6.15.20//NONSGML v1.0//EN
CALSCALE:GREGORIAN
METHOD:PUBLISH
X-ORIGINAL-URL:https://www.typawb.wales/?lang=cy
X-WR-CALDESC:Events for Tŷ Pawb
REFRESH-INTERVAL;VALUE=DURATION:PT1H
X-Robots-Tag:noindex
X-PUBLISHED-TTL:PT1H
BEGIN:VTIMEZONE
TZID:Europe/London
BEGIN:DAYLIGHT
TZOFFSETFROM:+0000
TZOFFSETTO:+0100
TZNAME:BST
DTSTART:20250330T010000
END:DAYLIGHT
BEGIN:STANDARD
TZOFFSETFROM:+0100
TZOFFSETTO:+0000
TZNAME:GMT
DTSTART:20251026T010000
END:STANDARD
BEGIN:DAYLIGHT
TZOFFSETFROM:+0000
TZOFFSETTO:+0100
TZNAME:BST
DTSTART:20260329T010000
END:DAYLIGHT
BEGIN:STANDARD
TZOFFSETFROM:+0100
TZOFFSETTO:+0000
TZNAME:GMT
DTSTART:20261025T010000
END:STANDARD
BEGIN:DAYLIGHT
TZOFFSETFROM:+0000
TZOFFSETTO:+0100
TZNAME:BST
DTSTART:20270328T010000
END:DAYLIGHT
BEGIN:STANDARD
TZOFFSETFROM:+0100
TZOFFSETTO:+0000
TZNAME:GMT
DTSTART:20271031T010000
END:STANDARD
END:VTIMEZONE
BEGIN:VEVENT
DTSTART;TZID=Europe/London:20260325T100000
DTEND;TZID=Europe/London:20260325T120000
DTSTAMP:20260419T182708
CREATED:20250521T113413Z
LAST-MODIFIED:20250521T113413Z
UID:10000763-1774432800-1774440000@www.typawb.wales
SUMMARY:Coffi a Chrefft
DESCRIPTION:Coffi a Chrefft – Crefftau cymunedol yn ein Ardal Fwyd! \n \nSesiwn grefftau galw heibio newydd\, wythnosol\, anffurfiol. \nDewch â’ch prosiect crefft eich hun i weithio arno\, chwiliwch am frag gan ein masnachwyr Ardal Fwyd a chwrdd â gwneuthurwyr eraill o’r un anian!
URL:https://www.typawb.wales/event/coffi-a-chrefft/2026-03-25/?lang=cy
LOCATION:Tŷ Pawb\, Stryd y Farchnad\, Wrecsam\, LL13 8BB
CATEGORIES:Digwyddiadau
ATTACH;FMTTYPE=image/jpeg:https://www.typawb.wales/wp-content/uploads/2025/04/pexels-fotios-photos-2550703-scaled.jpg
END:VEVENT
BEGIN:VEVENT
DTSTART;TZID=Europe/London:20260325T110000
DTEND;TZID=Europe/London:20260325T130000
DTSTAMP:20260419T182708
CREATED:20250730T091154Z
LAST-MODIFIED:20250730T091338Z
UID:10001201-1774436400-1774443600@www.typawb.wales
SUMMARY:Mombies
DESCRIPTION:Mombies\nDydd Mercher 11am – 1pm \nGrŵp cyfeillgar ar gyfer rhieni a theuluoedd am ddim wedi’i gynllunio i gefnogi rhieni i frwydro yn erbyn unigrwydd a phryder. Ymunwch â ni am baned\, sgwrs\, a gadewch i’r plant chwarae! Am ragor o wybodaeth ewch i: \nwww.facebook.com/wrexhammombies \n 
URL:https://www.typawb.wales/event/mombies/2026-03-25/?lang=cy
LOCATION:Tŷ Pawb\, Stryd y Farchnad\, Wrecsam\, LL13 8BB
CATEGORIES:Digwyddiadau,Teuluoedd
ATTACH;FMTTYPE=image/jpeg:https://www.typawb.wales/wp-content/uploads/2025/07/424958289_926793042779704_580054936145583248_n.jpg
END:VEVENT
BEGIN:VEVENT
DTSTART;TZID=Europe/London:20260325T190000
DTEND;TZID=Europe/London:20260325T220000
DTSTAMP:20260419T182708
CREATED:20260320T163659Z
LAST-MODIFIED:20260320T163659Z
UID:10002517-1774465200-1774476000@www.typawb.wales
SUMMARY:Gwobrau Gogledd Creadigol 2026
DESCRIPTION:Noson yn dathlu a gwobrwyo’r sector creadigol-digidol yng Ngogledd Cymru. \nNos Fercher\, Mawrth 25 2026\, rydym yn dod i Dŷ Pawb Wrecsam i ddathlu a gwobrwyo busnesau ac unigolion creadigol yng Ngogledd Cymru! \nBydd bwyd a diod yn cael eu darparu fel rhan o’r noson. \nSiaradwyr Gwadd yn yr Hen Lyfrgell \nEin rhestr siaradwyr gwadd ar gyfer y cymysgydd rhwydweithio yn yr Hen Lyfrgell (@theoldlibrarywxm) o 5:30 PM! \nBydd y noson yn cynnwys cyflwyniadau byr gan: \nYr Hen Lyfrgell – Croeso byr i ofod creadigol newydd cyffrous Wrecsam.\nTîm y Gogledd Creadigol – Croeso cynnes a llongyfarchiadau i’n holl enwebeion.\nTŷ’r Ddraig – Gyda Ben Smith (Cyfarwyddwr Creadigol) | www.tyrddraig.tv\nCais Dinas Diwylliant Wrecsam 2029 – Gyda Morgan Thomas | wrecsam2029.cymru \nDarganfod mwy
URL:https://www.typawb.wales/event/gwobrau-gogledd-creadigol-2026/?lang=cy
LOCATION:Tŷ Pawb\, Stryd y Farchnad\, Wrecsam\, LL13 8BB
CATEGORIES:Digwyddiadau
ATTACH;FMTTYPE=image/png:https://www.typawb.wales/wp-content/uploads/2026/03/Creative-North-Awards.png
END:VEVENT
END:VCALENDAR