BEGIN:VCALENDAR
VERSION:2.0
PRODID:-//Tŷ Pawb - ECPv6.15.20//NONSGML v1.0//EN
CALSCALE:GREGORIAN
METHOD:PUBLISH
X-ORIGINAL-URL:https://www.typawb.wales/?lang=cy
X-WR-CALDESC:Events for Tŷ Pawb
REFRESH-INTERVAL;VALUE=DURATION:PT1H
X-Robots-Tag:noindex
X-PUBLISHED-TTL:PT1H
BEGIN:VTIMEZONE
TZID:Europe/London
BEGIN:DAYLIGHT
TZOFFSETFROM:+0000
TZOFFSETTO:+0100
TZNAME:BST
DTSTART:20250330T010000
END:DAYLIGHT
BEGIN:STANDARD
TZOFFSETFROM:+0100
TZOFFSETTO:+0000
TZNAME:GMT
DTSTART:20251026T010000
END:STANDARD
BEGIN:DAYLIGHT
TZOFFSETFROM:+0000
TZOFFSETTO:+0100
TZNAME:BST
DTSTART:20260329T010000
END:DAYLIGHT
BEGIN:STANDARD
TZOFFSETFROM:+0100
TZOFFSETTO:+0000
TZNAME:GMT
DTSTART:20261025T010000
END:STANDARD
BEGIN:DAYLIGHT
TZOFFSETFROM:+0000
TZOFFSETTO:+0100
TZNAME:BST
DTSTART:20270328T010000
END:DAYLIGHT
BEGIN:STANDARD
TZOFFSETFROM:+0100
TZOFFSETTO:+0000
TZNAME:GMT
DTSTART:20271031T010000
END:STANDARD
END:VTIMEZONE
BEGIN:VEVENT
DTSTART;TZID=Europe/London:20260331T110000
DTEND;TZID=Europe/London:20260331T150000
DTSTAMP:20260419T213532
CREATED:20260205T160556Z
LAST-MODIFIED:20260213T203725Z
UID:10002459-1774954800-1774969200@www.typawb.wales
SUMMARY:Digwyddiad Gyrfa - GradCon Cymru Wrecsam
DESCRIPTION:Ar Ddydd Mawrth\, 31 Mawrth 2026\, bydd Darogan yn dod â’u digwyddiadau o’r radd flaenaf i’w cyflawni ar gyfer rheoli mawr\, GradCon Cymru\, i Ogledd Cymru. \nDydd Mawrth\, 31 Mawrth 2026\, bydd Darogan – a nodir gan Wrecsam – yn dod â’u digwyddiad hyrwyddo ddyrchafiad uchel\, GradCon Cymru\, i Wrecsam\, gan roi llwyth o wobrau gwych o Ogledd Cymru a channoedd o fuddugoliaethau a dawnus o arweinwyr blaenllaw’r DU i gyd yn yr un lle am un diwrnod yn unig. \nYdych chi’n chwilfrydig am arddangosiadau yn GradCon Wrecsam 2026? \nCysylltwch â’r dalent orau – Cwrdd ac orielau o ddyfarniadau a ddyfarnwyd o safon uchel o ddyfarniadau lluosog y DU. \nHyrwyddo’ch brand – Dangoswch eich ystadegau a’ch cynnydd o rai o gynrychiolwyr blaenllaw Cymru. \nEhangwch eich cronfa dalent – Cyrraedd y mudiad lleol a’r 37% o fyfyrwyr Cymru sy’n astudio y tu allan i Gymru\, yn awyddus i ddatblygu am yrfa gyrfa. \nByddwch yn rhan o’r mudiad – ‘swyddiannau o’r un anian wrth lunio’r dyfodol a meithrin economi Gymreig \n  \n\n 
URL:https://www.typawb.wales/event/career-event-gradcon-cymru-wrecsam/?lang=cy
LOCATION:Tŷ Pawb\, Stryd y Farchnad\, Wrecsam\, LL13 8BB
CATEGORIES:Digwyddiadau,Dysgu,Learning
ATTACH;FMTTYPE=image/jpeg:https://www.typawb.wales/wp-content/uploads/2026/02/GradCon-Instagram-asset-1.jpg
END:VEVENT
BEGIN:VEVENT
DTSTART;TZID=Europe/London:20260331T110000
DTEND;TZID=Europe/London:20260331T150000
DTSTAMP:20260419T213532
CREATED:20260213T203357Z
LAST-MODIFIED:20260213T203357Z
UID:10002479-1774954800-1774969200@www.typawb.wales
SUMMARY:Gradcon Cymru - Wrecsam
DESCRIPTION:Ar ddydd Mawrth\, 31ain o Fawrth 2026\, bydd Darogan – gyda chefnogaeth Prifysgol Wrecsam – yn dod â’r digwyddiad gyrfaoedd i raddedigion GradCon Cymru i Wrecsam\, gan roi llwyth o gyflogwyr gwych Gogledd Cymru a channoedd o fyfyrwyr a graddedigion yn yr un lle am ddiwrnod. \nBydd hyn yn gyfle i chi: \n• Gwrdd â chyflogwyr gwych Gogledd Cymru \n• Darganfod swyddi\, cynlluniau i raddedigion\, interniathau\, lleoliadau gwaith a phrofiad gwaith \n• Mwynhau bwyd stryd yn Nhŷ Pawb \n• Gwrando ar gyflwyniadau difyr gan siaradwyr gwadd \n• Cael tynnu dy lun proffesiynol am ddim \nMae tocynnau am ddim felly cofrestrwch heddiw i fachu eich lle! \n 
URL:https://www.typawb.wales/event/gradcon-cymru-wrecsam/?lang=cy
LOCATION:Tŷ Pawb\, Stryd y Farchnad\, Wrecsam\, LL13 8BB
CATEGORIES:Digwyddiadau
ATTACH;FMTTYPE=image/jpeg:https://www.typawb.wales/wp-content/uploads/2026/02/GradCon-Instagram-asset-1.jpg
END:VEVENT
END:VCALENDAR