BEGIN:VCALENDAR
VERSION:2.0
PRODID:-//Tŷ Pawb - ECPv6.15.20//NONSGML v1.0//EN
CALSCALE:GREGORIAN
METHOD:PUBLISH
X-ORIGINAL-URL:https://www.typawb.wales/?lang=cy
X-WR-CALDESC:Events for Tŷ Pawb
REFRESH-INTERVAL;VALUE=DURATION:PT1H
X-Robots-Tag:noindex
X-PUBLISHED-TTL:PT1H
BEGIN:VTIMEZONE
TZID:Europe/London
BEGIN:DAYLIGHT
TZOFFSETFROM:+0000
TZOFFSETTO:+0100
TZNAME:BST
DTSTART:20250330T010000
END:DAYLIGHT
BEGIN:STANDARD
TZOFFSETFROM:+0100
TZOFFSETTO:+0000
TZNAME:GMT
DTSTART:20251026T010000
END:STANDARD
BEGIN:DAYLIGHT
TZOFFSETFROM:+0000
TZOFFSETTO:+0100
TZNAME:BST
DTSTART:20260329T010000
END:DAYLIGHT
BEGIN:STANDARD
TZOFFSETFROM:+0100
TZOFFSETTO:+0000
TZNAME:GMT
DTSTART:20261025T010000
END:STANDARD
BEGIN:DAYLIGHT
TZOFFSETFROM:+0000
TZOFFSETTO:+0100
TZNAME:BST
DTSTART:20270328T010000
END:DAYLIGHT
BEGIN:STANDARD
TZOFFSETFROM:+0100
TZOFFSETTO:+0000
TZNAME:GMT
DTSTART:20271031T010000
END:STANDARD
END:VTIMEZONE
BEGIN:VEVENT
DTSTART;TZID=Europe/London:20260403T110000
DTEND;TZID=Europe/London:20260403T160000
DTSTAMP:20260419T163859
CREATED:20260403T113300Z
LAST-MODIFIED:20260403T113300Z
UID:10002853-1775214000-1775232000@www.typawb.wales
SUMMARY:Sesiwn Galw Heibio i'r Cyhoedd Wrecsam2029
DESCRIPTION:📣 Codwch eich llais a helpwch i lunio Wrecsam2029 \nSesiwn Galw Heibio i’r Cyhoedd: Eich Sgwrs a’ch Trafodaeth Greadigol am gais Wrecsam am fod yn Ddinas Diwylliant y DU (Wedi’i gynnal gan Dirty Protest Theatre)\n📍 Tŷ Pawb\, Wrecsam\n📅 Dydd Sadwrn 4 Ebrill\n🕚 11:00am – 4:00pm\n✅ Am ddim | Galwch heibio unrhyw bryd | Ar agor i bawb\nMae Dirty Protest Theatre yn cynnal ymgynghoriad galw heibio cyhoeddus hamddenol ar gyfer Cais Dinas Diwylliant y DU Wrecsam2029. Dewch am sgwrs fer neu arhoswch yn hirach a rhannwch yr hyn yr hoffech ei weld yn cael ei ddathlu\, ei gefnogi a’i amlygu mewn blwyddyn o ddiwylliant i Wrecsam.\nDewch draw i gyfrannu at berfformiad cyhoeddus i rannu gweledigaeth y gymuned ar gyfer Wrecsam2029\, a llunio’r rhannu terfynol.\nDewch i weld ein hymarferion ar gyfer rhannu cyhoeddus o’n syniadau cymunedol ynghylch Wrecsam2029\, cael eich dweud olaf ar raglen o weithgareddau a digwyddiadau yn 2029 a chyfrannu at ddigwyddiad rhannu ym mis Ebrill 2026 lle byddwn yn cyflwyno syniadau rhaglen y mae’r gymuned eisiau eu gweld ar gyfer Wrecsam yn Ddinas Diwylliant y DU.\nByddwn yn gofyn:\nBeth yw ysbryd Wrecsam? Beth ddylem ni fod yn falch ohono a beth ddylem ni ei ddathlu yn y cais? Beth ydych chi’n mwynhau ei wneud yr hoffech chi weld mwy ohono yn Wrecsam?\nPa gelf\, cerddoriaeth\, diwylliant\, treftadaeth\, chwaraeon\, bwyd\, diod a lletygarwch ydych chi eisiau eu gweld yn rhan o gais Wrecsam2029 yn Ddinas Diwylliant y DU?\nPa ddigwyddiadau ar raddfa fawr\, ganolig a chymunedol ydych chi eisiau eu gweld fel rhan o’r cais?\nPa rwystrau neu heriau y mae ein cymunedau’n eu hwynebu i fwynhau diwylliant?\nPa bobl\, grwpiau a sefydliadau sydd eisoes yn gwneud gwaith diwylliannol anhygoel sy’n haeddu sylw?\nBeth sydd ei angen ar eich cymuned i ffynnu\, nawr ac yn y dyfodol?\nByddwn yn rhoi eich syniadau a’ch adborth am gais Dinas Diwylliant y DU Wrecsam2029 yn ôl i Ymddiriedolaeth Diwylliannol a Chymunedol Wrecsam sy’n llunio’r cais\, ac yn rhannu’r holl syniadau rydyn ni wedi’u casglu mewn sesiwn rhannu gyhoeddus ym mis Ebrill. Dewch draw nawr fel y gallwch chi fod yn rhan o’r cais.\n✨ Dewch â’ch syniadau\, gobeithion\, a meddyliau gonest i helpu i lunio Wrecsam2029\, un sgwrs ar y tro. \nhttps://www.wrecsam2029.wales/en_gb/dirty-protest-theatre/ \nMae gweithdai\, sesiynau galw heibio a sesiynau i gyd yn rhad ac am ddim i fynychu\, a chyhoeddir canllawiau oedran neu wybodaeth mynediad arall ar gyfer pob sesiwn unigol\, yn ôl yr angen. Gellir mynychu sesiynau fel sesiynau cerdded i mewn\, heb fod angen archebu ymlaen llaw.\nOs oes gan unrhyw un sy’n mynychu ofynion mynediad penodol y maent am eu trafod gyda’r trefnwyr\, anfonwch e-bost at info@dirtyprotesttheatre.co.uk
URL:https://www.typawb.wales/event/sesiwn-galw-heibio-ir-cyhoedd-wrecsam2029/?lang=cy
LOCATION:Tŷ Pawb\, Stryd y Farchnad\, Wrecsam\, LL13 8BB
CATEGORIES:Digwyddiadau
ATTACH;FMTTYPE=image/jpeg:https://www.typawb.wales/wp-content/uploads/2026/04/649699292_1408345374671434_2231352185462138383_n.jpg
END:VEVENT
BEGIN:VEVENT
DTSTART;TZID=Europe/London:20260403T180000
DTEND;TZID=Europe/London:20260403T190000
DTSTAMP:20260419T163859
CREATED:20260324T123554Z
LAST-MODIFIED:20260324T131938Z
UID:10002519-1775239200-1775242800@www.typawb.wales
SUMMARY:Taith Oriel Gyda'r Nos gyda Jonathan Le Vay
DESCRIPTION:trosolwg\n\n\nTaith Oriel Gyda’r Nos dan Arweiniad Artist: ‘Opus’ gan Jonathan Le Vay \nYmunwch â ni am noson yn yr oriel yn archwilio paentiadau botanegol toreithiog Jonathan Le Vay. Yn y daith hon dan arweiniad yr artist\, byddwch yn clywed am brosesau peintio a cherddorol Jonathan\, ac yn gwrando ar gyfansoddiadau cerddorol sy’n ategu’r gweithiau celf. \n\n\nCynigir lleoedd ar y daith hon ar sail rhodd talu-beth-allwch-chi. Archebwch i osgoi siom gan fod lleoedd yn gyfyngedig. Cyflwynir y daith hon drwy gyfrwng y Saesneg.
URL:https://www.typawb.wales/event/evening-gallery-tour-with-jonathan-le-vay/?lang=cy
LOCATION:Tŷ Pawb\, Stryd y Farchnad\, Wrecsam\, LL13 8BB
CATEGORIES:Arddangosfeydd,Digwyddiadau,Dysgu,Learning,Teuluoedd
ATTACH;FMTTYPE=image/png:https://www.typawb.wales/wp-content/uploads/2026/03/Tour-with-Jonathan-Lavay-april.png
END:VEVENT
BEGIN:VEVENT
DTSTART;TZID=Europe/London:20260403T190000
DTEND;TZID=Europe/London:20260403T190000
DTSTAMP:20260419T163859
CREATED:20260205T104525Z
LAST-MODIFIED:20260320T160948Z
UID:10002432-1775242800-1775242800@www.typawb.wales
SUMMARY:Noson Gomedi Tŷ Pawb
DESCRIPTION:Ymunwch â ni am noson o gomedi stand-yp llawn hwyl gan rai o gomedïwyr teithiol gorau’r DU! \nYmunwch â ni ar ddydd Gwener cyntaf pob mis am noson o gomedi stand-yp llawn hwyl gan rai o gomedïwyr teithiol gorau’r DU! Wedi’i gyflwyno gan Funny Bones Jones o Wrecsam\, bydd y noson yn gweld y comedïwyr teithiol gorau yn mynd ar y llwyfan yn Tŷ Pawb. \nY rhestr i’w chyhoeddi \nBydd yr ardal fwyd ar agor cyn y sioe a bydd y bar ar agor drwy’r nos! \nTocynnau: £12\nDrysau: 7.30pm\nAct Gyntaf: 8.00pm\n16+ \nARCHEBWCH NAWR AR EVENTBRITE
URL:https://www.typawb.wales/event/ty-pawb-comedy-night-3/2026-04-03/?lang=cy
LOCATION:Tŷ Pawb\, Stryd y Farchnad\, Wrecsam\, LL13 8BB
CATEGORIES:Comedi,Digwyddiadau
ATTACH;FMTTYPE=image/jpeg:https://www.typawb.wales/wp-content/uploads/2026/01/Comedy-Night5-scaled.jpg
END:VEVENT
BEGIN:VEVENT
DTSTART;TZID=Europe/London:20260403T190000
DTEND;TZID=Europe/London:20260403T190000
DTSTAMP:20260419T163859
CREATED:20260325T175657Z
LAST-MODIFIED:20260325T175657Z
UID:10002427-1775242800-1775242800@www.typawb.wales
SUMMARY:Tŷ Pawb Comedy Night
DESCRIPTION:Join us on for an evening of side-splitting stand-up comedy from some of the UK’s best touring comedians! \nTŷ Pawb Comedy Night | \nJoin us every first Friday of the month for an evening of side-splitting stand-up comedy from some of the UK’s best touring comedians! Hosted by Wrexham’s own Funny Bones Jones the night sees the best touring comedians take the stage at Tŷ Pawb. \nLineup:\nMatt Bragg \nTour Support Ricky Gervais\, Kevin Bridges.\n“Classic observation comedy \, delivered with effortless style ” Ricky Gervais\n” Great stuff\, Excellent gags” Harry Hill\n” Jack Dee’s World view\, delivered in Frank Skinner’s voice \, all wrapped up in a mod’s fashion sense ” Chortle \nMeryl O’Rourke\nTour support \, Frankie Boyle .\n” Fantastic ” Jonathan Ross\n” Ripe with comedy. A unique perspective: sharp and dark\, and refreshingly unsentimental ” The Observer \nBen Turner\nFriend of Tŷ Pawb!\nFinalist World One Liner Championship\n“Funniest Jokes of Lockdown ” Daily Telegraph \nThe food court will be open before the show and the bar will be open all night! \nTickets: £12\nDoors: 7.30pm\nFirst Act: 8.00pm\n16+ \n  \n  \n  \n 
URL:https://www.typawb.wales/event/ty-pawb-comedy-night-3-2/?lang=cy
LOCATION:Tŷ Pawb\, Stryd y Farchnad\, Wrecsam\, LL13 8BB
ATTACH;FMTTYPE=image/jpeg:https://www.typawb.wales/wp-content/uploads/2026/01/Comedy-Night5-scaled.jpg
END:VEVENT
END:VCALENDAR