BEGIN:VCALENDAR
VERSION:2.0
PRODID:-//Tŷ Pawb - ECPv6.15.20//NONSGML v1.0//EN
CALSCALE:GREGORIAN
METHOD:PUBLISH
X-ORIGINAL-URL:https://www.typawb.wales/?lang=cy
X-WR-CALDESC:Events for Tŷ Pawb
REFRESH-INTERVAL;VALUE=DURATION:PT1H
X-Robots-Tag:noindex
X-PUBLISHED-TTL:PT1H
BEGIN:VTIMEZONE
TZID:Europe/London
BEGIN:DAYLIGHT
TZOFFSETFROM:+0000
TZOFFSETTO:+0100
TZNAME:BST
DTSTART:20250330T010000
END:DAYLIGHT
BEGIN:STANDARD
TZOFFSETFROM:+0100
TZOFFSETTO:+0000
TZNAME:GMT
DTSTART:20251026T010000
END:STANDARD
BEGIN:DAYLIGHT
TZOFFSETFROM:+0000
TZOFFSETTO:+0100
TZNAME:BST
DTSTART:20260329T010000
END:DAYLIGHT
BEGIN:STANDARD
TZOFFSETFROM:+0100
TZOFFSETTO:+0000
TZNAME:GMT
DTSTART:20261025T010000
END:STANDARD
BEGIN:DAYLIGHT
TZOFFSETFROM:+0000
TZOFFSETTO:+0100
TZNAME:BST
DTSTART:20270328T010000
END:DAYLIGHT
BEGIN:STANDARD
TZOFFSETFROM:+0100
TZOFFSETTO:+0000
TZNAME:GMT
DTSTART:20271031T010000
END:STANDARD
END:VTIMEZONE
BEGIN:VEVENT
DTSTART;TZID=Europe/London:20260411T160000
DTEND;TZID=Europe/London:20260411T170000
DTSTAMP:20260419T163859
CREATED:20260306T111634Z
LAST-MODIFIED:20260306T112404Z
UID:10002499-1775923200-1775926800@www.typawb.wales
SUMMARY:Myfordodau Drymio Llesol
DESCRIPTION:*yn Ardd To ac Oriel Gelf*    \nDewch i chwarae neu gwrando ar ein Sesiynau Llesiant Myfyrdod Drymio.\nSy’n addas ar gyfer lefel dechreuwyr neu uwch! \nMae yna groeso i bob oed\, cefndir\, man geni\, hunaniaeth\, gallu\, LGBTQIA+\, niwroamrywiaeth\, niwrotybigau yma. \nI gadw eich lle\, dewch o hyd i ni ar :\nhttps://www.eventbrite.co.uk/e/meditation-drumming-circle-ty-pawb-cylch-drumio-meddyliol-tickets-1982597422260?aff=ebdssbdestsearch \nGallwch ddod drymiau eich hunain\, neu gallwch ddefnyddio drymiau ein hunain.
URL:https://www.typawb.wales/event/drumming-meditations-for-wellbeing/2026-04-11/?lang=cy
LOCATION:Tŷ Pawb\, Stryd y Farchnad\, Wrecsam\, LL13 8BB
CATEGORIES:Digwyddiadau,Learning
ATTACH;FMTTYPE=image/png:https://www.typawb.wales/wp-content/uploads/2026/03/Drumming-Meditations-PIC.png
END:VEVENT
END:VCALENDAR