BEGIN:VCALENDAR
VERSION:2.0
PRODID:-//Tŷ Pawb - ECPv6.15.20//NONSGML v1.0//EN
CALSCALE:GREGORIAN
METHOD:PUBLISH
X-ORIGINAL-URL:https://www.typawb.wales/?lang=cy
X-WR-CALDESC:Events for Tŷ Pawb
REFRESH-INTERVAL;VALUE=DURATION:PT1H
X-Robots-Tag:noindex
X-PUBLISHED-TTL:PT1H
BEGIN:VTIMEZONE
TZID:Europe/London
BEGIN:DAYLIGHT
TZOFFSETFROM:+0000
TZOFFSETTO:+0100
TZNAME:BST
DTSTART:20250330T010000
END:DAYLIGHT
BEGIN:STANDARD
TZOFFSETFROM:+0100
TZOFFSETTO:+0000
TZNAME:GMT
DTSTART:20251026T010000
END:STANDARD
BEGIN:DAYLIGHT
TZOFFSETFROM:+0000
TZOFFSETTO:+0100
TZNAME:BST
DTSTART:20260329T010000
END:DAYLIGHT
BEGIN:STANDARD
TZOFFSETFROM:+0100
TZOFFSETTO:+0000
TZNAME:GMT
DTSTART:20261025T010000
END:STANDARD
BEGIN:DAYLIGHT
TZOFFSETFROM:+0000
TZOFFSETTO:+0100
TZNAME:BST
DTSTART:20270328T010000
END:DAYLIGHT
BEGIN:STANDARD
TZOFFSETFROM:+0100
TZOFFSETTO:+0000
TZNAME:GMT
DTSTART:20271031T010000
END:STANDARD
END:VTIMEZONE
BEGIN:VEVENT
DTSTART;VALUE=DATE:20260507
DTEND;VALUE=DATE:20260510
DTSTAMP:20260419T182706
CREATED:20260105T114441Z
LAST-MODIFIED:20260105T114441Z
UID:10002341-1778112000-1778371199@www.typawb.wales
SUMMARY:FOCUS Wales 2026
DESCRIPTION:  \nMae FOCUS Wales yn ŵyl arddangos cerddoriaeth ryngwladol a gŵyl ffilmiau sy’n gymwys ar gyfer BAFTA\, a gynhelir mewn sawl lleoliad ar draws dinas Wrecsam\, Gogledd Cymru. \nMae’r ŵyl yn rhoi sylw cadarn i’r diwydiant cerddoriaeth ar y dalent sy’n dod i’r amlwg sydd gan Gymru i’w chynnig i’r byd\, ochr yn ochr â detholiad o’r artistiaid a’r gwneuthurwyr ffilmiau newydd gorau o bob cwr o’r byd. \nBydd 2026 yn nodi 16eg rhifyn yr ŵyl\, a bydd yn croesawu dros 25\,000 o bobl i Wrecsam\, gan adeiladu ar bresenoldeb record 2025 ar draws penwythnos llawn dop o ddigwyddiadau. \nBydd Tŷ Pawb wrth wraidd yr ŵyl unwaith eto\, gan gynnal cerddoriaeth fyw a digwyddiadau cynhadledd. \nDarganfod mwy ar wefan FOCUS Wales
URL:https://www.typawb.wales/event/focus-wales-2026/?lang=cy
LOCATION:Tŷ Pawb\, Stryd y Farchnad\, Wrecsam\, LL13 8BB
CATEGORIES:Digwyddiadau
ATTACH;FMTTYPE=image/jpeg:https://www.typawb.wales/wp-content/uploads/2026/01/FOCUS2026_mainposter_FBcvr_300dpi-scaled.jpg
END:VEVENT
END:VCALENDAR