BEGIN:VCALENDAR
VERSION:2.0
PRODID:-//Tŷ Pawb - ECPv6.15.20//NONSGML v1.0//EN
CALSCALE:GREGORIAN
METHOD:PUBLISH
X-WR-CALNAME:Tŷ Pawb
X-ORIGINAL-URL:https://www.typawb.wales/?lang=cy
X-WR-CALDESC:Events for Tŷ Pawb
REFRESH-INTERVAL;VALUE=DURATION:PT1H
X-Robots-Tag:noindex
X-PUBLISHED-TTL:PT1H
BEGIN:VTIMEZONE
TZID:Europe/London
BEGIN:DAYLIGHT
TZOFFSETFROM:+0000
TZOFFSETTO:+0100
TZNAME:BST
DTSTART:20240331T010000
END:DAYLIGHT
BEGIN:STANDARD
TZOFFSETFROM:+0100
TZOFFSETTO:+0000
TZNAME:GMT
DTSTART:20241027T010000
END:STANDARD
BEGIN:DAYLIGHT
TZOFFSETFROM:+0000
TZOFFSETTO:+0100
TZNAME:BST
DTSTART:20250330T010000
END:DAYLIGHT
BEGIN:STANDARD
TZOFFSETFROM:+0100
TZOFFSETTO:+0000
TZNAME:GMT
DTSTART:20251026T010000
END:STANDARD
BEGIN:DAYLIGHT
TZOFFSETFROM:+0000
TZOFFSETTO:+0100
TZNAME:BST
DTSTART:20260329T010000
END:DAYLIGHT
BEGIN:STANDARD
TZOFFSETFROM:+0100
TZOFFSETTO:+0000
TZNAME:GMT
DTSTART:20261025T010000
END:STANDARD
END:VTIMEZONE
BEGIN:VEVENT
DTSTART;TZID=Europe/London:20251217T180000
DTEND;TZID=Europe/London:20251217T210000
DTSTAMP:20260420T053834
CREATED:20251210T180113Z
LAST-MODIFIED:20251210T180113Z
UID:10002323-1765994400-1766005200@www.typawb.wales
SUMMARY:An Arty Farty Christmas Party
DESCRIPTION:Mae Wrecsam yn plymio i mewn i’r cais am Ddinas Diwylliant y DU 2029\, ac rydym eisiau eich llais wrth wraidd y cais. \nBeth hoffech chi weld yn digwydd ar gyfer Wrecsam2029? \nYmunwch â Dirty Protest Theatre a’r Creu Criw o artistiaid lleol i archwilio creadigrwydd\, cymuned ac ysbryd gwir Wrecsam2029. \nDewch i rannu\, creu a llunio stori dyfodol Wrecsam. \nParti Nadolig heb ei ail\, wedi’i gynnal gan yr arwr lleol\, Shaggerada. Dewch o hyd i ysbryd Wrecsam a noson o hwyl Nadoligaidd\, Shaggeroke dewr\, a chymerwch ran mewn sgwrs gymunedol ar Gais Dinas Diwylliant y DU Wrecsam2029. \nMynediad: \nDyddiad: Dydd Mercher 17eg Rhagfyr 2025\nAmser: 6pm – 9pm\nLleoliad: Tŷ Pawb\, Stryd y Farchnad \nSut i Archebu: Mynediad am ddim. Digwyddiad i bobl 14+ oed yw hwn\, gyda themâu i oedolion. Ar agor i’r cyhoedd. Dewch i mewn ar y diwrnod neu archebwch ar-lein. \nMae gweithdai\, sesiynau galw heibio a sesiynau i gyd yn rhad ac am ddim i fynychu\, a chyhoeddir canllawiau oedran neu wybodaeth mynediad arall ar gyfer pob sesiwn unigol\, fel y bo’n briodol. Gellir mynychu sesiynau fel sesiynau cerdded i mewn\, heb fod angen archebu ymlaen llaw. \nOs oes gan unrhyw un sy’n mynychu ofynion mynediad penodol y maent am eu trafod gyda’r trefnwyr\, anfonwch e-bost at info@dirtyprotesttheatre.co.uk
URL:https://www.typawb.wales/event/an-arty-farty-christmas-party/?lang=cy
LOCATION:Tŷ Pawb\, Stryd y Farchnad\, Wrecsam\, LL13 8BB
CATEGORIES:Digwyddiadau
ATTACH;FMTTYPE=image/jpeg:https://www.typawb.wales/wp-content/uploads/2025/12/577036457_1331027085736597_2823649860070736101_n.jpg
END:VEVENT
BEGIN:VEVENT
DTSTART;TZID=Europe/London:20251217T140000
DTEND;TZID=Europe/London:20251217T153000
DTSTAMP:20260420T053834
CREATED:20251208T171535Z
LAST-MODIFIED:20251215T125542Z
UID:10002209-1765980000-1765985400@www.typawb.wales
SUMMARY:Christmas Card Making
DESCRIPTION:Christmas Card Making\nWednesday 10th December & Wednesday 17th December\n2pm – 3.30pm \nJoin us for a relaxed\, artist-led Christmas card making session for adults using a range of techniques and materials. \nThis activity is free to take part\, but we do recommend booking in advance. All materials are provided. Refreshments are available for sale in our food court. \nThis activity is funded by UK Government.
URL:https://www.typawb.wales/event/christmas-card-making/2025-12-17/?lang=cy
LOCATION:Tŷ Pawb\, Stryd y Farchnad\, Wrecsam\, LL13 8BB
ATTACH;FMTTYPE=image/jpeg:https://www.typawb.wales/wp-content/uploads/2025/12/pexels-leeloothefirst-5782704-scaled.jpg
ORGANIZER;CN="T%C5%B7 Pawb Arts Engagement Team":MAILTO:teampawb@wrexham.gov.uk
END:VEVENT
BEGIN:VEVENT
DTSTART;TZID=Europe/London:20251217T120000
DTEND;TZID=Europe/London:20251217T130000
DTSTAMP:20260420T053834
CREATED:20251209T145410Z
LAST-MODIFIED:20251209T145532Z
UID:10002321-1765972800-1765976400@www.typawb.wales
SUMMARY:Perfformiadau Côr Ysgol Amser Cinio
DESCRIPTION:Perfformiadau Côr Ysgol Amser Cinio \nDydd Mercher 17eg Rhagfyr\, 12yp – 1yp\nYmunwch â ni yn ein cwrt bwyd. \n12:00 – Ysgol Bodhyfryd \n12:15 – Ysgol All Saints \n12:30 – Ysgol Rhosddu \n12:45 – Ysgol Eyton
URL:https://www.typawb.wales/event/lunchtime-school-choir-performances/?lang=cy
LOCATION:Tŷ Pawb\, Stryd y Farchnad\, Wrecsam\, LL13 8BB
CATEGORIES:Digwyddiadau
ATTACH;FMTTYPE=image/jpeg:https://www.typawb.wales/wp-content/uploads/2025/12/pexels-pixabay-210764-scaled.jpg
ORGANIZER;CN="T%C5%B7 Pawb Arts Engagement Team":MAILTO:teampawb@wrexham.gov.uk
END:VEVENT
BEGIN:VEVENT
DTSTART;TZID=Europe/London:20251217T110000
DTEND;TZID=Europe/London:20251217T130000
DTSTAMP:20260420T053834
CREATED:20250730T091154Z
LAST-MODIFIED:20250730T091338Z
UID:10001187-1765969200-1765976400@www.typawb.wales
SUMMARY:Mombies
DESCRIPTION:Mombies\nDydd Mercher 11am – 1pm \nGrŵp cyfeillgar ar gyfer rhieni a theuluoedd am ddim wedi’i gynllunio i gefnogi rhieni i frwydro yn erbyn unigrwydd a phryder. Ymunwch â ni am baned\, sgwrs\, a gadewch i’r plant chwarae! Am ragor o wybodaeth ewch i: \nwww.facebook.com/wrexhammombies \n 
URL:https://www.typawb.wales/event/mombies/2025-12-17/?lang=cy
LOCATION:Tŷ Pawb\, Stryd y Farchnad\, Wrecsam\, LL13 8BB
CATEGORIES:Digwyddiadau,Teuluoedd
ATTACH;FMTTYPE=image/jpeg:https://www.typawb.wales/wp-content/uploads/2025/07/424958289_926793042779704_580054936145583248_n.jpg
END:VEVENT
BEGIN:VEVENT
DTSTART;TZID=Europe/London:20251217T100000
DTEND;TZID=Europe/London:20251217T120000
DTSTAMP:20260420T053834
CREATED:20250521T113413Z
LAST-MODIFIED:20250521T113413Z
UID:10000749-1765965600-1765972800@www.typawb.wales
SUMMARY:Coffi a Chrefft
DESCRIPTION:Coffi a Chrefft – Crefftau cymunedol yn ein Ardal Fwyd! \n \nSesiwn grefftau galw heibio newydd\, wythnosol\, anffurfiol. \nDewch â’ch prosiect crefft eich hun i weithio arno\, chwiliwch am frag gan ein masnachwyr Ardal Fwyd a chwrdd â gwneuthurwyr eraill o’r un anian!
URL:https://www.typawb.wales/event/coffi-a-chrefft/2025-12-17/?lang=cy
LOCATION:Tŷ Pawb\, Stryd y Farchnad\, Wrecsam\, LL13 8BB
CATEGORIES:Digwyddiadau
ATTACH;FMTTYPE=image/jpeg:https://www.typawb.wales/wp-content/uploads/2025/04/pexels-fotios-photos-2550703-scaled.jpg
END:VEVENT
BEGIN:VEVENT
DTSTART;TZID=Europe/London:20251215T103000
DTEND;TZID=Europe/London:20251215T120000
DTSTAMP:20260420T053834
CREATED:20250904T101540Z
LAST-MODIFIED:20250904T101817Z
UID:10001934-1765794600-1765800000@www.typawb.wales
SUMMARY:Dydd Llun Clwb Cerddoriaeth
DESCRIPTION:Dydd Llun Clwb Cerddoriaeth \nDydd Llun \n10:30 – 12:00 \nYmunwch â’r cerddor Andy Hickie am sesiwn gwneud cerddoriaeth gynhwysol a llawen bob dydd Llun. \nNid oes angen profiad cerddorol blaenorol\, dim ond y parodrwydd i ymuno a rhoi cynnig arni! \nCroeso i bawb. Cymerwch ran yn y Gymraeg neu’r Saesneg.
URL:https://www.typawb.wales/event/monday-music-club/2025-12-15/?lang=cy
LOCATION:Tŷ Pawb\, Stryd y Farchnad\, Wrecsam\, LL13 8BB
CATEGORIES:Digwyddiadau,Learning
ATTACH;FMTTYPE=image/jpeg:https://www.typawb.wales/wp-content/uploads/2025/09/fm1-scaled.jpg
ORGANIZER;CN="T%C5%B7 Pawb Arts Engagement Team":MAILTO:teampawb@wrexham.gov.uk
END:VEVENT
BEGIN:VEVENT
DTSTART;TZID=Europe/London:20251213T090000
DTEND;TZID=Europe/London:20251213T150000
DTSTAMP:20260420T053834
CREATED:20251211T143625Z
LAST-MODIFIED:20251211T143625Z
UID:10002325-1765616400-1765638000@www.typawb.wales
SUMMARY:Diwrnod Hwyl Nadolig i'r Teulu
DESCRIPTION:Os ydych chi’n chwilio am ychydig oriau Nadoligaidd gyda’r teulu (ac efallai esgus i dicio ychydig o bethau oddi ar y rhestr siopa Nadolig)\, dewch i ymuno â ni am ddiwrnod cymunedol gwych yn Tŷ Pawb! \n✨ Gwneuthurwyr lleol a busnesau bach yn gwerthu anrhegion\n✨ Peintio wynebau a gweithgareddau crefft AM DDIM i blant\n✨ Stondinau gan sefydliadau sy’n cefnogi teuluoedd ledled Wrecsam gyda chyfle i ddarganfod beth sydd ar gael yn lleol\n✨ Perfformiadau gan Gôr Ysgol Bodhyfryd a Chôr Ysgol Gynradd Victoria\n✨ A… ymweliad arbennig iawn gan rywun sy’n caru’r Nadolig yn fawr… 🎅 \nMae’n rhad ac am ddim i fynychu\, yn llawn hwyl Nadoligaidd\, a bydd yr holl arian a godir ar y diwrnod yn cael ei roi i Advance Brighter Futures\, gan ein helpu i gefnogi pobl ledled Wrecsam gyda’u hiechyd meddwl. \nDewch â’r plant\, dewch â’r neiniau a theidiau\, dewch i bori neu arhoswch am y diwrnod cyfan – byddem wrth ein bodd yn eich gweld chi yno! 💛🎄
URL:https://www.typawb.wales/event/diwrnod-hwyl-nadolig-ir-teulu/?lang=cy
LOCATION:Tŷ Pawb\, Stryd y Farchnad\, Wrecsam\, LL13 8BB
CATEGORIES:Digwyddiadau
ATTACH;FMTTYPE=image/png:https://www.typawb.wales/wp-content/uploads/2025/12/Family-fun-day.png
END:VEVENT
END:VCALENDAR