BEGIN:VCALENDAR
VERSION:2.0
PRODID:-//Tŷ Pawb - ECPv6.15.20//NONSGML v1.0//EN
CALSCALE:GREGORIAN
METHOD:PUBLISH
X-WR-CALNAME:Tŷ Pawb
X-ORIGINAL-URL:https://www.typawb.wales/?lang=cy
X-WR-CALDESC:Events for Tŷ Pawb
REFRESH-INTERVAL;VALUE=DURATION:PT1H
X-Robots-Tag:noindex
X-PUBLISHED-TTL:PT1H
BEGIN:VTIMEZONE
TZID:Europe/London
BEGIN:DAYLIGHT
TZOFFSETFROM:+0000
TZOFFSETTO:+0100
TZNAME:BST
DTSTART:20240331T010000
END:DAYLIGHT
BEGIN:STANDARD
TZOFFSETFROM:+0100
TZOFFSETTO:+0000
TZNAME:GMT
DTSTART:20241027T010000
END:STANDARD
BEGIN:DAYLIGHT
TZOFFSETFROM:+0000
TZOFFSETTO:+0100
TZNAME:BST
DTSTART:20250330T010000
END:DAYLIGHT
BEGIN:STANDARD
TZOFFSETFROM:+0100
TZOFFSETTO:+0000
TZNAME:GMT
DTSTART:20251026T010000
END:STANDARD
BEGIN:DAYLIGHT
TZOFFSETFROM:+0000
TZOFFSETTO:+0100
TZNAME:BST
DTSTART:20260329T010000
END:DAYLIGHT
BEGIN:STANDARD
TZOFFSETFROM:+0100
TZOFFSETTO:+0000
TZNAME:GMT
DTSTART:20261025T010000
END:STANDARD
END:VTIMEZONE
BEGIN:VEVENT
DTSTART;TZID=Europe/London:20251213T090000
DTEND;TZID=Europe/London:20251213T150000
DTSTAMP:20260420T093003
CREATED:20251211T143625Z
LAST-MODIFIED:20251211T143625Z
UID:10002325-1765616400-1765638000@www.typawb.wales
SUMMARY:Diwrnod Hwyl Nadolig i'r Teulu
DESCRIPTION:Os ydych chi’n chwilio am ychydig oriau Nadoligaidd gyda’r teulu (ac efallai esgus i dicio ychydig o bethau oddi ar y rhestr siopa Nadolig)\, dewch i ymuno â ni am ddiwrnod cymunedol gwych yn Tŷ Pawb! \n✨ Gwneuthurwyr lleol a busnesau bach yn gwerthu anrhegion\n✨ Peintio wynebau a gweithgareddau crefft AM DDIM i blant\n✨ Stondinau gan sefydliadau sy’n cefnogi teuluoedd ledled Wrecsam gyda chyfle i ddarganfod beth sydd ar gael yn lleol\n✨ Perfformiadau gan Gôr Ysgol Bodhyfryd a Chôr Ysgol Gynradd Victoria\n✨ A… ymweliad arbennig iawn gan rywun sy’n caru’r Nadolig yn fawr… 🎅 \nMae’n rhad ac am ddim i fynychu\, yn llawn hwyl Nadoligaidd\, a bydd yr holl arian a godir ar y diwrnod yn cael ei roi i Advance Brighter Futures\, gan ein helpu i gefnogi pobl ledled Wrecsam gyda’u hiechyd meddwl. \nDewch â’r plant\, dewch â’r neiniau a theidiau\, dewch i bori neu arhoswch am y diwrnod cyfan – byddem wrth ein bodd yn eich gweld chi yno! 💛🎄
URL:https://www.typawb.wales/event/diwrnod-hwyl-nadolig-ir-teulu/?lang=cy
LOCATION:Tŷ Pawb\, Stryd y Farchnad\, Wrecsam\, LL13 8BB
CATEGORIES:Digwyddiadau
ATTACH;FMTTYPE=image/png:https://www.typawb.wales/wp-content/uploads/2025/12/Family-fun-day.png
END:VEVENT
END:VCALENDAR