BEGIN:VCALENDAR
VERSION:2.0
PRODID:-//Tŷ Pawb - ECPv6.15.20//NONSGML v1.0//EN
CALSCALE:GREGORIAN
METHOD:PUBLISH
X-WR-CALNAME:Tŷ Pawb
X-ORIGINAL-URL:https://www.typawb.wales/?lang=cy
X-WR-CALDESC:Events for Tŷ Pawb
REFRESH-INTERVAL;VALUE=DURATION:PT1H
X-Robots-Tag:noindex
X-PUBLISHED-TTL:PT1H
BEGIN:VTIMEZONE
TZID:Europe/London
BEGIN:DAYLIGHT
TZOFFSETFROM:+0000
TZOFFSETTO:+0100
TZNAME:BST
DTSTART:20250330T010000
END:DAYLIGHT
BEGIN:STANDARD
TZOFFSETFROM:+0100
TZOFFSETTO:+0000
TZNAME:GMT
DTSTART:20251026T010000
END:STANDARD
BEGIN:DAYLIGHT
TZOFFSETFROM:+0000
TZOFFSETTO:+0100
TZNAME:BST
DTSTART:20260329T010000
END:DAYLIGHT
BEGIN:STANDARD
TZOFFSETFROM:+0100
TZOFFSETTO:+0000
TZNAME:GMT
DTSTART:20261025T010000
END:STANDARD
BEGIN:DAYLIGHT
TZOFFSETFROM:+0000
TZOFFSETTO:+0100
TZNAME:BST
DTSTART:20270328T010000
END:DAYLIGHT
BEGIN:STANDARD
TZOFFSETFROM:+0100
TZOFFSETTO:+0000
TZNAME:GMT
DTSTART:20271031T010000
END:STANDARD
END:VTIMEZONE
BEGIN:VEVENT
DTSTART;TZID=Europe/London:20260105T103000
DTEND;TZID=Europe/London:20260105T120000
DTSTAMP:20260421T033336
CREATED:20250904T101540Z
LAST-MODIFIED:20250904T101817Z
UID:10001937-1767609000-1767614400@www.typawb.wales
SUMMARY:Dydd Llun Clwb Cerddoriaeth
DESCRIPTION:Dydd Llun Clwb Cerddoriaeth \nDydd Llun \n10:30 – 12:00 \nYmunwch â’r cerddor Andy Hickie am sesiwn gwneud cerddoriaeth gynhwysol a llawen bob dydd Llun. \nNid oes angen profiad cerddorol blaenorol\, dim ond y parodrwydd i ymuno a rhoi cynnig arni! \nCroeso i bawb. Cymerwch ran yn y Gymraeg neu’r Saesneg.
URL:https://www.typawb.wales/event/monday-music-club/2026-01-05/?lang=cy
LOCATION:Tŷ Pawb\, Stryd y Farchnad\, Wrecsam\, LL13 8BB
CATEGORIES:Digwyddiadau,Learning
ATTACH;FMTTYPE=image/jpeg:https://www.typawb.wales/wp-content/uploads/2025/09/fm1-scaled.jpg
ORGANIZER;CN="T%C5%B7 Pawb Arts Engagement Team":MAILTO:teampawb@wrexham.gov.uk
END:VEVENT
BEGIN:VEVENT
DTSTART;TZID=Europe/London:20260107T100000
DTEND;TZID=Europe/London:20260107T120000
DTSTAMP:20260421T033336
CREATED:20250218T174741Z
LAST-MODIFIED:20250219T101851Z
UID:10000161-1767780000-1767787200@www.typawb.wales
SUMMARY:Gwirfoddoli yn ein Gardd To
DESCRIPTION:Gwirfoddoli yn ein Gardd To\nDydd mercher10am i 12pmO 5 Mawrth 2025 ymlaen\nAddas ar gyfer oedolion 19+ oedMynediad i gadeiriau olwynCroeso i bob lefel o brofiad\nAm fwy o wybodaeth cysylltwch â ni drwy teampawb@wrexham.gov.uk neu 01978 292150Gyda chefnogaeth Partneriaeth Bwyd Wrecsam
URL:https://www.typawb.wales/event/gwirfoddoli-yn-ein-gardd-to/2026-01-07/?lang=cy
LOCATION:Tŷ Pawb\, Stryd y Farchnad\, Wrecsam\, LL13 8BB
CATEGORIES:Learning,Teuluoedd
ATTACH;FMTTYPE=image/jpeg:https://www.typawb.wales/wp-content/uploads/2025/02/apple-tree-scaled.jpg
ORGANIZER;CN="T%C5%B7 Pawb Arts Engagement Team":MAILTO:teampawb@wrexham.gov.uk
END:VEVENT
BEGIN:VEVENT
DTSTART;TZID=Europe/London:20260112T103000
DTEND;TZID=Europe/London:20260112T120000
DTSTAMP:20260421T033337
CREATED:20250904T101540Z
LAST-MODIFIED:20250904T101817Z
UID:10001938-1768213800-1768219200@www.typawb.wales
SUMMARY:Dydd Llun Clwb Cerddoriaeth
DESCRIPTION:Dydd Llun Clwb Cerddoriaeth \nDydd Llun \n10:30 – 12:00 \nYmunwch â’r cerddor Andy Hickie am sesiwn gwneud cerddoriaeth gynhwysol a llawen bob dydd Llun. \nNid oes angen profiad cerddorol blaenorol\, dim ond y parodrwydd i ymuno a rhoi cynnig arni! \nCroeso i bawb. Cymerwch ran yn y Gymraeg neu’r Saesneg.
URL:https://www.typawb.wales/event/monday-music-club/2026-01-12/?lang=cy
LOCATION:Tŷ Pawb\, Stryd y Farchnad\, Wrecsam\, LL13 8BB
CATEGORIES:Digwyddiadau,Learning
ATTACH;FMTTYPE=image/jpeg:https://www.typawb.wales/wp-content/uploads/2025/09/fm1-scaled.jpg
ORGANIZER;CN="T%C5%B7 Pawb Arts Engagement Team":MAILTO:teampawb@wrexham.gov.uk
END:VEVENT
BEGIN:VEVENT
DTSTART;TZID=Europe/London:20260114T100000
DTEND;TZID=Europe/London:20260114T120000
DTSTAMP:20260421T033337
CREATED:20250218T174741Z
LAST-MODIFIED:20250219T101851Z
UID:10000162-1768384800-1768392000@www.typawb.wales
SUMMARY:Gwirfoddoli yn ein Gardd To
DESCRIPTION:Gwirfoddoli yn ein Gardd To\nDydd mercher10am i 12pmO 5 Mawrth 2025 ymlaen\nAddas ar gyfer oedolion 19+ oedMynediad i gadeiriau olwynCroeso i bob lefel o brofiad\nAm fwy o wybodaeth cysylltwch â ni drwy teampawb@wrexham.gov.uk neu 01978 292150Gyda chefnogaeth Partneriaeth Bwyd Wrecsam
URL:https://www.typawb.wales/event/gwirfoddoli-yn-ein-gardd-to/2026-01-14/?lang=cy
LOCATION:Tŷ Pawb\, Stryd y Farchnad\, Wrecsam\, LL13 8BB
CATEGORIES:Learning,Teuluoedd
ATTACH;FMTTYPE=image/jpeg:https://www.typawb.wales/wp-content/uploads/2025/02/apple-tree-scaled.jpg
ORGANIZER;CN="T%C5%B7 Pawb Arts Engagement Team":MAILTO:teampawb@wrexham.gov.uk
END:VEVENT
BEGIN:VEVENT
DTSTART;TZID=Europe/London:20260119T103000
DTEND;TZID=Europe/London:20260119T120000
DTSTAMP:20260421T033337
CREATED:20250904T101540Z
LAST-MODIFIED:20250904T101817Z
UID:10001939-1768818600-1768824000@www.typawb.wales
SUMMARY:Dydd Llun Clwb Cerddoriaeth
DESCRIPTION:Dydd Llun Clwb Cerddoriaeth \nDydd Llun \n10:30 – 12:00 \nYmunwch â’r cerddor Andy Hickie am sesiwn gwneud cerddoriaeth gynhwysol a llawen bob dydd Llun. \nNid oes angen profiad cerddorol blaenorol\, dim ond y parodrwydd i ymuno a rhoi cynnig arni! \nCroeso i bawb. Cymerwch ran yn y Gymraeg neu’r Saesneg.
URL:https://www.typawb.wales/event/monday-music-club/2026-01-19/?lang=cy
LOCATION:Tŷ Pawb\, Stryd y Farchnad\, Wrecsam\, LL13 8BB
CATEGORIES:Digwyddiadau,Learning
ATTACH;FMTTYPE=image/jpeg:https://www.typawb.wales/wp-content/uploads/2025/09/fm1-scaled.jpg
ORGANIZER;CN="T%C5%B7 Pawb Arts Engagement Team":MAILTO:teampawb@wrexham.gov.uk
END:VEVENT
BEGIN:VEVENT
DTSTART;TZID=Europe/London:20260121T100000
DTEND;TZID=Europe/London:20260121T120000
DTSTAMP:20260421T033337
CREATED:20250218T174741Z
LAST-MODIFIED:20250219T101851Z
UID:10000163-1768989600-1768996800@www.typawb.wales
SUMMARY:Gwirfoddoli yn ein Gardd To
DESCRIPTION:Gwirfoddoli yn ein Gardd To\nDydd mercher10am i 12pmO 5 Mawrth 2025 ymlaen\nAddas ar gyfer oedolion 19+ oedMynediad i gadeiriau olwynCroeso i bob lefel o brofiad\nAm fwy o wybodaeth cysylltwch â ni drwy teampawb@wrexham.gov.uk neu 01978 292150Gyda chefnogaeth Partneriaeth Bwyd Wrecsam
URL:https://www.typawb.wales/event/gwirfoddoli-yn-ein-gardd-to/2026-01-21/?lang=cy
LOCATION:Tŷ Pawb\, Stryd y Farchnad\, Wrecsam\, LL13 8BB
CATEGORIES:Learning,Teuluoedd
ATTACH;FMTTYPE=image/jpeg:https://www.typawb.wales/wp-content/uploads/2025/02/apple-tree-scaled.jpg
ORGANIZER;CN="T%C5%B7 Pawb Arts Engagement Team":MAILTO:teampawb@wrexham.gov.uk
END:VEVENT
BEGIN:VEVENT
DTSTART;TZID=Europe/London:20260126T103000
DTEND;TZID=Europe/London:20260126T120000
DTSTAMP:20260421T033337
CREATED:20250904T101540Z
LAST-MODIFIED:20250904T101817Z
UID:10001940-1769423400-1769428800@www.typawb.wales
SUMMARY:Dydd Llun Clwb Cerddoriaeth
DESCRIPTION:Dydd Llun Clwb Cerddoriaeth \nDydd Llun \n10:30 – 12:00 \nYmunwch â’r cerddor Andy Hickie am sesiwn gwneud cerddoriaeth gynhwysol a llawen bob dydd Llun. \nNid oes angen profiad cerddorol blaenorol\, dim ond y parodrwydd i ymuno a rhoi cynnig arni! \nCroeso i bawb. Cymerwch ran yn y Gymraeg neu’r Saesneg.
URL:https://www.typawb.wales/event/monday-music-club/2026-01-26/?lang=cy
LOCATION:Tŷ Pawb\, Stryd y Farchnad\, Wrecsam\, LL13 8BB
CATEGORIES:Digwyddiadau,Learning
ATTACH;FMTTYPE=image/jpeg:https://www.typawb.wales/wp-content/uploads/2025/09/fm1-scaled.jpg
ORGANIZER;CN="T%C5%B7 Pawb Arts Engagement Team":MAILTO:teampawb@wrexham.gov.uk
END:VEVENT
BEGIN:VEVENT
DTSTART;TZID=Europe/London:20260128T100000
DTEND;TZID=Europe/London:20260128T120000
DTSTAMP:20260421T033337
CREATED:20250218T174741Z
LAST-MODIFIED:20250219T101851Z
UID:10000164-1769594400-1769601600@www.typawb.wales
SUMMARY:Gwirfoddoli yn ein Gardd To
DESCRIPTION:Gwirfoddoli yn ein Gardd To\nDydd mercher10am i 12pmO 5 Mawrth 2025 ymlaen\nAddas ar gyfer oedolion 19+ oedMynediad i gadeiriau olwynCroeso i bob lefel o brofiad\nAm fwy o wybodaeth cysylltwch â ni drwy teampawb@wrexham.gov.uk neu 01978 292150Gyda chefnogaeth Partneriaeth Bwyd Wrecsam
URL:https://www.typawb.wales/event/gwirfoddoli-yn-ein-gardd-to/2026-01-28/?lang=cy
LOCATION:Tŷ Pawb\, Stryd y Farchnad\, Wrecsam\, LL13 8BB
CATEGORIES:Learning,Teuluoedd
ATTACH;FMTTYPE=image/jpeg:https://www.typawb.wales/wp-content/uploads/2025/02/apple-tree-scaled.jpg
ORGANIZER;CN="T%C5%B7 Pawb Arts Engagement Team":MAILTO:teampawb@wrexham.gov.uk
END:VEVENT
END:VCALENDAR