BEGIN:VCALENDAR
VERSION:2.0
PRODID:-//Tŷ Pawb - ECPv6.15.20//NONSGML v1.0//EN
CALSCALE:GREGORIAN
METHOD:PUBLISH
X-ORIGINAL-URL:https://www.typawb.wales/?lang=cy
X-WR-CALDESC:Events for Tŷ Pawb
REFRESH-INTERVAL;VALUE=DURATION:PT1H
X-Robots-Tag:noindex
X-PUBLISHED-TTL:PT1H
BEGIN:VTIMEZONE
TZID:Europe/London
BEGIN:DAYLIGHT
TZOFFSETFROM:+0000
TZOFFSETTO:+0100
TZNAME:BST
DTSTART:20250330T010000
END:DAYLIGHT
BEGIN:STANDARD
TZOFFSETFROM:+0100
TZOFFSETTO:+0000
TZNAME:GMT
DTSTART:20251026T010000
END:STANDARD
BEGIN:DAYLIGHT
TZOFFSETFROM:+0000
TZOFFSETTO:+0100
TZNAME:BST
DTSTART:20260329T010000
END:DAYLIGHT
BEGIN:STANDARD
TZOFFSETFROM:+0100
TZOFFSETTO:+0000
TZNAME:GMT
DTSTART:20261025T010000
END:STANDARD
BEGIN:DAYLIGHT
TZOFFSETFROM:+0000
TZOFFSETTO:+0100
TZNAME:BST
DTSTART:20270328T010000
END:DAYLIGHT
BEGIN:STANDARD
TZOFFSETFROM:+0100
TZOFFSETTO:+0000
TZNAME:GMT
DTSTART:20271031T010000
END:STANDARD
END:VTIMEZONE
BEGIN:VEVENT
DTSTART;TZID=Europe/London:20260423T160000
DTEND;TZID=Europe/London:20260423T173000
DTSTAMP:20260420T084154
CREATED:20250903T112114Z
LAST-MODIFIED:20260408T153352Z
UID:10001434-1776960000-1776965400@www.typawb.wales
SUMMARY:Sesiynau Chwarae Am Ddim!
DESCRIPTION:Sesiynau Chwarae Am Ddim!Amser Tymor Dydd Iau16:00 – 17:30Am ddim!\nDim angen archebu\, dim ond galw heibio.Rhaid i blant dan 5 oed fod yng nghwmni oedolyn.Dan arweiniad plentyn\, egnïol\, creadigol\, hwyl!
URL:https://www.typawb.wales/event/sesiynau-chwaraw-am-ddim/2026-04-23/?lang=cy
LOCATION:Tŷ Pawb\, Stryd y Farchnad\, Wrecsam\, LL13 8BB
CATEGORIES:Learning,Teuluoedd
ATTACH;FMTTYPE=image/jpeg:https://www.typawb.wales/wp-content/uploads/2025/02/PlaySessionDisplay.jpg
END:VEVENT
BEGIN:VEVENT
DTSTART;TZID=Europe/London:20260430T160000
DTEND;TZID=Europe/London:20260430T173000
DTSTAMP:20260420T084154
CREATED:20250903T112114Z
LAST-MODIFIED:20260408T153352Z
UID:10001435-1777564800-1777570200@www.typawb.wales
SUMMARY:Sesiynau Chwarae Am Ddim!
DESCRIPTION:Sesiynau Chwarae Am Ddim!Amser Tymor Dydd Iau16:00 – 17:30Am ddim!\nDim angen archebu\, dim ond galw heibio.Rhaid i blant dan 5 oed fod yng nghwmni oedolyn.Dan arweiniad plentyn\, egnïol\, creadigol\, hwyl!
URL:https://www.typawb.wales/event/sesiynau-chwaraw-am-ddim/2026-04-30/?lang=cy
LOCATION:Tŷ Pawb\, Stryd y Farchnad\, Wrecsam\, LL13 8BB
CATEGORIES:Learning,Teuluoedd
ATTACH;FMTTYPE=image/jpeg:https://www.typawb.wales/wp-content/uploads/2025/02/PlaySessionDisplay.jpg
END:VEVENT
BEGIN:VEVENT
DTSTART;TZID=Europe/London:20260507T160000
DTEND;TZID=Europe/London:20260507T173000
DTSTAMP:20260420T084154
CREATED:20250903T112114Z
LAST-MODIFIED:20260408T153352Z
UID:10001436-1778169600-1778175000@www.typawb.wales
SUMMARY:Sesiynau Chwarae Am Ddim!
DESCRIPTION:Sesiynau Chwarae Am Ddim!Amser Tymor Dydd Iau16:00 – 17:30Am ddim!\nDim angen archebu\, dim ond galw heibio.Rhaid i blant dan 5 oed fod yng nghwmni oedolyn.Dan arweiniad plentyn\, egnïol\, creadigol\, hwyl!
URL:https://www.typawb.wales/event/sesiynau-chwaraw-am-ddim/2026-05-07/?lang=cy
LOCATION:Tŷ Pawb\, Stryd y Farchnad\, Wrecsam\, LL13 8BB
CATEGORIES:Learning,Teuluoedd
ATTACH;FMTTYPE=image/jpeg:https://www.typawb.wales/wp-content/uploads/2025/02/PlaySessionDisplay.jpg
END:VEVENT
BEGIN:VEVENT
DTSTART;TZID=Europe/London:20260514T160000
DTEND;TZID=Europe/London:20260514T173000
DTSTAMP:20260420T084154
CREATED:20250903T112114Z
LAST-MODIFIED:20260408T153352Z
UID:10001437-1778774400-1778779800@www.typawb.wales
SUMMARY:Sesiynau Chwarae Am Ddim!
DESCRIPTION:Sesiynau Chwarae Am Ddim!Amser Tymor Dydd Iau16:00 – 17:30Am ddim!\nDim angen archebu\, dim ond galw heibio.Rhaid i blant dan 5 oed fod yng nghwmni oedolyn.Dan arweiniad plentyn\, egnïol\, creadigol\, hwyl!
URL:https://www.typawb.wales/event/sesiynau-chwaraw-am-ddim/2026-05-14/?lang=cy
LOCATION:Tŷ Pawb\, Stryd y Farchnad\, Wrecsam\, LL13 8BB
CATEGORIES:Learning,Teuluoedd
ATTACH;FMTTYPE=image/jpeg:https://www.typawb.wales/wp-content/uploads/2025/02/PlaySessionDisplay.jpg
END:VEVENT
BEGIN:VEVENT
DTSTART;TZID=Europe/London:20260521T160000
DTEND;TZID=Europe/London:20260521T173000
DTSTAMP:20260420T084154
CREATED:20250903T112114Z
LAST-MODIFIED:20260408T153352Z
UID:10001438-1779379200-1779384600@www.typawb.wales
SUMMARY:Sesiynau Chwarae Am Ddim!
DESCRIPTION:Sesiynau Chwarae Am Ddim!Amser Tymor Dydd Iau16:00 – 17:30Am ddim!\nDim angen archebu\, dim ond galw heibio.Rhaid i blant dan 5 oed fod yng nghwmni oedolyn.Dan arweiniad plentyn\, egnïol\, creadigol\, hwyl!
URL:https://www.typawb.wales/event/sesiynau-chwaraw-am-ddim/2026-05-21/?lang=cy
LOCATION:Tŷ Pawb\, Stryd y Farchnad\, Wrecsam\, LL13 8BB
CATEGORIES:Learning,Teuluoedd
ATTACH;FMTTYPE=image/jpeg:https://www.typawb.wales/wp-content/uploads/2025/02/PlaySessionDisplay.jpg
END:VEVENT
BEGIN:VEVENT
DTSTART;TZID=Europe/London:20260604T160000
DTEND;TZID=Europe/London:20260604T173000
DTSTAMP:20260420T084154
CREATED:20250903T112114Z
LAST-MODIFIED:20260408T153352Z
UID:10001440-1780588800-1780594200@www.typawb.wales
SUMMARY:Sesiynau Chwarae Am Ddim!
DESCRIPTION:Sesiynau Chwarae Am Ddim!Amser Tymor Dydd Iau16:00 – 17:30Am ddim!\nDim angen archebu\, dim ond galw heibio.Rhaid i blant dan 5 oed fod yng nghwmni oedolyn.Dan arweiniad plentyn\, egnïol\, creadigol\, hwyl!
URL:https://www.typawb.wales/event/sesiynau-chwaraw-am-ddim/2026-06-04/?lang=cy
LOCATION:Tŷ Pawb\, Stryd y Farchnad\, Wrecsam\, LL13 8BB
CATEGORIES:Learning,Teuluoedd
ATTACH;FMTTYPE=image/jpeg:https://www.typawb.wales/wp-content/uploads/2025/02/PlaySessionDisplay.jpg
END:VEVENT
BEGIN:VEVENT
DTSTART;TZID=Europe/London:20260611T160000
DTEND;TZID=Europe/London:20260611T173000
DTSTAMP:20260420T084154
CREATED:20250903T112114Z
LAST-MODIFIED:20260408T153352Z
UID:10001441-1781193600-1781199000@www.typawb.wales
SUMMARY:Sesiynau Chwarae Am Ddim!
DESCRIPTION:Sesiynau Chwarae Am Ddim!Amser Tymor Dydd Iau16:00 – 17:30Am ddim!\nDim angen archebu\, dim ond galw heibio.Rhaid i blant dan 5 oed fod yng nghwmni oedolyn.Dan arweiniad plentyn\, egnïol\, creadigol\, hwyl!
URL:https://www.typawb.wales/event/sesiynau-chwaraw-am-ddim/2026-06-11/?lang=cy
LOCATION:Tŷ Pawb\, Stryd y Farchnad\, Wrecsam\, LL13 8BB
CATEGORIES:Learning,Teuluoedd
ATTACH;FMTTYPE=image/jpeg:https://www.typawb.wales/wp-content/uploads/2025/02/PlaySessionDisplay.jpg
END:VEVENT
BEGIN:VEVENT
DTSTART;TZID=Europe/London:20260618T160000
DTEND;TZID=Europe/London:20260618T173000
DTSTAMP:20260420T084154
CREATED:20250903T112114Z
LAST-MODIFIED:20260408T153352Z
UID:10001442-1781798400-1781803800@www.typawb.wales
SUMMARY:Sesiynau Chwarae Am Ddim!
DESCRIPTION:Sesiynau Chwarae Am Ddim!Amser Tymor Dydd Iau16:00 – 17:30Am ddim!\nDim angen archebu\, dim ond galw heibio.Rhaid i blant dan 5 oed fod yng nghwmni oedolyn.Dan arweiniad plentyn\, egnïol\, creadigol\, hwyl!
URL:https://www.typawb.wales/event/sesiynau-chwaraw-am-ddim/2026-06-18/?lang=cy
LOCATION:Tŷ Pawb\, Stryd y Farchnad\, Wrecsam\, LL13 8BB
CATEGORIES:Learning,Teuluoedd
ATTACH;FMTTYPE=image/jpeg:https://www.typawb.wales/wp-content/uploads/2025/02/PlaySessionDisplay.jpg
END:VEVENT
BEGIN:VEVENT
DTSTART;TZID=Europe/London:20260625T160000
DTEND;TZID=Europe/London:20260625T173000
DTSTAMP:20260420T084154
CREATED:20250903T112114Z
LAST-MODIFIED:20260408T153352Z
UID:10001443-1782403200-1782408600@www.typawb.wales
SUMMARY:Sesiynau Chwarae Am Ddim!
DESCRIPTION:Sesiynau Chwarae Am Ddim!Amser Tymor Dydd Iau16:00 – 17:30Am ddim!\nDim angen archebu\, dim ond galw heibio.Rhaid i blant dan 5 oed fod yng nghwmni oedolyn.Dan arweiniad plentyn\, egnïol\, creadigol\, hwyl!
URL:https://www.typawb.wales/event/sesiynau-chwaraw-am-ddim/2026-06-25/?lang=cy
LOCATION:Tŷ Pawb\, Stryd y Farchnad\, Wrecsam\, LL13 8BB
CATEGORIES:Learning,Teuluoedd
ATTACH;FMTTYPE=image/jpeg:https://www.typawb.wales/wp-content/uploads/2025/02/PlaySessionDisplay.jpg
END:VEVENT
BEGIN:VEVENT
DTSTART;TZID=Europe/London:20260702T160000
DTEND;TZID=Europe/London:20260702T173000
DTSTAMP:20260420T084154
CREATED:20250903T112114Z
LAST-MODIFIED:20260408T153352Z
UID:10001444-1783008000-1783013400@www.typawb.wales
SUMMARY:Sesiynau Chwarae Am Ddim!
DESCRIPTION:Sesiynau Chwarae Am Ddim!Amser Tymor Dydd Iau16:00 – 17:30Am ddim!\nDim angen archebu\, dim ond galw heibio.Rhaid i blant dan 5 oed fod yng nghwmni oedolyn.Dan arweiniad plentyn\, egnïol\, creadigol\, hwyl!
URL:https://www.typawb.wales/event/sesiynau-chwaraw-am-ddim/2026-07-02/?lang=cy
LOCATION:Tŷ Pawb\, Stryd y Farchnad\, Wrecsam\, LL13 8BB
CATEGORIES:Learning,Teuluoedd
ATTACH;FMTTYPE=image/jpeg:https://www.typawb.wales/wp-content/uploads/2025/02/PlaySessionDisplay.jpg
END:VEVENT
BEGIN:VEVENT
DTSTART;TZID=Europe/London:20260709T160000
DTEND;TZID=Europe/London:20260709T173000
DTSTAMP:20260420T084154
CREATED:20250903T112114Z
LAST-MODIFIED:20260408T153352Z
UID:10001445-1783612800-1783618200@www.typawb.wales
SUMMARY:Sesiynau Chwarae Am Ddim!
DESCRIPTION:Sesiynau Chwarae Am Ddim!Amser Tymor Dydd Iau16:00 – 17:30Am ddim!\nDim angen archebu\, dim ond galw heibio.Rhaid i blant dan 5 oed fod yng nghwmni oedolyn.Dan arweiniad plentyn\, egnïol\, creadigol\, hwyl!
URL:https://www.typawb.wales/event/sesiynau-chwaraw-am-ddim/2026-07-09/?lang=cy
LOCATION:Tŷ Pawb\, Stryd y Farchnad\, Wrecsam\, LL13 8BB
CATEGORIES:Learning,Teuluoedd
ATTACH;FMTTYPE=image/jpeg:https://www.typawb.wales/wp-content/uploads/2025/02/PlaySessionDisplay.jpg
END:VEVENT
BEGIN:VEVENT
DTSTART;TZID=Europe/London:20260716T160000
DTEND;TZID=Europe/London:20260716T173000
DTSTAMP:20260420T084154
CREATED:20250903T112114Z
LAST-MODIFIED:20260408T153352Z
UID:10001446-1784217600-1784223000@www.typawb.wales
SUMMARY:Sesiynau Chwarae Am Ddim!
DESCRIPTION:Sesiynau Chwarae Am Ddim!Amser Tymor Dydd Iau16:00 – 17:30Am ddim!\nDim angen archebu\, dim ond galw heibio.Rhaid i blant dan 5 oed fod yng nghwmni oedolyn.Dan arweiniad plentyn\, egnïol\, creadigol\, hwyl!
URL:https://www.typawb.wales/event/sesiynau-chwaraw-am-ddim/2026-07-16/?lang=cy
LOCATION:Tŷ Pawb\, Stryd y Farchnad\, Wrecsam\, LL13 8BB
CATEGORIES:Learning,Teuluoedd
ATTACH;FMTTYPE=image/jpeg:https://www.typawb.wales/wp-content/uploads/2025/02/PlaySessionDisplay.jpg
END:VEVENT
BEGIN:VEVENT
DTSTART;TZID=Europe/London:20260723T160000
DTEND;TZID=Europe/London:20260723T173000
DTSTAMP:20260420T084154
CREATED:20250903T112114Z
LAST-MODIFIED:20260408T153352Z
UID:10001447-1784822400-1784827800@www.typawb.wales
SUMMARY:Sesiynau Chwarae Am Ddim!
DESCRIPTION:Sesiynau Chwarae Am Ddim!Amser Tymor Dydd Iau16:00 – 17:30Am ddim!\nDim angen archebu\, dim ond galw heibio.Rhaid i blant dan 5 oed fod yng nghwmni oedolyn.Dan arweiniad plentyn\, egnïol\, creadigol\, hwyl!
URL:https://www.typawb.wales/event/sesiynau-chwaraw-am-ddim/2026-07-23/?lang=cy
LOCATION:Tŷ Pawb\, Stryd y Farchnad\, Wrecsam\, LL13 8BB
CATEGORIES:Learning,Teuluoedd
ATTACH;FMTTYPE=image/jpeg:https://www.typawb.wales/wp-content/uploads/2025/02/PlaySessionDisplay.jpg
END:VEVENT
BEGIN:VEVENT
DTSTART;TZID=Europe/London:20260730T160000
DTEND;TZID=Europe/London:20260730T173000
DTSTAMP:20260420T084154
CREATED:20250903T112114Z
LAST-MODIFIED:20260408T153352Z
UID:10001448-1785427200-1785432600@www.typawb.wales
SUMMARY:Sesiynau Chwarae Am Ddim!
DESCRIPTION:Sesiynau Chwarae Am Ddim!Amser Tymor Dydd Iau16:00 – 17:30Am ddim!\nDim angen archebu\, dim ond galw heibio.Rhaid i blant dan 5 oed fod yng nghwmni oedolyn.Dan arweiniad plentyn\, egnïol\, creadigol\, hwyl!
URL:https://www.typawb.wales/event/sesiynau-chwaraw-am-ddim/2026-07-30/?lang=cy
LOCATION:Tŷ Pawb\, Stryd y Farchnad\, Wrecsam\, LL13 8BB
CATEGORIES:Learning,Teuluoedd
ATTACH;FMTTYPE=image/jpeg:https://www.typawb.wales/wp-content/uploads/2025/02/PlaySessionDisplay.jpg
END:VEVENT
BEGIN:VEVENT
DTSTART;TZID=Europe/London:20260806T160000
DTEND;TZID=Europe/London:20260806T173000
DTSTAMP:20260420T084154
CREATED:20250903T112114Z
LAST-MODIFIED:20260408T153352Z
UID:10001449-1786032000-1786037400@www.typawb.wales
SUMMARY:Sesiynau Chwarae Am Ddim!
DESCRIPTION:Sesiynau Chwarae Am Ddim!Amser Tymor Dydd Iau16:00 – 17:30Am ddim!\nDim angen archebu\, dim ond galw heibio.Rhaid i blant dan 5 oed fod yng nghwmni oedolyn.Dan arweiniad plentyn\, egnïol\, creadigol\, hwyl!
URL:https://www.typawb.wales/event/sesiynau-chwaraw-am-ddim/2026-08-06/?lang=cy
LOCATION:Tŷ Pawb\, Stryd y Farchnad\, Wrecsam\, LL13 8BB
CATEGORIES:Learning,Teuluoedd
ATTACH;FMTTYPE=image/jpeg:https://www.typawb.wales/wp-content/uploads/2025/02/PlaySessionDisplay.jpg
END:VEVENT
BEGIN:VEVENT
DTSTART;TZID=Europe/London:20260813T160000
DTEND;TZID=Europe/London:20260813T173000
DTSTAMP:20260420T084154
CREATED:20250903T112114Z
LAST-MODIFIED:20260408T153352Z
UID:10001450-1786636800-1786642200@www.typawb.wales
SUMMARY:Sesiynau Chwarae Am Ddim!
DESCRIPTION:Sesiynau Chwarae Am Ddim!Amser Tymor Dydd Iau16:00 – 17:30Am ddim!\nDim angen archebu\, dim ond galw heibio.Rhaid i blant dan 5 oed fod yng nghwmni oedolyn.Dan arweiniad plentyn\, egnïol\, creadigol\, hwyl!
URL:https://www.typawb.wales/event/sesiynau-chwaraw-am-ddim/2026-08-13/?lang=cy
LOCATION:Tŷ Pawb\, Stryd y Farchnad\, Wrecsam\, LL13 8BB
CATEGORIES:Learning,Teuluoedd
ATTACH;FMTTYPE=image/jpeg:https://www.typawb.wales/wp-content/uploads/2025/02/PlaySessionDisplay.jpg
END:VEVENT
BEGIN:VEVENT
DTSTART;TZID=Europe/London:20260820T160000
DTEND;TZID=Europe/London:20260820T173000
DTSTAMP:20260420T084154
CREATED:20250903T112114Z
LAST-MODIFIED:20260408T153352Z
UID:10001451-1787241600-1787247000@www.typawb.wales
SUMMARY:Sesiynau Chwarae Am Ddim!
DESCRIPTION:Sesiynau Chwarae Am Ddim!Amser Tymor Dydd Iau16:00 – 17:30Am ddim!\nDim angen archebu\, dim ond galw heibio.Rhaid i blant dan 5 oed fod yng nghwmni oedolyn.Dan arweiniad plentyn\, egnïol\, creadigol\, hwyl!
URL:https://www.typawb.wales/event/sesiynau-chwaraw-am-ddim/2026-08-20/?lang=cy
LOCATION:Tŷ Pawb\, Stryd y Farchnad\, Wrecsam\, LL13 8BB
CATEGORIES:Learning,Teuluoedd
ATTACH;FMTTYPE=image/jpeg:https://www.typawb.wales/wp-content/uploads/2025/02/PlaySessionDisplay.jpg
END:VEVENT
BEGIN:VEVENT
DTSTART;TZID=Europe/London:20260827T160000
DTEND;TZID=Europe/London:20260827T173000
DTSTAMP:20260420T084154
CREATED:20250903T112114Z
LAST-MODIFIED:20260408T153352Z
UID:10001452-1787846400-1787851800@www.typawb.wales
SUMMARY:Sesiynau Chwarae Am Ddim!
DESCRIPTION:Sesiynau Chwarae Am Ddim!Amser Tymor Dydd Iau16:00 – 17:30Am ddim!\nDim angen archebu\, dim ond galw heibio.Rhaid i blant dan 5 oed fod yng nghwmni oedolyn.Dan arweiniad plentyn\, egnïol\, creadigol\, hwyl!
URL:https://www.typawb.wales/event/sesiynau-chwaraw-am-ddim/2026-08-27/?lang=cy
LOCATION:Tŷ Pawb\, Stryd y Farchnad\, Wrecsam\, LL13 8BB
CATEGORIES:Learning,Teuluoedd
ATTACH;FMTTYPE=image/jpeg:https://www.typawb.wales/wp-content/uploads/2025/02/PlaySessionDisplay.jpg
END:VEVENT
BEGIN:VEVENT
DTSTART;TZID=Europe/London:20260903T160000
DTEND;TZID=Europe/London:20260903T173000
DTSTAMP:20260420T084154
CREATED:20250903T112114Z
LAST-MODIFIED:20260408T153352Z
UID:10001453-1788451200-1788456600@www.typawb.wales
SUMMARY:Sesiynau Chwarae Am Ddim!
DESCRIPTION:Sesiynau Chwarae Am Ddim!Amser Tymor Dydd Iau16:00 – 17:30Am ddim!\nDim angen archebu\, dim ond galw heibio.Rhaid i blant dan 5 oed fod yng nghwmni oedolyn.Dan arweiniad plentyn\, egnïol\, creadigol\, hwyl!
URL:https://www.typawb.wales/event/sesiynau-chwaraw-am-ddim/2026-09-03/?lang=cy
LOCATION:Tŷ Pawb\, Stryd y Farchnad\, Wrecsam\, LL13 8BB
CATEGORIES:Learning,Teuluoedd
ATTACH;FMTTYPE=image/jpeg:https://www.typawb.wales/wp-content/uploads/2025/02/PlaySessionDisplay.jpg
END:VEVENT
BEGIN:VEVENT
DTSTART;TZID=Europe/London:20260910T160000
DTEND;TZID=Europe/London:20260910T173000
DTSTAMP:20260420T084154
CREATED:20250903T112114Z
LAST-MODIFIED:20260408T153352Z
UID:10001454-1789056000-1789061400@www.typawb.wales
SUMMARY:Sesiynau Chwarae Am Ddim!
DESCRIPTION:Sesiynau Chwarae Am Ddim!Amser Tymor Dydd Iau16:00 – 17:30Am ddim!\nDim angen archebu\, dim ond galw heibio.Rhaid i blant dan 5 oed fod yng nghwmni oedolyn.Dan arweiniad plentyn\, egnïol\, creadigol\, hwyl!
URL:https://www.typawb.wales/event/sesiynau-chwaraw-am-ddim/2026-09-10/?lang=cy
LOCATION:Tŷ Pawb\, Stryd y Farchnad\, Wrecsam\, LL13 8BB
CATEGORIES:Learning,Teuluoedd
ATTACH;FMTTYPE=image/jpeg:https://www.typawb.wales/wp-content/uploads/2025/02/PlaySessionDisplay.jpg
END:VEVENT
BEGIN:VEVENT
DTSTART;TZID=Europe/London:20260917T160000
DTEND;TZID=Europe/London:20260917T173000
DTSTAMP:20260420T084154
CREATED:20250903T112114Z
LAST-MODIFIED:20260408T153352Z
UID:10001455-1789660800-1789666200@www.typawb.wales
SUMMARY:Sesiynau Chwarae Am Ddim!
DESCRIPTION:Sesiynau Chwarae Am Ddim!Amser Tymor Dydd Iau16:00 – 17:30Am ddim!\nDim angen archebu\, dim ond galw heibio.Rhaid i blant dan 5 oed fod yng nghwmni oedolyn.Dan arweiniad plentyn\, egnïol\, creadigol\, hwyl!
URL:https://www.typawb.wales/event/sesiynau-chwaraw-am-ddim/2026-09-17/?lang=cy
LOCATION:Tŷ Pawb\, Stryd y Farchnad\, Wrecsam\, LL13 8BB
CATEGORIES:Learning,Teuluoedd
ATTACH;FMTTYPE=image/jpeg:https://www.typawb.wales/wp-content/uploads/2025/02/PlaySessionDisplay.jpg
END:VEVENT
BEGIN:VEVENT
DTSTART;TZID=Europe/London:20260924T160000
DTEND;TZID=Europe/London:20260924T173000
DTSTAMP:20260420T084154
CREATED:20250903T112114Z
LAST-MODIFIED:20260408T153352Z
UID:10001456-1790265600-1790271000@www.typawb.wales
SUMMARY:Sesiynau Chwarae Am Ddim!
DESCRIPTION:Sesiynau Chwarae Am Ddim!Amser Tymor Dydd Iau16:00 – 17:30Am ddim!\nDim angen archebu\, dim ond galw heibio.Rhaid i blant dan 5 oed fod yng nghwmni oedolyn.Dan arweiniad plentyn\, egnïol\, creadigol\, hwyl!
URL:https://www.typawb.wales/event/sesiynau-chwaraw-am-ddim/2026-09-24/?lang=cy
LOCATION:Tŷ Pawb\, Stryd y Farchnad\, Wrecsam\, LL13 8BB
CATEGORIES:Learning,Teuluoedd
ATTACH;FMTTYPE=image/jpeg:https://www.typawb.wales/wp-content/uploads/2025/02/PlaySessionDisplay.jpg
END:VEVENT
BEGIN:VEVENT
DTSTART;TZID=Europe/London:20261001T160000
DTEND;TZID=Europe/London:20261001T173000
DTSTAMP:20260420T084154
CREATED:20250903T112114Z
LAST-MODIFIED:20260408T153352Z
UID:10001457-1790870400-1790875800@www.typawb.wales
SUMMARY:Sesiynau Chwarae Am Ddim!
DESCRIPTION:Sesiynau Chwarae Am Ddim!Amser Tymor Dydd Iau16:00 – 17:30Am ddim!\nDim angen archebu\, dim ond galw heibio.Rhaid i blant dan 5 oed fod yng nghwmni oedolyn.Dan arweiniad plentyn\, egnïol\, creadigol\, hwyl!
URL:https://www.typawb.wales/event/sesiynau-chwaraw-am-ddim/2026-10-01/?lang=cy
LOCATION:Tŷ Pawb\, Stryd y Farchnad\, Wrecsam\, LL13 8BB
CATEGORIES:Learning,Teuluoedd
ATTACH;FMTTYPE=image/jpeg:https://www.typawb.wales/wp-content/uploads/2025/02/PlaySessionDisplay.jpg
END:VEVENT
BEGIN:VEVENT
DTSTART;TZID=Europe/London:20261008T160000
DTEND;TZID=Europe/London:20261008T173000
DTSTAMP:20260420T084154
CREATED:20250903T112114Z
LAST-MODIFIED:20260408T153352Z
UID:10001458-1791475200-1791480600@www.typawb.wales
SUMMARY:Sesiynau Chwarae Am Ddim!
DESCRIPTION:Sesiynau Chwarae Am Ddim!Amser Tymor Dydd Iau16:00 – 17:30Am ddim!\nDim angen archebu\, dim ond galw heibio.Rhaid i blant dan 5 oed fod yng nghwmni oedolyn.Dan arweiniad plentyn\, egnïol\, creadigol\, hwyl!
URL:https://www.typawb.wales/event/sesiynau-chwaraw-am-ddim/2026-10-08/?lang=cy
LOCATION:Tŷ Pawb\, Stryd y Farchnad\, Wrecsam\, LL13 8BB
CATEGORIES:Learning,Teuluoedd
ATTACH;FMTTYPE=image/jpeg:https://www.typawb.wales/wp-content/uploads/2025/02/PlaySessionDisplay.jpg
END:VEVENT
BEGIN:VEVENT
DTSTART;TZID=Europe/London:20261015T160000
DTEND;TZID=Europe/London:20261015T173000
DTSTAMP:20260420T084154
CREATED:20250903T112114Z
LAST-MODIFIED:20260408T153352Z
UID:10001459-1792080000-1792085400@www.typawb.wales
SUMMARY:Sesiynau Chwarae Am Ddim!
DESCRIPTION:Sesiynau Chwarae Am Ddim!Amser Tymor Dydd Iau16:00 – 17:30Am ddim!\nDim angen archebu\, dim ond galw heibio.Rhaid i blant dan 5 oed fod yng nghwmni oedolyn.Dan arweiniad plentyn\, egnïol\, creadigol\, hwyl!
URL:https://www.typawb.wales/event/sesiynau-chwaraw-am-ddim/2026-10-15/?lang=cy
LOCATION:Tŷ Pawb\, Stryd y Farchnad\, Wrecsam\, LL13 8BB
CATEGORIES:Learning,Teuluoedd
ATTACH;FMTTYPE=image/jpeg:https://www.typawb.wales/wp-content/uploads/2025/02/PlaySessionDisplay.jpg
END:VEVENT
BEGIN:VEVENT
DTSTART;TZID=Europe/London:20261022T160000
DTEND;TZID=Europe/London:20261022T173000
DTSTAMP:20260420T084154
CREATED:20250903T112114Z
LAST-MODIFIED:20260408T153352Z
UID:10001460-1792684800-1792690200@www.typawb.wales
SUMMARY:Sesiynau Chwarae Am Ddim!
DESCRIPTION:Sesiynau Chwarae Am Ddim!Amser Tymor Dydd Iau16:00 – 17:30Am ddim!\nDim angen archebu\, dim ond galw heibio.Rhaid i blant dan 5 oed fod yng nghwmni oedolyn.Dan arweiniad plentyn\, egnïol\, creadigol\, hwyl!
URL:https://www.typawb.wales/event/sesiynau-chwaraw-am-ddim/2026-10-22/?lang=cy
LOCATION:Tŷ Pawb\, Stryd y Farchnad\, Wrecsam\, LL13 8BB
CATEGORIES:Learning,Teuluoedd
ATTACH;FMTTYPE=image/jpeg:https://www.typawb.wales/wp-content/uploads/2025/02/PlaySessionDisplay.jpg
END:VEVENT
END:VCALENDAR