BEGIN:VCALENDAR
VERSION:2.0
PRODID:-//Tŷ Pawb - ECPv6.15.20//NONSGML v1.0//EN
CALSCALE:GREGORIAN
METHOD:PUBLISH
X-WR-CALNAME:Tŷ Pawb
X-ORIGINAL-URL:https://www.typawb.wales/?lang=cy
X-WR-CALDESC:Events for Tŷ Pawb
REFRESH-INTERVAL;VALUE=DURATION:PT1H
X-Robots-Tag:noindex
X-PUBLISHED-TTL:PT1H
BEGIN:VTIMEZONE
TZID:Europe/London
BEGIN:DAYLIGHT
TZOFFSETFROM:+0000
TZOFFSETTO:+0100
TZNAME:BST
DTSTART:20250330T010000
END:DAYLIGHT
BEGIN:STANDARD
TZOFFSETFROM:+0100
TZOFFSETTO:+0000
TZNAME:GMT
DTSTART:20251026T010000
END:STANDARD
BEGIN:DAYLIGHT
TZOFFSETFROM:+0000
TZOFFSETTO:+0100
TZNAME:BST
DTSTART:20260329T010000
END:DAYLIGHT
BEGIN:STANDARD
TZOFFSETFROM:+0100
TZOFFSETTO:+0000
TZNAME:GMT
DTSTART:20261025T010000
END:STANDARD
BEGIN:DAYLIGHT
TZOFFSETFROM:+0000
TZOFFSETTO:+0100
TZNAME:BST
DTSTART:20270328T010000
END:DAYLIGHT
BEGIN:STANDARD
TZOFFSETFROM:+0100
TZOFFSETTO:+0000
TZNAME:GMT
DTSTART:20271031T010000
END:STANDARD
END:VTIMEZONE
BEGIN:VEVENT
DTSTART;TZID=Europe/London:20260302T103000
DTEND;TZID=Europe/London:20260302T120000
DTSTAMP:20260420T134754
CREATED:20250904T101540Z
LAST-MODIFIED:20250904T101817Z
UID:10001945-1772447400-1772452800@www.typawb.wales
SUMMARY:Dydd Llun Clwb Cerddoriaeth
DESCRIPTION:Dydd Llun Clwb Cerddoriaeth \nDydd Llun \n10:30 – 12:00 \nYmunwch â’r cerddor Andy Hickie am sesiwn gwneud cerddoriaeth gynhwysol a llawen bob dydd Llun. \nNid oes angen profiad cerddorol blaenorol\, dim ond y parodrwydd i ymuno a rhoi cynnig arni! \nCroeso i bawb. Cymerwch ran yn y Gymraeg neu’r Saesneg.
URL:https://www.typawb.wales/event/monday-music-club/2026-03-02/?lang=cy
LOCATION:Tŷ Pawb\, Stryd y Farchnad\, Wrecsam\, LL13 8BB
CATEGORIES:Digwyddiadau,Learning
ATTACH;FMTTYPE=image/jpeg:https://www.typawb.wales/wp-content/uploads/2025/09/fm1-scaled.jpg
ORGANIZER;CN="T%C5%B7 Pawb Arts Engagement Team":MAILTO:teampawb@wrexham.gov.uk
END:VEVENT
BEGIN:VEVENT
DTSTART;TZID=Europe/London:20260304T100000
DTEND;TZID=Europe/London:20260304T120000
DTSTAMP:20260420T134754
CREATED:20250521T113413Z
LAST-MODIFIED:20250521T113413Z
UID:10000760-1772618400-1772625600@www.typawb.wales
SUMMARY:Coffi a Chrefft
DESCRIPTION:Coffi a Chrefft – Crefftau cymunedol yn ein Ardal Fwyd! \n \nSesiwn grefftau galw heibio newydd\, wythnosol\, anffurfiol. \nDewch â’ch prosiect crefft eich hun i weithio arno\, chwiliwch am frag gan ein masnachwyr Ardal Fwyd a chwrdd â gwneuthurwyr eraill o’r un anian!
URL:https://www.typawb.wales/event/coffi-a-chrefft/2026-03-04/?lang=cy
LOCATION:Tŷ Pawb\, Stryd y Farchnad\, Wrecsam\, LL13 8BB
CATEGORIES:Digwyddiadau
ATTACH;FMTTYPE=image/jpeg:https://www.typawb.wales/wp-content/uploads/2025/04/pexels-fotios-photos-2550703-scaled.jpg
END:VEVENT
BEGIN:VEVENT
DTSTART;TZID=Europe/London:20260304T110000
DTEND;TZID=Europe/London:20260304T123000
DTSTAMP:20260420T134754
CREATED:20250904T121639Z
LAST-MODIFIED:20250904T121738Z
UID:10002042-1772622000-1772627400@www.typawb.wales
SUMMARY:Amser Plant Bach 
DESCRIPTION:Amser Plant Bach  \nDydd Mercher\n11.00 – 12.30 \nAm ddim\, croeso iroddion. \nGweithgareddauchwareus a chreadigol i blant dan 4 oed a’u gofalwyr. \nRhaid i bob plentyn fod yng nghwmni oedolyn. \nMewn partneriaethâ Mombies Grŵp Cymorth i Rieni. \n 
URL:https://www.typawb.wales/event/toddler-time/2026-03-04/?lang=cy
LOCATION:Tŷ Pawb\, Stryd y Farchnad\, Wrecsam\, LL13 8BB
CATEGORIES:Learning,Teuluoedd
ATTACH;FMTTYPE=image/jpeg:https://www.typawb.wales/wp-content/uploads/2025/09/Toddler-e1770042497952.jpg
ORGANIZER;CN="T%C5%B7 Pawb Arts Engagement Team":MAILTO:teampawb@wrexham.gov.uk
END:VEVENT
BEGIN:VEVENT
DTSTART;TZID=Europe/London:20260304T110000
DTEND;TZID=Europe/London:20260304T130000
DTSTAMP:20260420T134754
CREATED:20250730T091154Z
LAST-MODIFIED:20250730T091338Z
UID:10001198-1772622000-1772629200@www.typawb.wales
SUMMARY:Mombies
DESCRIPTION:Mombies\nDydd Mercher 11am – 1pm \nGrŵp cyfeillgar ar gyfer rhieni a theuluoedd am ddim wedi’i gynllunio i gefnogi rhieni i frwydro yn erbyn unigrwydd a phryder. Ymunwch â ni am baned\, sgwrs\, a gadewch i’r plant chwarae! Am ragor o wybodaeth ewch i: \nwww.facebook.com/wrexhammombies \n 
URL:https://www.typawb.wales/event/mombies/2026-03-04/?lang=cy
LOCATION:Tŷ Pawb\, Stryd y Farchnad\, Wrecsam\, LL13 8BB
CATEGORIES:Digwyddiadau,Teuluoedd
ATTACH;FMTTYPE=image/jpeg:https://www.typawb.wales/wp-content/uploads/2025/07/424958289_926793042779704_580054936145583248_n.jpg
END:VEVENT
BEGIN:VEVENT
DTSTART;TZID=Europe/London:20260309T103000
DTEND;TZID=Europe/London:20260309T120000
DTSTAMP:20260420T134754
CREATED:20250904T101540Z
LAST-MODIFIED:20250904T101817Z
UID:10001946-1773052200-1773057600@www.typawb.wales
SUMMARY:Dydd Llun Clwb Cerddoriaeth
DESCRIPTION:Dydd Llun Clwb Cerddoriaeth \nDydd Llun \n10:30 – 12:00 \nYmunwch â’r cerddor Andy Hickie am sesiwn gwneud cerddoriaeth gynhwysol a llawen bob dydd Llun. \nNid oes angen profiad cerddorol blaenorol\, dim ond y parodrwydd i ymuno a rhoi cynnig arni! \nCroeso i bawb. Cymerwch ran yn y Gymraeg neu’r Saesneg.
URL:https://www.typawb.wales/event/monday-music-club/2026-03-09/?lang=cy
LOCATION:Tŷ Pawb\, Stryd y Farchnad\, Wrecsam\, LL13 8BB
CATEGORIES:Digwyddiadau,Learning
ATTACH;FMTTYPE=image/jpeg:https://www.typawb.wales/wp-content/uploads/2025/09/fm1-scaled.jpg
ORGANIZER;CN="T%C5%B7 Pawb Arts Engagement Team":MAILTO:teampawb@wrexham.gov.uk
END:VEVENT
BEGIN:VEVENT
DTSTART;TZID=Europe/London:20260311T100000
DTEND;TZID=Europe/London:20260311T120000
DTSTAMP:20260420T134754
CREATED:20250521T113413Z
LAST-MODIFIED:20250521T113413Z
UID:10000761-1773223200-1773230400@www.typawb.wales
SUMMARY:Coffi a Chrefft
DESCRIPTION:Coffi a Chrefft – Crefftau cymunedol yn ein Ardal Fwyd! \n \nSesiwn grefftau galw heibio newydd\, wythnosol\, anffurfiol. \nDewch â’ch prosiect crefft eich hun i weithio arno\, chwiliwch am frag gan ein masnachwyr Ardal Fwyd a chwrdd â gwneuthurwyr eraill o’r un anian!
URL:https://www.typawb.wales/event/coffi-a-chrefft/2026-03-11/?lang=cy
LOCATION:Tŷ Pawb\, Stryd y Farchnad\, Wrecsam\, LL13 8BB
CATEGORIES:Digwyddiadau
ATTACH;FMTTYPE=image/jpeg:https://www.typawb.wales/wp-content/uploads/2025/04/pexels-fotios-photos-2550703-scaled.jpg
END:VEVENT
BEGIN:VEVENT
DTSTART;TZID=Europe/London:20260311T110000
DTEND;TZID=Europe/London:20260311T123000
DTSTAMP:20260420T134754
CREATED:20250904T121639Z
LAST-MODIFIED:20250904T121738Z
UID:10002043-1773226800-1773232200@www.typawb.wales
SUMMARY:Amser Plant Bach 
DESCRIPTION:Amser Plant Bach  \nDydd Mercher\n11.00 – 12.30 \nAm ddim\, croeso iroddion. \nGweithgareddauchwareus a chreadigol i blant dan 4 oed a’u gofalwyr. \nRhaid i bob plentyn fod yng nghwmni oedolyn. \nMewn partneriaethâ Mombies Grŵp Cymorth i Rieni. \n 
URL:https://www.typawb.wales/event/toddler-time/2026-03-11/?lang=cy
LOCATION:Tŷ Pawb\, Stryd y Farchnad\, Wrecsam\, LL13 8BB
CATEGORIES:Learning,Teuluoedd
ATTACH;FMTTYPE=image/jpeg:https://www.typawb.wales/wp-content/uploads/2025/09/Toddler-e1770042497952.jpg
ORGANIZER;CN="T%C5%B7 Pawb Arts Engagement Team":MAILTO:teampawb@wrexham.gov.uk
END:VEVENT
BEGIN:VEVENT
DTSTART;TZID=Europe/London:20260311T110000
DTEND;TZID=Europe/London:20260311T130000
DTSTAMP:20260420T134754
CREATED:20250730T091154Z
LAST-MODIFIED:20250730T091338Z
UID:10001199-1773226800-1773234000@www.typawb.wales
SUMMARY:Mombies
DESCRIPTION:Mombies\nDydd Mercher 11am – 1pm \nGrŵp cyfeillgar ar gyfer rhieni a theuluoedd am ddim wedi’i gynllunio i gefnogi rhieni i frwydro yn erbyn unigrwydd a phryder. Ymunwch â ni am baned\, sgwrs\, a gadewch i’r plant chwarae! Am ragor o wybodaeth ewch i: \nwww.facebook.com/wrexhammombies \n 
URL:https://www.typawb.wales/event/mombies/2026-03-11/?lang=cy
LOCATION:Tŷ Pawb\, Stryd y Farchnad\, Wrecsam\, LL13 8BB
CATEGORIES:Digwyddiadau,Teuluoedd
ATTACH;FMTTYPE=image/jpeg:https://www.typawb.wales/wp-content/uploads/2025/07/424958289_926793042779704_580054936145583248_n.jpg
END:VEVENT
BEGIN:VEVENT
DTSTART;TZID=Europe/London:20260313T160000
DTEND;TZID=Europe/London:20260313T170000
DTSTAMP:20260420T134754
CREATED:20260312T103156Z
LAST-MODIFIED:20260312T105929Z
UID:10002501-1773417600-1773421200@www.typawb.wales
SUMMARY:Clwb Gwirfoddoli Teuluol:  Chwedlau Chwalu Sbwriel
DESCRIPTION:Chwedlau Chwalu Sbwriel Wrecsam \nGwener 13 Mawrth | Gardd To Tŷ Pawb\nYmunwch â’n Sgwad Disglair yn Tŷ Pawb am antur sbwriel 90 munud hwyliog fel rhan o Lanhau Gwanwyn Prydain Fawr. Chwiliwch am sbwriel\, dysgwch am ailgylchu\, ac enillwch eich sticer Sbwriel wrth helpu Wrecsam i ddisgleirio. \nDysgwch fwy yma: https://www.familyvolunteeringclub.co.uk/events/wrexham-litter-busting-legends
URL:https://www.typawb.wales/event/family-volunteering-club-wrexham-litter-busting-legends/?lang=cy
LOCATION:Tŷ Pawb\, Stryd y Farchnad\, Wrecsam\, LL13 8BB
CATEGORIES:Learning,Teuluoedd
ATTACH;FMTTYPE=image/jpeg:https://www.typawb.wales/wp-content/uploads/2026/03/PXL_20250405_124117094-scaled.jpg
END:VEVENT
BEGIN:VEVENT
DTSTART;TZID=Europe/London:20260316T103000
DTEND;TZID=Europe/London:20260316T120000
DTSTAMP:20260420T134754
CREATED:20250904T101540Z
LAST-MODIFIED:20250904T101817Z
UID:10001947-1773657000-1773662400@www.typawb.wales
SUMMARY:Dydd Llun Clwb Cerddoriaeth
DESCRIPTION:Dydd Llun Clwb Cerddoriaeth \nDydd Llun \n10:30 – 12:00 \nYmunwch â’r cerddor Andy Hickie am sesiwn gwneud cerddoriaeth gynhwysol a llawen bob dydd Llun. \nNid oes angen profiad cerddorol blaenorol\, dim ond y parodrwydd i ymuno a rhoi cynnig arni! \nCroeso i bawb. Cymerwch ran yn y Gymraeg neu’r Saesneg.
URL:https://www.typawb.wales/event/monday-music-club/2026-03-16/?lang=cy
LOCATION:Tŷ Pawb\, Stryd y Farchnad\, Wrecsam\, LL13 8BB
CATEGORIES:Digwyddiadau,Learning
ATTACH;FMTTYPE=image/jpeg:https://www.typawb.wales/wp-content/uploads/2025/09/fm1-scaled.jpg
ORGANIZER;CN="T%C5%B7 Pawb Arts Engagement Team":MAILTO:teampawb@wrexham.gov.uk
END:VEVENT
BEGIN:VEVENT
DTSTART;TZID=Europe/London:20260318T100000
DTEND;TZID=Europe/London:20260318T120000
DTSTAMP:20260420T134754
CREATED:20250521T113413Z
LAST-MODIFIED:20250521T113413Z
UID:10000762-1773828000-1773835200@www.typawb.wales
SUMMARY:Coffi a Chrefft
DESCRIPTION:Coffi a Chrefft – Crefftau cymunedol yn ein Ardal Fwyd! \n \nSesiwn grefftau galw heibio newydd\, wythnosol\, anffurfiol. \nDewch â’ch prosiect crefft eich hun i weithio arno\, chwiliwch am frag gan ein masnachwyr Ardal Fwyd a chwrdd â gwneuthurwyr eraill o’r un anian!
URL:https://www.typawb.wales/event/coffi-a-chrefft/2026-03-18/?lang=cy
LOCATION:Tŷ Pawb\, Stryd y Farchnad\, Wrecsam\, LL13 8BB
CATEGORIES:Digwyddiadau
ATTACH;FMTTYPE=image/jpeg:https://www.typawb.wales/wp-content/uploads/2025/04/pexels-fotios-photos-2550703-scaled.jpg
END:VEVENT
BEGIN:VEVENT
DTSTART;TZID=Europe/London:20260318T110000
DTEND;TZID=Europe/London:20260318T123000
DTSTAMP:20260420T134754
CREATED:20250904T121639Z
LAST-MODIFIED:20250904T121738Z
UID:10002044-1773831600-1773837000@www.typawb.wales
SUMMARY:Amser Plant Bach 
DESCRIPTION:Amser Plant Bach  \nDydd Mercher\n11.00 – 12.30 \nAm ddim\, croeso iroddion. \nGweithgareddauchwareus a chreadigol i blant dan 4 oed a’u gofalwyr. \nRhaid i bob plentyn fod yng nghwmni oedolyn. \nMewn partneriaethâ Mombies Grŵp Cymorth i Rieni. \n 
URL:https://www.typawb.wales/event/toddler-time/2026-03-18/?lang=cy
LOCATION:Tŷ Pawb\, Stryd y Farchnad\, Wrecsam\, LL13 8BB
CATEGORIES:Learning,Teuluoedd
ATTACH;FMTTYPE=image/jpeg:https://www.typawb.wales/wp-content/uploads/2025/09/Toddler-e1770042497952.jpg
ORGANIZER;CN="T%C5%B7 Pawb Arts Engagement Team":MAILTO:teampawb@wrexham.gov.uk
END:VEVENT
BEGIN:VEVENT
DTSTART;TZID=Europe/London:20260318T110000
DTEND;TZID=Europe/London:20260318T130000
DTSTAMP:20260420T134754
CREATED:20250730T091154Z
LAST-MODIFIED:20250730T091338Z
UID:10001200-1773831600-1773838800@www.typawb.wales
SUMMARY:Mombies
DESCRIPTION:Mombies\nDydd Mercher 11am – 1pm \nGrŵp cyfeillgar ar gyfer rhieni a theuluoedd am ddim wedi’i gynllunio i gefnogi rhieni i frwydro yn erbyn unigrwydd a phryder. Ymunwch â ni am baned\, sgwrs\, a gadewch i’r plant chwarae! Am ragor o wybodaeth ewch i: \nwww.facebook.com/wrexhammombies \n 
URL:https://www.typawb.wales/event/mombies/2026-03-18/?lang=cy
LOCATION:Tŷ Pawb\, Stryd y Farchnad\, Wrecsam\, LL13 8BB
CATEGORIES:Digwyddiadau,Teuluoedd
ATTACH;FMTTYPE=image/jpeg:https://www.typawb.wales/wp-content/uploads/2025/07/424958289_926793042779704_580054936145583248_n.jpg
END:VEVENT
BEGIN:VEVENT
DTSTART;TZID=Europe/London:20260323T103000
DTEND;TZID=Europe/London:20260323T120000
DTSTAMP:20260420T134754
CREATED:20250904T101540Z
LAST-MODIFIED:20250904T101817Z
UID:10001948-1774261800-1774267200@www.typawb.wales
SUMMARY:Dydd Llun Clwb Cerddoriaeth
DESCRIPTION:Dydd Llun Clwb Cerddoriaeth \nDydd Llun \n10:30 – 12:00 \nYmunwch â’r cerddor Andy Hickie am sesiwn gwneud cerddoriaeth gynhwysol a llawen bob dydd Llun. \nNid oes angen profiad cerddorol blaenorol\, dim ond y parodrwydd i ymuno a rhoi cynnig arni! \nCroeso i bawb. Cymerwch ran yn y Gymraeg neu’r Saesneg.
URL:https://www.typawb.wales/event/monday-music-club/2026-03-23/?lang=cy
LOCATION:Tŷ Pawb\, Stryd y Farchnad\, Wrecsam\, LL13 8BB
CATEGORIES:Digwyddiadau,Learning
ATTACH;FMTTYPE=image/jpeg:https://www.typawb.wales/wp-content/uploads/2025/09/fm1-scaled.jpg
ORGANIZER;CN="T%C5%B7 Pawb Arts Engagement Team":MAILTO:teampawb@wrexham.gov.uk
END:VEVENT
BEGIN:VEVENT
DTSTART;TZID=Europe/London:20260325T100000
DTEND;TZID=Europe/London:20260325T120000
DTSTAMP:20260420T134754
CREATED:20250521T113413Z
LAST-MODIFIED:20250521T113413Z
UID:10000763-1774432800-1774440000@www.typawb.wales
SUMMARY:Coffi a Chrefft
DESCRIPTION:Coffi a Chrefft – Crefftau cymunedol yn ein Ardal Fwyd! \n \nSesiwn grefftau galw heibio newydd\, wythnosol\, anffurfiol. \nDewch â’ch prosiect crefft eich hun i weithio arno\, chwiliwch am frag gan ein masnachwyr Ardal Fwyd a chwrdd â gwneuthurwyr eraill o’r un anian!
URL:https://www.typawb.wales/event/coffi-a-chrefft/2026-03-25/?lang=cy
LOCATION:Tŷ Pawb\, Stryd y Farchnad\, Wrecsam\, LL13 8BB
CATEGORIES:Digwyddiadau
ATTACH;FMTTYPE=image/jpeg:https://www.typawb.wales/wp-content/uploads/2025/04/pexels-fotios-photos-2550703-scaled.jpg
END:VEVENT
BEGIN:VEVENT
DTSTART;TZID=Europe/London:20260325T110000
DTEND;TZID=Europe/London:20260325T123000
DTSTAMP:20260420T134754
CREATED:20250904T121639Z
LAST-MODIFIED:20250904T121738Z
UID:10002045-1774436400-1774441800@www.typawb.wales
SUMMARY:Amser Plant Bach 
DESCRIPTION:Amser Plant Bach  \nDydd Mercher\n11.00 – 12.30 \nAm ddim\, croeso iroddion. \nGweithgareddauchwareus a chreadigol i blant dan 4 oed a’u gofalwyr. \nRhaid i bob plentyn fod yng nghwmni oedolyn. \nMewn partneriaethâ Mombies Grŵp Cymorth i Rieni. \n 
URL:https://www.typawb.wales/event/toddler-time/2026-03-25/?lang=cy
LOCATION:Tŷ Pawb\, Stryd y Farchnad\, Wrecsam\, LL13 8BB
CATEGORIES:Learning,Teuluoedd
ATTACH;FMTTYPE=image/jpeg:https://www.typawb.wales/wp-content/uploads/2025/09/Toddler-e1770042497952.jpg
ORGANIZER;CN="T%C5%B7 Pawb Arts Engagement Team":MAILTO:teampawb@wrexham.gov.uk
END:VEVENT
BEGIN:VEVENT
DTSTART;TZID=Europe/London:20260325T110000
DTEND;TZID=Europe/London:20260325T130000
DTSTAMP:20260420T134754
CREATED:20250730T091154Z
LAST-MODIFIED:20250730T091338Z
UID:10001201-1774436400-1774443600@www.typawb.wales
SUMMARY:Mombies
DESCRIPTION:Mombies\nDydd Mercher 11am – 1pm \nGrŵp cyfeillgar ar gyfer rhieni a theuluoedd am ddim wedi’i gynllunio i gefnogi rhieni i frwydro yn erbyn unigrwydd a phryder. Ymunwch â ni am baned\, sgwrs\, a gadewch i’r plant chwarae! Am ragor o wybodaeth ewch i: \nwww.facebook.com/wrexhammombies \n 
URL:https://www.typawb.wales/event/mombies/2026-03-25/?lang=cy
LOCATION:Tŷ Pawb\, Stryd y Farchnad\, Wrecsam\, LL13 8BB
CATEGORIES:Digwyddiadau,Teuluoedd
ATTACH;FMTTYPE=image/jpeg:https://www.typawb.wales/wp-content/uploads/2025/07/424958289_926793042779704_580054936145583248_n.jpg
END:VEVENT
BEGIN:VEVENT
DTSTART;TZID=Europe/London:20260326T170000
DTEND;TZID=Europe/London:20260326T200000
DTSTAMP:20260420T134754
CREATED:20260212T175627Z
LAST-MODIFIED:20260306T141802Z
UID:10002475-1774544400-1774555200@www.typawb.wales
SUMMARY:Newid y Gêm: Pêl-droed\, Hunaniaeth a Dyfodol Wrecsam
DESCRIPTION:Newid y Gêm: Pêl-droed\, Hunaniaeth a Dyfodol Wrecsam \nCyflwynir gan \nGwobr Iris x Tŷ Pawb – mewn partneriaeth â Gŵyl Ffilm DIVA \nDyddiad: Dydd Iau 26 Mawrth 2026 \nByddwch yn ymwybodol bod yr amseroedd wedi newid. \nAmser: 17:00 \nLleoliad: Tŷ Pawb\, Wrecsam \n• 17:00 – Drysau’n agor \n• 17:30 – Croeso i’r digwyddiad \n• 17:40 – Dangos Rhaglen Ffilm Fer \n• 18:45 – Sesiwn Holi ac Ateb gyda Gwneuthurwr Ffilmiau + Gwestai + Trafodaeth\nPanel: Menywod yn Newid y Gêm / Pwy sy’n Cael Perthyn i Bêl-droed \n• 19:15 – Cwestiynau o’r llawr \n• 19:30 – Diwedd y digwyddiad \n• 19:45 – Cymru vs Bosnia ACG \nTocynnau: \n• Mynediad am ddim ond mae angen cofrestru (trwy system docynnau Tŷ Pawb \nneu Eventbrite). \n• Rhodd dewisol wrth y ddesg dalu. \nCyflwynydd y noson: Berwyn Rowlands (Cyfarwyddwr Gŵyl Gwobr Iris) \nSiaradwyr: Jacquie Lawrence (Gŵyl Ffilm DIVA)\, Cass Virdee (Gwneuthurwr Ffilmiau)\, \nKate Hutchinson (Ymddiriedolwr\, Pride Cymru)\, Cameron Richards (Gwneuthurwr \nFfilmiau)\, Lou Englefield (Cyfarwyddwr Pride Sports & Campaign). \n1. Dangosiad: 4 Ffilm Fer \nRhaglen 65 munud o Vilmiau byrion Iris wedi’i churadu yn archwilio pêl-droed\, rhywedd\, \nperthyn\, a gwydnwch hoyw. \nMae’r Vilmiau’n cynnwys: \nSolers United \n• Keep oa The Grass (Cyf. Francis Rudd). 10 munud. \n• We’ll Go Down in History (Cyf. Cameron Richards a Charlie Tidmas). 25 munud. \n• Solers United (Cyf. Sara Harrak\, Cynhyrchydd. Jacquie Lawrence). 14 munud. \n• Realness with a Twist (Cyf. Cass Virdee). 12 munud. \nRealness With A Twist \n2. Sesiwn Holi ac Ateb gyda Gwneuthurwr Ffilm a Gwestai \n• Jacquie Lawrence – Gŵyl Ffilm DIVA \n• Cass Virdee – Realness with a Twist \n• Cameron Richards – We’ll Go Down in History \n• Lou Englefield – Cyfarwyddwr Pride Sports & Campaign \n• Kate Hutchinson (Ymddiriedolwr\, Pride Cymru) \nKate Hutchinson i gadeirio’r panel. Sesiwn Holi ac Ateb gyda’r gynulleidfa i ddilyn.
URL:https://www.typawb.wales/event/changing-the-game-football-identity-the-future-of-wrexham/?lang=cy
LOCATION:Tŷ Pawb\, Stryd y Farchnad\, Wrecsam\, LL13 8BB
CATEGORIES:Canolfan Amlddiwylliannol Gogledd Ddwyrain Cymru,Digwyddiadau
ATTACH;FMTTYPE=image/png:https://www.typawb.wales/wp-content/uploads/2026/02/Screenshot-2026-02-12-171456.png
END:VEVENT
BEGIN:VEVENT
DTSTART;TZID=Europe/London:20260330T103000
DTEND;TZID=Europe/London:20260330T120000
DTSTAMP:20260420T134754
CREATED:20250904T101540Z
LAST-MODIFIED:20250904T101817Z
UID:10001949-1774866600-1774872000@www.typawb.wales
SUMMARY:Dydd Llun Clwb Cerddoriaeth
DESCRIPTION:Dydd Llun Clwb Cerddoriaeth \nDydd Llun \n10:30 – 12:00 \nYmunwch â’r cerddor Andy Hickie am sesiwn gwneud cerddoriaeth gynhwysol a llawen bob dydd Llun. \nNid oes angen profiad cerddorol blaenorol\, dim ond y parodrwydd i ymuno a rhoi cynnig arni! \nCroeso i bawb. Cymerwch ran yn y Gymraeg neu’r Saesneg.
URL:https://www.typawb.wales/event/monday-music-club/2026-03-30/?lang=cy
LOCATION:Tŷ Pawb\, Stryd y Farchnad\, Wrecsam\, LL13 8BB
CATEGORIES:Digwyddiadau,Learning
ATTACH;FMTTYPE=image/jpeg:https://www.typawb.wales/wp-content/uploads/2025/09/fm1-scaled.jpg
ORGANIZER;CN="T%C5%B7 Pawb Arts Engagement Team":MAILTO:teampawb@wrexham.gov.uk
END:VEVENT
END:VCALENDAR