BEGIN:VCALENDAR
VERSION:2.0
PRODID:-//Tŷ Pawb - ECPv6.15.20//NONSGML v1.0//EN
CALSCALE:GREGORIAN
METHOD:PUBLISH
X-WR-CALNAME:Tŷ Pawb
X-ORIGINAL-URL:https://www.typawb.wales/?lang=cy
X-WR-CALDESC:Events for Tŷ Pawb
REFRESH-INTERVAL;VALUE=DURATION:PT1H
X-Robots-Tag:noindex
X-PUBLISHED-TTL:PT1H
BEGIN:VTIMEZONE
TZID:Europe/London
BEGIN:DAYLIGHT
TZOFFSETFROM:+0000
TZOFFSETTO:+0100
TZNAME:BST
DTSTART:20250330T010000
END:DAYLIGHT
BEGIN:STANDARD
TZOFFSETFROM:+0100
TZOFFSETTO:+0000
TZNAME:GMT
DTSTART:20251026T010000
END:STANDARD
BEGIN:DAYLIGHT
TZOFFSETFROM:+0000
TZOFFSETTO:+0100
TZNAME:BST
DTSTART:20260329T010000
END:DAYLIGHT
BEGIN:STANDARD
TZOFFSETFROM:+0100
TZOFFSETTO:+0000
TZNAME:GMT
DTSTART:20261025T010000
END:STANDARD
BEGIN:DAYLIGHT
TZOFFSETFROM:+0000
TZOFFSETTO:+0100
TZNAME:BST
DTSTART:20270328T010000
END:DAYLIGHT
BEGIN:STANDARD
TZOFFSETFROM:+0100
TZOFFSETTO:+0000
TZNAME:GMT
DTSTART:20271031T010000
END:STANDARD
END:VTIMEZONE
BEGIN:VEVENT
DTSTART;TZID=Europe/London:20260422T100000
DTEND;TZID=Europe/London:20260422T120000
DTSTAMP:20260420T090241
CREATED:20250521T113413Z
LAST-MODIFIED:20250521T113413Z
UID:10000767-1776852000-1776859200@www.typawb.wales
SUMMARY:Coffi a Chrefft
DESCRIPTION:Coffi a Chrefft – Crefftau cymunedol yn ein Ardal Fwyd! \n \nSesiwn grefftau galw heibio newydd\, wythnosol\, anffurfiol. \nDewch â’ch prosiect crefft eich hun i weithio arno\, chwiliwch am frag gan ein masnachwyr Ardal Fwyd a chwrdd â gwneuthurwyr eraill o’r un anian!
URL:https://www.typawb.wales/event/coffi-a-chrefft/2026-04-22/?lang=cy
LOCATION:Tŷ Pawb\, Stryd y Farchnad\, Wrecsam\, LL13 8BB
CATEGORIES:Digwyddiadau
ATTACH;FMTTYPE=image/jpeg:https://www.typawb.wales/wp-content/uploads/2025/04/pexels-fotios-photos-2550703-scaled.jpg
END:VEVENT
BEGIN:VEVENT
DTSTART;TZID=Europe/London:20260429T100000
DTEND;TZID=Europe/London:20260429T120000
DTSTAMP:20260420T090241
CREATED:20250521T113413Z
LAST-MODIFIED:20250521T113413Z
UID:10000768-1777456800-1777464000@www.typawb.wales
SUMMARY:Coffi a Chrefft
DESCRIPTION:Coffi a Chrefft – Crefftau cymunedol yn ein Ardal Fwyd! \n \nSesiwn grefftau galw heibio newydd\, wythnosol\, anffurfiol. \nDewch â’ch prosiect crefft eich hun i weithio arno\, chwiliwch am frag gan ein masnachwyr Ardal Fwyd a chwrdd â gwneuthurwyr eraill o’r un anian!
URL:https://www.typawb.wales/event/coffi-a-chrefft/2026-04-29/?lang=cy
LOCATION:Tŷ Pawb\, Stryd y Farchnad\, Wrecsam\, LL13 8BB
CATEGORIES:Digwyddiadau
ATTACH;FMTTYPE=image/jpeg:https://www.typawb.wales/wp-content/uploads/2025/04/pexels-fotios-photos-2550703-scaled.jpg
END:VEVENT
END:VCALENDAR