BEGIN:VCALENDAR
VERSION:2.0
PRODID:-//Tŷ Pawb - ECPv6.15.20//NONSGML v1.0//EN
CALSCALE:GREGORIAN
METHOD:PUBLISH
X-ORIGINAL-URL:https://www.typawb.wales/?lang=cy
X-WR-CALDESC:Events for Tŷ Pawb
REFRESH-INTERVAL;VALUE=DURATION:PT1H
X-Robots-Tag:noindex
X-PUBLISHED-TTL:PT1H
BEGIN:VTIMEZONE
TZID:Europe/London
BEGIN:DAYLIGHT
TZOFFSETFROM:+0000
TZOFFSETTO:+0100
TZNAME:BST
DTSTART:20250330T010000
END:DAYLIGHT
BEGIN:STANDARD
TZOFFSETFROM:+0100
TZOFFSETTO:+0000
TZNAME:GMT
DTSTART:20251026T010000
END:STANDARD
BEGIN:DAYLIGHT
TZOFFSETFROM:+0000
TZOFFSETTO:+0100
TZNAME:BST
DTSTART:20260329T010000
END:DAYLIGHT
BEGIN:STANDARD
TZOFFSETFROM:+0100
TZOFFSETTO:+0000
TZNAME:GMT
DTSTART:20261025T010000
END:STANDARD
BEGIN:DAYLIGHT
TZOFFSETFROM:+0000
TZOFFSETTO:+0100
TZNAME:BST
DTSTART:20270328T010000
END:DAYLIGHT
BEGIN:STANDARD
TZOFFSETFROM:+0100
TZOFFSETTO:+0000
TZNAME:GMT
DTSTART:20271031T010000
END:STANDARD
END:VTIMEZONE
BEGIN:VEVENT
DTSTART;TZID=Europe/London:20260205T160000
DTEND;TZID=Europe/London:20260205T173000
DTSTAMP:20260420T210201
CREATED:20250903T112114Z
LAST-MODIFIED:20260408T153352Z
UID:10001423-1770307200-1770312600@www.typawb.wales
SUMMARY:Sesiynau Chwarae Am Ddim!
DESCRIPTION:Sesiynau Chwarae Am Ddim!Amser Tymor Dydd Iau16:00 – 17:30Am ddim!\nDim angen archebu\, dim ond galw heibio.Rhaid i blant dan 5 oed fod yng nghwmni oedolyn.Dan arweiniad plentyn\, egnïol\, creadigol\, hwyl!
URL:https://www.typawb.wales/event/sesiynau-chwaraw-am-ddim/2026-02-05/?lang=cy
LOCATION:Tŷ Pawb\, Stryd y Farchnad\, Wrecsam\, LL13 8BB
CATEGORIES:Learning,Teuluoedd
ATTACH;FMTTYPE=image/jpeg:https://www.typawb.wales/wp-content/uploads/2025/02/PlaySessionDisplay.jpg
END:VEVENT
BEGIN:VEVENT
DTSTART;TZID=Europe/London:20260212T160000
DTEND;TZID=Europe/London:20260212T173000
DTSTAMP:20260420T210201
CREATED:20250903T112114Z
LAST-MODIFIED:20260408T153352Z
UID:10001424-1770912000-1770917400@www.typawb.wales
SUMMARY:Sesiynau Chwarae Am Ddim!
DESCRIPTION:Sesiynau Chwarae Am Ddim!Amser Tymor Dydd Iau16:00 – 17:30Am ddim!\nDim angen archebu\, dim ond galw heibio.Rhaid i blant dan 5 oed fod yng nghwmni oedolyn.Dan arweiniad plentyn\, egnïol\, creadigol\, hwyl!
URL:https://www.typawb.wales/event/sesiynau-chwaraw-am-ddim/2026-02-12/?lang=cy
LOCATION:Tŷ Pawb\, Stryd y Farchnad\, Wrecsam\, LL13 8BB
CATEGORIES:Learning,Teuluoedd
ATTACH;FMTTYPE=image/jpeg:https://www.typawb.wales/wp-content/uploads/2025/02/PlaySessionDisplay.jpg
END:VEVENT
BEGIN:VEVENT
DTSTART;TZID=Europe/London:20260219T160000
DTEND;TZID=Europe/London:20260219T173000
DTSTAMP:20260420T210201
CREATED:20250903T112114Z
LAST-MODIFIED:20260408T153352Z
UID:10001425-1771516800-1771522200@www.typawb.wales
SUMMARY:Sesiynau Chwarae Am Ddim!
DESCRIPTION:Sesiynau Chwarae Am Ddim!Amser Tymor Dydd Iau16:00 – 17:30Am ddim!\nDim angen archebu\, dim ond galw heibio.Rhaid i blant dan 5 oed fod yng nghwmni oedolyn.Dan arweiniad plentyn\, egnïol\, creadigol\, hwyl!
URL:https://www.typawb.wales/event/sesiynau-chwaraw-am-ddim/2026-02-19/?lang=cy
LOCATION:Tŷ Pawb\, Stryd y Farchnad\, Wrecsam\, LL13 8BB
CATEGORIES:Learning,Teuluoedd
ATTACH;FMTTYPE=image/jpeg:https://www.typawb.wales/wp-content/uploads/2025/02/PlaySessionDisplay.jpg
END:VEVENT
BEGIN:VEVENT
DTSTART;TZID=Europe/London:20260226T160000
DTEND;TZID=Europe/London:20260226T173000
DTSTAMP:20260420T210201
CREATED:20250903T112114Z
LAST-MODIFIED:20260408T153352Z
UID:10001426-1772121600-1772127000@www.typawb.wales
SUMMARY:Sesiynau Chwarae Am Ddim!
DESCRIPTION:Sesiynau Chwarae Am Ddim!Amser Tymor Dydd Iau16:00 – 17:30Am ddim!\nDim angen archebu\, dim ond galw heibio.Rhaid i blant dan 5 oed fod yng nghwmni oedolyn.Dan arweiniad plentyn\, egnïol\, creadigol\, hwyl!
URL:https://www.typawb.wales/event/sesiynau-chwaraw-am-ddim/2026-02-26/?lang=cy
LOCATION:Tŷ Pawb\, Stryd y Farchnad\, Wrecsam\, LL13 8BB
CATEGORIES:Learning,Teuluoedd
ATTACH;FMTTYPE=image/jpeg:https://www.typawb.wales/wp-content/uploads/2025/02/PlaySessionDisplay.jpg
END:VEVENT
END:VCALENDAR