BEGIN:VCALENDAR
VERSION:2.0
PRODID:-//Tŷ Pawb - ECPv6.15.20//NONSGML v1.0//EN
CALSCALE:GREGORIAN
METHOD:PUBLISH
X-WR-CALNAME:Tŷ Pawb
X-ORIGINAL-URL:https://www.typawb.wales/?lang=cy
X-WR-CALDESC:Events for Tŷ Pawb
REFRESH-INTERVAL;VALUE=DURATION:PT1H
X-Robots-Tag:noindex
X-PUBLISHED-TTL:PT1H
BEGIN:VTIMEZONE
TZID:Europe/London
BEGIN:DAYLIGHT
TZOFFSETFROM:+0000
TZOFFSETTO:+0100
TZNAME:BST
DTSTART:20250330T010000
END:DAYLIGHT
BEGIN:STANDARD
TZOFFSETFROM:+0100
TZOFFSETTO:+0000
TZNAME:GMT
DTSTART:20251026T010000
END:STANDARD
BEGIN:DAYLIGHT
TZOFFSETFROM:+0000
TZOFFSETTO:+0100
TZNAME:BST
DTSTART:20260329T010000
END:DAYLIGHT
BEGIN:STANDARD
TZOFFSETFROM:+0100
TZOFFSETTO:+0000
TZNAME:GMT
DTSTART:20261025T010000
END:STANDARD
BEGIN:DAYLIGHT
TZOFFSETFROM:+0000
TZOFFSETTO:+0100
TZNAME:BST
DTSTART:20270328T010000
END:DAYLIGHT
BEGIN:STANDARD
TZOFFSETFROM:+0100
TZOFFSETTO:+0000
TZNAME:GMT
DTSTART:20271031T010000
END:STANDARD
END:VTIMEZONE
BEGIN:VEVENT
DTSTART;TZID=Europe/London:20260202T153000
DTEND;TZID=Europe/London:20260202T170000
DTSTAMP:20260421T002934
CREATED:20260129T145035Z
LAST-MODIFIED:20260129T145143Z
UID:10002415-1770046200-1770051600@www.typawb.wales
SUMMARY:Galw heibio Diwrnod Cenedlaethol y Draenogod ar ôl Ysgol - Sesiwn Galw Heibio!
DESCRIPTION:Llun 02 Chwefror – 3:30pm – 5pmGalw heibio Diwrnod Cenedlaethol y Draenogod ar ôl Ysgol – Sesiwn Galw Heibio!\nDysgwch sut i wneud eich gardd yn fwy cyfeillgar i Ddraenogod\, creu gwesty pryfed i gefnogi bywyd gwyllt yn eich gardd\, a chreu collage Draenog o ddeunyddiau naturiol. Galw heibio am ddim\, rhaid i blant fod yng nghwmni oedolyn. Dewch o hyd i ni yn neuadd y farchnad. Cefnogir gan Lywodraeth Cymru a Local Places For Nature.\n\n\n\nFoto – Erik Karits
URL:https://www.typawb.wales/event/afterschool-national-hedgehog-day-crafts-drop-in/?lang=cy
LOCATION:Tŷ Pawb\, Stryd y Farchnad\, Wrecsam\, LL13 8BB
CATEGORIES:Learning,Teuluoedd
ATTACH;FMTTYPE=image/jpeg:https://www.typawb.wales/wp-content/uploads/2026/01/pexels-erik-karits-2093459-27444005-scaled.jpg
ORGANIZER;CN="T%C5%B7 Pawb Arts Engagement Team":MAILTO:teampawb@wrexham.gov.uk
END:VEVENT
BEGIN:VEVENT
DTSTART;TZID=Europe/London:20260206T103000
DTEND;TZID=Europe/London:20260206T120000
DTSTAMP:20260421T002934
CREATED:20250903T125703Z
LAST-MODIFIED:20250903T154757Z
UID:10001832-1770373800-1770379200@www.typawb.wales
SUMMARY:Addysg  Gartref  Clwb Celf
DESCRIPTION:Addysg Gartref Clwb Celf gyda’r artist Sophie Nina \nDydd Gwener 10.30 – 12.00  \nAm ddim\, croeso i roddion.  \nGweithgareddau creadigol ymarferol wythnosol wedi’u hysbrydoli gan ein rhaglen arddangosfeydd ar gyfer teuluoedd Addysg a Dysgu yn y Cartref.  \nCroeso i blant o bob oed. Rhaid i bob plentyn fod yng nghwmni oedolyn. Gwisgwch ar gyfer llanast!  \nCyfranogiad dewisol yn Arts Award Discover. \nE-bostiwch teampawb@wrexham.gov.uk i archebu neu am ragor o wybodaeth.
URL:https://www.typawb.wales/event/home-ed-art-club-2/2026-02-06/?lang=cy
LOCATION:Tŷ Pawb\, Stryd y Farchnad\, Wrecsam\, LL13 8BB
CATEGORIES:Dysgu,Learning,Teuluoedd
ATTACH;FMTTYPE=image/jpeg:https://www.typawb.wales/wp-content/uploads/2025/09/86-P1004009.jpg
ORGANIZER;CN="T%C5%B7 Pawb Arts Engagement Team":MAILTO:teampawb@wrexham.gov.uk
END:VEVENT
BEGIN:VEVENT
DTSTART;TZID=Europe/London:20260213T103000
DTEND;TZID=Europe/London:20260213T120000
DTSTAMP:20260421T002934
CREATED:20250903T125703Z
LAST-MODIFIED:20250903T154757Z
UID:10001833-1770978600-1770984000@www.typawb.wales
SUMMARY:Addysg  Gartref  Clwb Celf
DESCRIPTION:Addysg Gartref Clwb Celf gyda’r artist Sophie Nina \nDydd Gwener 10.30 – 12.00  \nAm ddim\, croeso i roddion.  \nGweithgareddau creadigol ymarferol wythnosol wedi’u hysbrydoli gan ein rhaglen arddangosfeydd ar gyfer teuluoedd Addysg a Dysgu yn y Cartref.  \nCroeso i blant o bob oed. Rhaid i bob plentyn fod yng nghwmni oedolyn. Gwisgwch ar gyfer llanast!  \nCyfranogiad dewisol yn Arts Award Discover. \nE-bostiwch teampawb@wrexham.gov.uk i archebu neu am ragor o wybodaeth.
URL:https://www.typawb.wales/event/home-ed-art-club-2/2026-02-13/?lang=cy
LOCATION:Tŷ Pawb\, Stryd y Farchnad\, Wrecsam\, LL13 8BB
CATEGORIES:Dysgu,Learning,Teuluoedd
ATTACH;FMTTYPE=image/jpeg:https://www.typawb.wales/wp-content/uploads/2025/09/86-P1004009.jpg
ORGANIZER;CN="T%C5%B7 Pawb Arts Engagement Team":MAILTO:teampawb@wrexham.gov.uk
END:VEVENT
BEGIN:VEVENT
DTSTART;TZID=Europe/London:20260216T130000
DTEND;TZID=Europe/London:20260216T160000
DTSTAMP:20260421T002934
CREATED:20260202T140042Z
LAST-MODIFIED:20260202T141908Z
UID:10002425-1771246800-1771257600@www.typawb.wales
SUMMARY:Clwb Celf i Bobl Ifanc (11-17 oed) - Peintio cefn gyda David Setter
DESCRIPTION:Clwb Celf i Bobl Ifanc (11-17 oed)\n16/02/2026\, 13:00 – 16:00\n£6.50 y person ifanc. Rhaid archebu.  \nSesiwn gollwng yw hon\, ond mae croeso i rieni / gofalwyr aros os yw pobl ifanc yn teimlo’n bryderus neu angen cymorth ar gyfer anghenion ychwanegol. Gofynnir i rieni / gofalwyr lenwi ffurflen gyswllt frys cyn y sesiwn.\n\nPeintio cefn gyda David Setter  \nYdych chi erioed wedi meddwl sut beth yw creu paentiad\, darlun neu ddwdl cefn? Lliwiwch yn gyntaf ac yna ‘dal’ y lliw hwnnw gyda gwaith llinell….Mae’n ffordd rydd hyfryd o greu\, ac mae’n dileu’r angen i geisio peintio’n daclus i’r llinell. Ffordd sy’n arbed amser\, yn hwyl ac yn fyrfyfyr o greu lluniau sy’n gweithio’n dda mewn unrhyw gyfrwng. Byddwn yn edrych ar waith gwych Jonathan le Vay ac yn gwrando arno i gael ysbrydoliaeth. Bydd David hefyd yn dod ag enghreifftiau o’i baentiadau blodau ei hun i’r sesiwn\, a bydd yn dangos awgrymiadau a thriciau ar greu cymeriadau dwdl. Byddwn yn defnyddio cerddoriaeth i greu lluniadau un llinell (llinell barhaus) i ddarganfod a yw tempo cerddoriaeth yn chwarae rhan yn sut rydym yn lluniadu.
URL:https://www.typawb.wales/event/42915/?lang=cy
LOCATION:Tŷ Pawb\, Stryd y Farchnad\, Wrecsam\, LL13 8BB
CATEGORIES:Dysgu
ATTACH;FMTTYPE=image/jpeg:https://www.typawb.wales/wp-content/uploads/2026/02/pexels-shvetsa-4587831-scaled-e1770042189493.jpg
ORGANIZER;CN="T%C5%B7 Pawb Arts Engagement Team":MAILTO:teampawb@wrexham.gov.uk
END:VEVENT
BEGIN:VEVENT
DTSTART;TZID=Europe/London:20260216T140000
DTEND;TZID=Europe/London:20260216T153000
DTSTAMP:20260421T002934
CREATED:20260129T165950Z
LAST-MODIFIED:20260129T170138Z
UID:10002419-1771250400-1771255800@www.typawb.wales
SUMMARY:Gweithdy Cerddoriaeth i'r Teulu
DESCRIPTION:Dysgwch chwarae caneuon Cymraeg yn y gweithdy hwyliog\, hamddenol a chydweithredol hwn sy’n addas i deuluoedd. Nid oes angen profiad cerddorol. Yn fwyaf addas ar gyfer plant 6+\, rhaid i bob plentyn fod yng nghwmni oedolyn. \nMae Andy Hickie yn ganwr-gyfansoddwr sy’n canolbwyntio ar ganeuon gwerin traddodiadol Cymru ac Iwerddon\, yn ogystal â bod yn gyflwynydd rheolaidd “Gathering of Folk”. Mae Andy yn ffigwr adnabyddus yn y sîn gerddoriaeth leol\, ac mae ganddo gyfoeth o brofiad cerddorol ar draws ystod amrywiol o brosiectau gan gynnwys Merry Maidens\, PAPERHOUSE a Cosmic Dog Fog.
URL:https://www.typawb.wales/event/family-music-workshop-with-andy-hickie/?lang=cy
LOCATION:Tŷ Pawb\, Stryd y Farchnad\, Wrecsam\, LL13 8BB
CATEGORIES:Learning,Teuluoedd
ATTACH;FMTTYPE=image/jpeg:https://www.typawb.wales/wp-content/uploads/2026/01/fm1-scaled.jpg
END:VEVENT
BEGIN:VEVENT
DTSTART;TZID=Europe/London:20260216T140000
DTEND;TZID=Europe/London:20260216T153000
DTSTAMP:20260421T002934
CREATED:20260326T133920Z
LAST-MODIFIED:20260326T133920Z
UID:10002526-1771250400-1771255800@www.typawb.wales
SUMMARY:Gweithdy Cerddoriaeth i'r Teulu
DESCRIPTION:Dysgwch chwarae caneuon Cymraeg yn y gweithdy hwyliog\, hamddenol a chydweithredol hwn sy’n addas i deuluoedd. Nid oes angen profiad cerddorol. Yn fwyaf addas ar gyfer plant 6+\, rhaid i bob plentyn fod yng nghwmni oedolyn. \nMae Andy Hickie yn ganwr-gyfansoddwr sy’n canolbwyntio ar ganeuon gwerin traddodiadol Cymru ac Iwerddon\, yn ogystal â bod yn gyflwynydd rheolaidd “Gathering of Folk”. Mae Andy yn ffigwr adnabyddus yn y sîn gerddoriaeth leol\, ac mae ganddo gyfoeth o brofiad cerddorol ar draws ystod amrywiol o brosiectau gan gynnwys Merry Maidens\, PAPERHOUSE a Cosmic Dog Fog. \nhttps://www.eventbrite.com/e/gweithdy-cerddoriaeth-ir-teulu-family-music-workshop-tickets-1985989107883
URL:https://www.typawb.wales/event/gweithdy-cerddoriaeth-ir-teulu/?lang=cy
LOCATION:Tŷ Pawb\, Stryd y Farchnad\, Wrecsam\, LL13 8BB
CATEGORIES:Learning,Teuluoedd
ATTACH;FMTTYPE=image/jpeg:https://www.typawb.wales/wp-content/uploads/2026/01/fm1-scaled.jpg
END:VEVENT
BEGIN:VEVENT
DTSTART;TZID=Europe/London:20260218T140000
DTEND;TZID=Europe/London:20260218T153000
DTSTAMP:20260421T002934
CREATED:20260129T145510Z
LAST-MODIFIED:20260129T145747Z
UID:10002417-1771423200-1771428600@www.typawb.wales
SUMMARY:Galw heibio Crefft Draenog!
DESCRIPTION:Galw heibio Crefft Draenog!\nDydd Mercher\, 18/02/2026\, 2pm – 3:30pm  \nDysgwch sut i wneud eich gardd yn fwy cyfeillgar i Ddraenog a chreu collage Draenog o ddeunyddiau naturiol gyda’r artist Ellie Ashby. Galw heibio am ddim\, rhaid i blant fod yng nghwmni oedolyn. Dewch o hyd i ni yn neuadd y farchnad. Cefnogir gan Lywodraeth Cymru a Lleoliadau dros Natur. \n\n\n\n\n\n\n\n\n\n\n\n\n\n\n\nFoto – Erik Karits
URL:https://www.typawb.wales/event/hedgehog-craft-drop-in/?lang=cy
LOCATION:Tŷ Pawb\, Stryd y Farchnad\, Wrecsam\, LL13 8BB
CATEGORIES:Learning,Teuluoedd
ATTACH;FMTTYPE=image/jpeg:https://www.typawb.wales/wp-content/uploads/2026/01/pexels-erik-karits-2093459-27444005-scaled.jpg
ORGANIZER;CN="T%C5%B7 Pawb Arts Engagement Team":MAILTO:teampawb@wrexham.gov.uk
END:VEVENT
BEGIN:VEVENT
DTSTART;TZID=Europe/London:20260220T103000
DTEND;TZID=Europe/London:20260220T120000
DTSTAMP:20260421T002934
CREATED:20250903T125703Z
LAST-MODIFIED:20250903T154757Z
UID:10001834-1771583400-1771588800@www.typawb.wales
SUMMARY:Addysg  Gartref  Clwb Celf
DESCRIPTION:Addysg Gartref Clwb Celf gyda’r artist Sophie Nina \nDydd Gwener 10.30 – 12.00  \nAm ddim\, croeso i roddion.  \nGweithgareddau creadigol ymarferol wythnosol wedi’u hysbrydoli gan ein rhaglen arddangosfeydd ar gyfer teuluoedd Addysg a Dysgu yn y Cartref.  \nCroeso i blant o bob oed. Rhaid i bob plentyn fod yng nghwmni oedolyn. Gwisgwch ar gyfer llanast!  \nCyfranogiad dewisol yn Arts Award Discover. \nE-bostiwch teampawb@wrexham.gov.uk i archebu neu am ragor o wybodaeth.
URL:https://www.typawb.wales/event/home-ed-art-club-2/2026-02-20/?lang=cy
LOCATION:Tŷ Pawb\, Stryd y Farchnad\, Wrecsam\, LL13 8BB
CATEGORIES:Dysgu,Learning,Teuluoedd
ATTACH;FMTTYPE=image/jpeg:https://www.typawb.wales/wp-content/uploads/2025/09/86-P1004009.jpg
ORGANIZER;CN="T%C5%B7 Pawb Arts Engagement Team":MAILTO:teampawb@wrexham.gov.uk
END:VEVENT
BEGIN:VEVENT
DTSTART;TZID=Europe/London:20260227T103000
DTEND;TZID=Europe/London:20260227T120000
DTSTAMP:20260421T002934
CREATED:20250903T125703Z
LAST-MODIFIED:20250903T154757Z
UID:10001835-1772188200-1772193600@www.typawb.wales
SUMMARY:Addysg  Gartref  Clwb Celf
DESCRIPTION:Addysg Gartref Clwb Celf gyda’r artist Sophie Nina \nDydd Gwener 10.30 – 12.00  \nAm ddim\, croeso i roddion.  \nGweithgareddau creadigol ymarferol wythnosol wedi’u hysbrydoli gan ein rhaglen arddangosfeydd ar gyfer teuluoedd Addysg a Dysgu yn y Cartref.  \nCroeso i blant o bob oed. Rhaid i bob plentyn fod yng nghwmni oedolyn. Gwisgwch ar gyfer llanast!  \nCyfranogiad dewisol yn Arts Award Discover. \nE-bostiwch teampawb@wrexham.gov.uk i archebu neu am ragor o wybodaeth.
URL:https://www.typawb.wales/event/home-ed-art-club-2/2026-02-27/?lang=cy
LOCATION:Tŷ Pawb\, Stryd y Farchnad\, Wrecsam\, LL13 8BB
CATEGORIES:Dysgu,Learning,Teuluoedd
ATTACH;FMTTYPE=image/jpeg:https://www.typawb.wales/wp-content/uploads/2025/09/86-P1004009.jpg
ORGANIZER;CN="T%C5%B7 Pawb Arts Engagement Team":MAILTO:teampawb@wrexham.gov.uk
END:VEVENT
END:VCALENDAR