BEGIN:VCALENDAR
VERSION:2.0
PRODID:-//Tŷ Pawb - ECPv6.15.20//NONSGML v1.0//EN
CALSCALE:GREGORIAN
METHOD:PUBLISH
X-ORIGINAL-URL:https://www.typawb.wales/?lang=cy
X-WR-CALDESC:Events for Tŷ Pawb
REFRESH-INTERVAL;VALUE=DURATION:PT1H
X-Robots-Tag:noindex
X-PUBLISHED-TTL:PT1H
BEGIN:VTIMEZONE
TZID:Europe/London
BEGIN:DAYLIGHT
TZOFFSETFROM:+0000
TZOFFSETTO:+0100
TZNAME:BST
DTSTART:20250330T010000
END:DAYLIGHT
BEGIN:STANDARD
TZOFFSETFROM:+0100
TZOFFSETTO:+0000
TZNAME:GMT
DTSTART:20251026T010000
END:STANDARD
BEGIN:DAYLIGHT
TZOFFSETFROM:+0000
TZOFFSETTO:+0100
TZNAME:BST
DTSTART:20260329T010000
END:DAYLIGHT
BEGIN:STANDARD
TZOFFSETFROM:+0100
TZOFFSETTO:+0000
TZNAME:GMT
DTSTART:20261025T010000
END:STANDARD
BEGIN:DAYLIGHT
TZOFFSETFROM:+0000
TZOFFSETTO:+0100
TZNAME:BST
DTSTART:20270328T010000
END:DAYLIGHT
BEGIN:STANDARD
TZOFFSETFROM:+0100
TZOFFSETTO:+0000
TZNAME:GMT
DTSTART:20271031T010000
END:STANDARD
END:VTIMEZONE
BEGIN:VEVENT
DTSTART;TZID=Europe/London:20260501T103000
DTEND;TZID=Europe/London:20260501T120000
DTSTAMP:20260420T173224
CREATED:20250903T125703Z
LAST-MODIFIED:20250903T154757Z
UID:10001844-1777631400-1777636800@www.typawb.wales
SUMMARY:Addysg  Gartref  Clwb Celf
DESCRIPTION:Addysg Gartref Clwb Celf gyda’r artist Sophie Nina \nDydd Gwener 10.30 – 12.00  \nAm ddim\, croeso i roddion.  \nGweithgareddau creadigol ymarferol wythnosol wedi’u hysbrydoli gan ein rhaglen arddangosfeydd ar gyfer teuluoedd Addysg a Dysgu yn y Cartref.  \nCroeso i blant o bob oed. Rhaid i bob plentyn fod yng nghwmni oedolyn. Gwisgwch ar gyfer llanast!  \nCyfranogiad dewisol yn Arts Award Discover. \nE-bostiwch teampawb@wrexham.gov.uk i archebu neu am ragor o wybodaeth.
URL:https://www.typawb.wales/event/home-ed-art-club-2/2026-05-01/?lang=cy
LOCATION:Tŷ Pawb\, Stryd y Farchnad\, Wrecsam\, LL13 8BB
CATEGORIES:Dysgu,Learning,Teuluoedd
ATTACH;FMTTYPE=image/jpeg:https://www.typawb.wales/wp-content/uploads/2025/09/86-P1004009.jpg
ORGANIZER;CN="T%C5%B7 Pawb Arts Engagement Team":MAILTO:teampawb@wrexham.gov.uk
END:VEVENT
BEGIN:VEVENT
DTSTART;TZID=Europe/London:20260502T100000
DTEND;TZID=Europe/London:20260502T120000
DTSTAMP:20260420T173224
CREATED:20260420T144152Z
LAST-MODIFIED:20260420T145013Z
UID:10002913-1777716000-1777723200@www.typawb.wales
SUMMARY:Family Art Club!
DESCRIPTION:Mae Clwb Celf Teulu yn dathlu creadigrwydd a chwarae trwy wneud\, peintio a lluniadu ymarferol. Bob wythnos byddwn yn datgelu trysorfa o ddeunyddiau celf\, rhannau rhydd ac ailgylchu wedi'u thema o amgylch ein harddangosfeydd i'w trawsnewid yn unrhyw weithiau celf\, modelau ac ategolion ffasiwn y gallwch chi eu dychmygu!\n\nMae Clwb Celf Teulu yn addas ar gyfer plant o bob oed ac rydym yn annog rhieni\, neiniau a theidiau a gofalwyr i gymryd rhan hefyd - nid clwb celf plant yw hwn\, Clwb Celf Teulu!\n\n- Gwisgwch ddillad na fyddwch chi'n cynhyrfu am fynd yn flêr.\n\n- Rhaid i bob plentyn fod yng nghwmni oedolyn.\n\nArchebu\n\nSesiwn galw heibio yw Clwb Celf Teulu\, ond rydym yn argymell archebu i wneud yn siŵr bod gennych chi le yn ystod cyfnodau prysurach. Cynigir lleoedd yng Nghlwb Celf Teulu ar sail rhodd 'talu'r hyn y gallwch chi'\, fel y gallwch chi ddewis faint i'w dalu yn ôl yr hyn y gall eich teulu ei fforddio. Mae eich rhoddion yn ein cefnogi i ddarparu gwasanaeth celfyddydau hygyrch i deuluoedd lleol.\n\nAelodaeth Clwb Celf Teulu\n\nGallwch brynu pecyn aelodaeth Clwb Celf Teulu o'r dderbynfa am £9.99. Mae'r pecyn hwn yn cynnwys danteithion celfyddydol i'w defnyddio gartref ac yn ein cefnogi i barhau i gynnig gwasanaeth talu-beth-allwch-chi i deuluoedd.
URL:https://www.typawb.wales/event/family-art-club-2/2026-05-02/?lang=cy
LOCATION:Tŷ Pawb\, Stryd y Farchnad\, Wrecsam\, LL13 8BB
CATEGORIES:Learning,Teuluoedd
ATTACH;FMTTYPE=image/jpeg:https://www.typawb.wales/wp-content/uploads/2025/05/Art-Explorers.jpg
ORGANIZER;CN="T%C5%B7 Pawb Arts Engagement Team":MAILTO:teampawb@wrexham.gov.uk
END:VEVENT
BEGIN:VEVENT
DTSTART;TZID=Europe/London:20260508T140000
DTEND;TZID=Europe/London:20260508T153000
DTSTAMP:20260420T173224
CREATED:20260420T141952Z
LAST-MODIFIED:20260420T143028Z
UID:10002899-1778248800-1778254200@www.typawb.wales
SUMMARY:Clwb Garddio Addysg Gartref
DESCRIPTION:Clwb Garddio Addysg Gartref \n\nBob yn ail ddydd Gwener\, 14:00 – 15:30  \nDyddiadau: 24 Ebrill 8 Mai 22 Mai 5 Mehefin 19 Mehefin 5 Gorffennaf 19 Gorffennaf Seibiant ar gyfer gwyliau’r haf.  \nGwybodaeth Allweddol: Gellir cyrraedd yr ardd ar y to drwy’r giât ar lefel 2a o’r maes parcio. Ewch i’r dderbynfa ar y llawr gwaelod os nad ydych chi’n parcio yn ein maes parcio\, gan y bydd angen aelod o staff arnoch i’ch gadael i fyny’r grisiau drwy’r lifft/grisiau staff yn lle. Rhowch wybod i ni os yw unrhyw un yn eich grŵp yn ddefnyddiwr cadair olwyn / ag anawsterau mynediad gan fod sawl llwybr a allai fod yn addas yn dibynnu ar anghenion. Darperir llyfr log natur Croesewir rhoddion talu-beth-allwch-chi a gellir eu talu ar y diwrnod yn y dderbynfa Rhaid i rieni aros gyda’u plant am hyd y sesiwn Anfonwch e-bost at teampawb@wrexham.gov.uk i archebu lle.
URL:https://www.typawb.wales/event/home-ed-garden-club/2026-05-08/?lang=cy
LOCATION:Tŷ Pawb\, Stryd y Farchnad\, Wrecsam\, LL13 8BB
CATEGORIES:Learning,Teuluoedd
ATTACH;FMTTYPE=image/jpeg:https://www.typawb.wales/wp-content/uploads/2026/04/667826560_1572423038221589_8183772078265495608_n.jpg
ORGANIZER;CN="T%C5%B7 Pawb Arts Engagement Team":MAILTO:teampawb@wrexham.gov.uk
END:VEVENT
BEGIN:VEVENT
DTSTART;TZID=Europe/London:20260509T100000
DTEND;TZID=Europe/London:20260509T120000
DTSTAMP:20260420T173224
CREATED:20260420T144152Z
LAST-MODIFIED:20260420T145013Z
UID:10002914-1778320800-1778328000@www.typawb.wales
SUMMARY:Family Art Club!
DESCRIPTION:Mae Clwb Celf Teulu yn dathlu creadigrwydd a chwarae trwy wneud\, peintio a lluniadu ymarferol. Bob wythnos byddwn yn datgelu trysorfa o ddeunyddiau celf\, rhannau rhydd ac ailgylchu wedi'u thema o amgylch ein harddangosfeydd i'w trawsnewid yn unrhyw weithiau celf\, modelau ac ategolion ffasiwn y gallwch chi eu dychmygu!\n\nMae Clwb Celf Teulu yn addas ar gyfer plant o bob oed ac rydym yn annog rhieni\, neiniau a theidiau a gofalwyr i gymryd rhan hefyd - nid clwb celf plant yw hwn\, Clwb Celf Teulu!\n\n- Gwisgwch ddillad na fyddwch chi'n cynhyrfu am fynd yn flêr.\n\n- Rhaid i bob plentyn fod yng nghwmni oedolyn.\n\nArchebu\n\nSesiwn galw heibio yw Clwb Celf Teulu\, ond rydym yn argymell archebu i wneud yn siŵr bod gennych chi le yn ystod cyfnodau prysurach. Cynigir lleoedd yng Nghlwb Celf Teulu ar sail rhodd 'talu'r hyn y gallwch chi'\, fel y gallwch chi ddewis faint i'w dalu yn ôl yr hyn y gall eich teulu ei fforddio. Mae eich rhoddion yn ein cefnogi i ddarparu gwasanaeth celfyddydau hygyrch i deuluoedd lleol.\n\nAelodaeth Clwb Celf Teulu\n\nGallwch brynu pecyn aelodaeth Clwb Celf Teulu o'r dderbynfa am £9.99. Mae'r pecyn hwn yn cynnwys danteithion celfyddydol i'w defnyddio gartref ac yn ein cefnogi i barhau i gynnig gwasanaeth talu-beth-allwch-chi i deuluoedd.
URL:https://www.typawb.wales/event/family-art-club-2/2026-05-09/?lang=cy
LOCATION:Tŷ Pawb\, Stryd y Farchnad\, Wrecsam\, LL13 8BB
CATEGORIES:Learning,Teuluoedd
ATTACH;FMTTYPE=image/jpeg:https://www.typawb.wales/wp-content/uploads/2025/05/Art-Explorers.jpg
ORGANIZER;CN="T%C5%B7 Pawb Arts Engagement Team":MAILTO:teampawb@wrexham.gov.uk
END:VEVENT
BEGIN:VEVENT
DTSTART;TZID=Europe/London:20260515T103000
DTEND;TZID=Europe/London:20260515T120000
DTSTAMP:20260420T173224
CREATED:20250903T125703Z
LAST-MODIFIED:20250903T154757Z
UID:10001846-1778841000-1778846400@www.typawb.wales
SUMMARY:Addysg  Gartref  Clwb Celf
DESCRIPTION:Addysg Gartref Clwb Celf gyda’r artist Sophie Nina \nDydd Gwener 10.30 – 12.00  \nAm ddim\, croeso i roddion.  \nGweithgareddau creadigol ymarferol wythnosol wedi’u hysbrydoli gan ein rhaglen arddangosfeydd ar gyfer teuluoedd Addysg a Dysgu yn y Cartref.  \nCroeso i blant o bob oed. Rhaid i bob plentyn fod yng nghwmni oedolyn. Gwisgwch ar gyfer llanast!  \nCyfranogiad dewisol yn Arts Award Discover. \nE-bostiwch teampawb@wrexham.gov.uk i archebu neu am ragor o wybodaeth.
URL:https://www.typawb.wales/event/home-ed-art-club-2/2026-05-15/?lang=cy
LOCATION:Tŷ Pawb\, Stryd y Farchnad\, Wrecsam\, LL13 8BB
CATEGORIES:Dysgu,Learning,Teuluoedd
ATTACH;FMTTYPE=image/jpeg:https://www.typawb.wales/wp-content/uploads/2025/09/86-P1004009.jpg
ORGANIZER;CN="T%C5%B7 Pawb Arts Engagement Team":MAILTO:teampawb@wrexham.gov.uk
END:VEVENT
BEGIN:VEVENT
DTSTART;TZID=Europe/London:20260516T100000
DTEND;TZID=Europe/London:20260516T120000
DTSTAMP:20260420T173224
CREATED:20260420T144152Z
LAST-MODIFIED:20260420T145013Z
UID:10002915-1778925600-1778932800@www.typawb.wales
SUMMARY:Family Art Club!
DESCRIPTION:Mae Clwb Celf Teulu yn dathlu creadigrwydd a chwarae trwy wneud\, peintio a lluniadu ymarferol. Bob wythnos byddwn yn datgelu trysorfa o ddeunyddiau celf\, rhannau rhydd ac ailgylchu wedi'u thema o amgylch ein harddangosfeydd i'w trawsnewid yn unrhyw weithiau celf\, modelau ac ategolion ffasiwn y gallwch chi eu dychmygu!\n\nMae Clwb Celf Teulu yn addas ar gyfer plant o bob oed ac rydym yn annog rhieni\, neiniau a theidiau a gofalwyr i gymryd rhan hefyd - nid clwb celf plant yw hwn\, Clwb Celf Teulu!\n\n- Gwisgwch ddillad na fyddwch chi'n cynhyrfu am fynd yn flêr.\n\n- Rhaid i bob plentyn fod yng nghwmni oedolyn.\n\nArchebu\n\nSesiwn galw heibio yw Clwb Celf Teulu\, ond rydym yn argymell archebu i wneud yn siŵr bod gennych chi le yn ystod cyfnodau prysurach. Cynigir lleoedd yng Nghlwb Celf Teulu ar sail rhodd 'talu'r hyn y gallwch chi'\, fel y gallwch chi ddewis faint i'w dalu yn ôl yr hyn y gall eich teulu ei fforddio. Mae eich rhoddion yn ein cefnogi i ddarparu gwasanaeth celfyddydau hygyrch i deuluoedd lleol.\n\nAelodaeth Clwb Celf Teulu\n\nGallwch brynu pecyn aelodaeth Clwb Celf Teulu o'r dderbynfa am £9.99. Mae'r pecyn hwn yn cynnwys danteithion celfyddydol i'w defnyddio gartref ac yn ein cefnogi i barhau i gynnig gwasanaeth talu-beth-allwch-chi i deuluoedd.
URL:https://www.typawb.wales/event/family-art-club-2/2026-05-16/?lang=cy
LOCATION:Tŷ Pawb\, Stryd y Farchnad\, Wrecsam\, LL13 8BB
CATEGORIES:Learning,Teuluoedd
ATTACH;FMTTYPE=image/jpeg:https://www.typawb.wales/wp-content/uploads/2025/05/Art-Explorers.jpg
ORGANIZER;CN="T%C5%B7 Pawb Arts Engagement Team":MAILTO:teampawb@wrexham.gov.uk
END:VEVENT
BEGIN:VEVENT
DTSTART;TZID=Europe/London:20260522T140000
DTEND;TZID=Europe/London:20260522T153000
DTSTAMP:20260420T173224
CREATED:20260420T141952Z
LAST-MODIFIED:20260420T143028Z
UID:10002900-1779458400-1779463800@www.typawb.wales
SUMMARY:Clwb Garddio Addysg Gartref
DESCRIPTION:Clwb Garddio Addysg Gartref \n\nBob yn ail ddydd Gwener\, 14:00 – 15:30  \nDyddiadau: 24 Ebrill 8 Mai 22 Mai 5 Mehefin 19 Mehefin 5 Gorffennaf 19 Gorffennaf Seibiant ar gyfer gwyliau’r haf.  \nGwybodaeth Allweddol: Gellir cyrraedd yr ardd ar y to drwy’r giât ar lefel 2a o’r maes parcio. Ewch i’r dderbynfa ar y llawr gwaelod os nad ydych chi’n parcio yn ein maes parcio\, gan y bydd angen aelod o staff arnoch i’ch gadael i fyny’r grisiau drwy’r lifft/grisiau staff yn lle. Rhowch wybod i ni os yw unrhyw un yn eich grŵp yn ddefnyddiwr cadair olwyn / ag anawsterau mynediad gan fod sawl llwybr a allai fod yn addas yn dibynnu ar anghenion. Darperir llyfr log natur Croesewir rhoddion talu-beth-allwch-chi a gellir eu talu ar y diwrnod yn y dderbynfa Rhaid i rieni aros gyda’u plant am hyd y sesiwn Anfonwch e-bost at teampawb@wrexham.gov.uk i archebu lle.
URL:https://www.typawb.wales/event/home-ed-garden-club/2026-05-22/?lang=cy
LOCATION:Tŷ Pawb\, Stryd y Farchnad\, Wrecsam\, LL13 8BB
CATEGORIES:Learning,Teuluoedd
ATTACH;FMTTYPE=image/jpeg:https://www.typawb.wales/wp-content/uploads/2026/04/667826560_1572423038221589_8183772078265495608_n.jpg
ORGANIZER;CN="T%C5%B7 Pawb Arts Engagement Team":MAILTO:teampawb@wrexham.gov.uk
END:VEVENT
BEGIN:VEVENT
DTSTART;TZID=Europe/London:20260529T103000
DTEND;TZID=Europe/London:20260529T120000
DTSTAMP:20260420T173224
CREATED:20250903T125703Z
LAST-MODIFIED:20250903T154757Z
UID:10001848-1780050600-1780056000@www.typawb.wales
SUMMARY:Addysg  Gartref  Clwb Celf
DESCRIPTION:Addysg Gartref Clwb Celf gyda’r artist Sophie Nina \nDydd Gwener 10.30 – 12.00  \nAm ddim\, croeso i roddion.  \nGweithgareddau creadigol ymarferol wythnosol wedi’u hysbrydoli gan ein rhaglen arddangosfeydd ar gyfer teuluoedd Addysg a Dysgu yn y Cartref.  \nCroeso i blant o bob oed. Rhaid i bob plentyn fod yng nghwmni oedolyn. Gwisgwch ar gyfer llanast!  \nCyfranogiad dewisol yn Arts Award Discover. \nE-bostiwch teampawb@wrexham.gov.uk i archebu neu am ragor o wybodaeth.
URL:https://www.typawb.wales/event/home-ed-art-club-2/2026-05-29/?lang=cy
LOCATION:Tŷ Pawb\, Stryd y Farchnad\, Wrecsam\, LL13 8BB
CATEGORIES:Dysgu,Learning,Teuluoedd
ATTACH;FMTTYPE=image/jpeg:https://www.typawb.wales/wp-content/uploads/2025/09/86-P1004009.jpg
ORGANIZER;CN="T%C5%B7 Pawb Arts Engagement Team":MAILTO:teampawb@wrexham.gov.uk
END:VEVENT
END:VCALENDAR