BEGIN:VCALENDAR
VERSION:2.0
PRODID:-//Tŷ Pawb - ECPv6.15.20//NONSGML v1.0//EN
CALSCALE:GREGORIAN
METHOD:PUBLISH
X-WR-CALNAME:Tŷ Pawb
X-ORIGINAL-URL:https://www.typawb.wales/?lang=cy
X-WR-CALDESC:Events for Tŷ Pawb
REFRESH-INTERVAL;VALUE=DURATION:PT1H
X-Robots-Tag:noindex
X-PUBLISHED-TTL:PT1H
BEGIN:VTIMEZONE
TZID:Europe/London
BEGIN:DAYLIGHT
TZOFFSETFROM:+0000
TZOFFSETTO:+0100
TZNAME:BST
DTSTART:20250330T010000
END:DAYLIGHT
BEGIN:STANDARD
TZOFFSETFROM:+0100
TZOFFSETTO:+0000
TZNAME:GMT
DTSTART:20251026T010000
END:STANDARD
BEGIN:DAYLIGHT
TZOFFSETFROM:+0000
TZOFFSETTO:+0100
TZNAME:BST
DTSTART:20260329T010000
END:DAYLIGHT
BEGIN:STANDARD
TZOFFSETFROM:+0100
TZOFFSETTO:+0000
TZNAME:GMT
DTSTART:20261025T010000
END:STANDARD
BEGIN:DAYLIGHT
TZOFFSETFROM:+0000
TZOFFSETTO:+0100
TZNAME:BST
DTSTART:20270328T010000
END:DAYLIGHT
BEGIN:STANDARD
TZOFFSETFROM:+0100
TZOFFSETTO:+0000
TZNAME:GMT
DTSTART:20271031T010000
END:STANDARD
END:VTIMEZONE
BEGIN:VEVENT
DTSTART;TZID=Europe/London:20260501T103000
DTEND;TZID=Europe/London:20260501T120000
DTSTAMP:20260420T064942
CREATED:20250903T125703Z
LAST-MODIFIED:20250903T154757Z
UID:10001844-1777631400-1777636800@www.typawb.wales
SUMMARY:Addysg  Gartref  Clwb Celf
DESCRIPTION:Addysg Gartref Clwb Celf gyda’r artist Sophie Nina \nDydd Gwener 10.30 – 12.00  \nAm ddim\, croeso i roddion.  \nGweithgareddau creadigol ymarferol wythnosol wedi’u hysbrydoli gan ein rhaglen arddangosfeydd ar gyfer teuluoedd Addysg a Dysgu yn y Cartref.  \nCroeso i blant o bob oed. Rhaid i bob plentyn fod yng nghwmni oedolyn. Gwisgwch ar gyfer llanast!  \nCyfranogiad dewisol yn Arts Award Discover. \nE-bostiwch teampawb@wrexham.gov.uk i archebu neu am ragor o wybodaeth.
URL:https://www.typawb.wales/event/home-ed-art-club-2/2026-05-01/?lang=cy
LOCATION:Tŷ Pawb\, Stryd y Farchnad\, Wrecsam\, LL13 8BB
CATEGORIES:Dysgu,Learning,Teuluoedd
ATTACH;FMTTYPE=image/jpeg:https://www.typawb.wales/wp-content/uploads/2025/09/86-P1004009.jpg
ORGANIZER;CN="T%C5%B7 Pawb Arts Engagement Team":MAILTO:teampawb@wrexham.gov.uk
END:VEVENT
BEGIN:VEVENT
DTSTART;TZID=Europe/London:20260515T103000
DTEND;TZID=Europe/London:20260515T120000
DTSTAMP:20260420T064942
CREATED:20250903T125703Z
LAST-MODIFIED:20250903T154757Z
UID:10001846-1778841000-1778846400@www.typawb.wales
SUMMARY:Addysg  Gartref  Clwb Celf
DESCRIPTION:Addysg Gartref Clwb Celf gyda’r artist Sophie Nina \nDydd Gwener 10.30 – 12.00  \nAm ddim\, croeso i roddion.  \nGweithgareddau creadigol ymarferol wythnosol wedi’u hysbrydoli gan ein rhaglen arddangosfeydd ar gyfer teuluoedd Addysg a Dysgu yn y Cartref.  \nCroeso i blant o bob oed. Rhaid i bob plentyn fod yng nghwmni oedolyn. Gwisgwch ar gyfer llanast!  \nCyfranogiad dewisol yn Arts Award Discover. \nE-bostiwch teampawb@wrexham.gov.uk i archebu neu am ragor o wybodaeth.
URL:https://www.typawb.wales/event/home-ed-art-club-2/2026-05-15/?lang=cy
LOCATION:Tŷ Pawb\, Stryd y Farchnad\, Wrecsam\, LL13 8BB
CATEGORIES:Dysgu,Learning,Teuluoedd
ATTACH;FMTTYPE=image/jpeg:https://www.typawb.wales/wp-content/uploads/2025/09/86-P1004009.jpg
ORGANIZER;CN="T%C5%B7 Pawb Arts Engagement Team":MAILTO:teampawb@wrexham.gov.uk
END:VEVENT
BEGIN:VEVENT
DTSTART;TZID=Europe/London:20260529T103000
DTEND;TZID=Europe/London:20260529T120000
DTSTAMP:20260420T064942
CREATED:20250903T125703Z
LAST-MODIFIED:20250903T154757Z
UID:10001848-1780050600-1780056000@www.typawb.wales
SUMMARY:Addysg  Gartref  Clwb Celf
DESCRIPTION:Addysg Gartref Clwb Celf gyda’r artist Sophie Nina \nDydd Gwener 10.30 – 12.00  \nAm ddim\, croeso i roddion.  \nGweithgareddau creadigol ymarferol wythnosol wedi’u hysbrydoli gan ein rhaglen arddangosfeydd ar gyfer teuluoedd Addysg a Dysgu yn y Cartref.  \nCroeso i blant o bob oed. Rhaid i bob plentyn fod yng nghwmni oedolyn. Gwisgwch ar gyfer llanast!  \nCyfranogiad dewisol yn Arts Award Discover. \nE-bostiwch teampawb@wrexham.gov.uk i archebu neu am ragor o wybodaeth.
URL:https://www.typawb.wales/event/home-ed-art-club-2/2026-05-29/?lang=cy
LOCATION:Tŷ Pawb\, Stryd y Farchnad\, Wrecsam\, LL13 8BB
CATEGORIES:Dysgu,Learning,Teuluoedd
ATTACH;FMTTYPE=image/jpeg:https://www.typawb.wales/wp-content/uploads/2025/09/86-P1004009.jpg
ORGANIZER;CN="T%C5%B7 Pawb Arts Engagement Team":MAILTO:teampawb@wrexham.gov.uk
END:VEVENT
BEGIN:VEVENT
DTSTART;TZID=Europe/London:20260612T103000
DTEND;TZID=Europe/London:20260612T120000
DTSTAMP:20260420T064942
CREATED:20250903T125703Z
LAST-MODIFIED:20250903T154757Z
UID:10001850-1781260200-1781265600@www.typawb.wales
SUMMARY:Addysg  Gartref  Clwb Celf
DESCRIPTION:Addysg Gartref Clwb Celf gyda’r artist Sophie Nina \nDydd Gwener 10.30 – 12.00  \nAm ddim\, croeso i roddion.  \nGweithgareddau creadigol ymarferol wythnosol wedi’u hysbrydoli gan ein rhaglen arddangosfeydd ar gyfer teuluoedd Addysg a Dysgu yn y Cartref.  \nCroeso i blant o bob oed. Rhaid i bob plentyn fod yng nghwmni oedolyn. Gwisgwch ar gyfer llanast!  \nCyfranogiad dewisol yn Arts Award Discover. \nE-bostiwch teampawb@wrexham.gov.uk i archebu neu am ragor o wybodaeth.
URL:https://www.typawb.wales/event/home-ed-art-club-2/2026-06-12/?lang=cy
LOCATION:Tŷ Pawb\, Stryd y Farchnad\, Wrecsam\, LL13 8BB
CATEGORIES:Dysgu,Learning,Teuluoedd
ATTACH;FMTTYPE=image/jpeg:https://www.typawb.wales/wp-content/uploads/2025/09/86-P1004009.jpg
ORGANIZER;CN="T%C5%B7 Pawb Arts Engagement Team":MAILTO:teampawb@wrexham.gov.uk
END:VEVENT
BEGIN:VEVENT
DTSTART;TZID=Europe/London:20260619T103000
DTEND;TZID=Europe/London:20260619T120000
DTSTAMP:20260420T064942
CREATED:20250903T125703Z
LAST-MODIFIED:20250903T154757Z
UID:10001851-1781865000-1781870400@www.typawb.wales
SUMMARY:Addysg  Gartref  Clwb Celf
DESCRIPTION:Addysg Gartref Clwb Celf gyda’r artist Sophie Nina \nDydd Gwener 10.30 – 12.00  \nAm ddim\, croeso i roddion.  \nGweithgareddau creadigol ymarferol wythnosol wedi’u hysbrydoli gan ein rhaglen arddangosfeydd ar gyfer teuluoedd Addysg a Dysgu yn y Cartref.  \nCroeso i blant o bob oed. Rhaid i bob plentyn fod yng nghwmni oedolyn. Gwisgwch ar gyfer llanast!  \nCyfranogiad dewisol yn Arts Award Discover. \nE-bostiwch teampawb@wrexham.gov.uk i archebu neu am ragor o wybodaeth.
URL:https://www.typawb.wales/event/home-ed-art-club-2/2026-06-19/?lang=cy
LOCATION:Tŷ Pawb\, Stryd y Farchnad\, Wrecsam\, LL13 8BB
CATEGORIES:Dysgu,Learning,Teuluoedd
ATTACH;FMTTYPE=image/jpeg:https://www.typawb.wales/wp-content/uploads/2025/09/86-P1004009.jpg
ORGANIZER;CN="T%C5%B7 Pawb Arts Engagement Team":MAILTO:teampawb@wrexham.gov.uk
END:VEVENT
BEGIN:VEVENT
DTSTART;TZID=Europe/London:20260626T103000
DTEND;TZID=Europe/London:20260626T120000
DTSTAMP:20260420T064942
CREATED:20250903T125703Z
LAST-MODIFIED:20250903T154757Z
UID:10001852-1782469800-1782475200@www.typawb.wales
SUMMARY:Addysg  Gartref  Clwb Celf
DESCRIPTION:Addysg Gartref Clwb Celf gyda’r artist Sophie Nina \nDydd Gwener 10.30 – 12.00  \nAm ddim\, croeso i roddion.  \nGweithgareddau creadigol ymarferol wythnosol wedi’u hysbrydoli gan ein rhaglen arddangosfeydd ar gyfer teuluoedd Addysg a Dysgu yn y Cartref.  \nCroeso i blant o bob oed. Rhaid i bob plentyn fod yng nghwmni oedolyn. Gwisgwch ar gyfer llanast!  \nCyfranogiad dewisol yn Arts Award Discover. \nE-bostiwch teampawb@wrexham.gov.uk i archebu neu am ragor o wybodaeth.
URL:https://www.typawb.wales/event/home-ed-art-club-2/2026-06-26/?lang=cy
LOCATION:Tŷ Pawb\, Stryd y Farchnad\, Wrecsam\, LL13 8BB
CATEGORIES:Dysgu,Learning,Teuluoedd
ATTACH;FMTTYPE=image/jpeg:https://www.typawb.wales/wp-content/uploads/2025/09/86-P1004009.jpg
ORGANIZER;CN="T%C5%B7 Pawb Arts Engagement Team":MAILTO:teampawb@wrexham.gov.uk
END:VEVENT
BEGIN:VEVENT
DTSTART;TZID=Europe/London:20260703T103000
DTEND;TZID=Europe/London:20260703T120000
DTSTAMP:20260420T064942
CREATED:20250903T125703Z
LAST-MODIFIED:20250903T154757Z
UID:10001853-1783074600-1783080000@www.typawb.wales
SUMMARY:Addysg  Gartref  Clwb Celf
DESCRIPTION:Addysg Gartref Clwb Celf gyda’r artist Sophie Nina \nDydd Gwener 10.30 – 12.00  \nAm ddim\, croeso i roddion.  \nGweithgareddau creadigol ymarferol wythnosol wedi’u hysbrydoli gan ein rhaglen arddangosfeydd ar gyfer teuluoedd Addysg a Dysgu yn y Cartref.  \nCroeso i blant o bob oed. Rhaid i bob plentyn fod yng nghwmni oedolyn. Gwisgwch ar gyfer llanast!  \nCyfranogiad dewisol yn Arts Award Discover. \nE-bostiwch teampawb@wrexham.gov.uk i archebu neu am ragor o wybodaeth.
URL:https://www.typawb.wales/event/home-ed-art-club-2/2026-07-03/?lang=cy
LOCATION:Tŷ Pawb\, Stryd y Farchnad\, Wrecsam\, LL13 8BB
CATEGORIES:Dysgu,Learning,Teuluoedd
ATTACH;FMTTYPE=image/jpeg:https://www.typawb.wales/wp-content/uploads/2025/09/86-P1004009.jpg
ORGANIZER;CN="T%C5%B7 Pawb Arts Engagement Team":MAILTO:teampawb@wrexham.gov.uk
END:VEVENT
BEGIN:VEVENT
DTSTART;TZID=Europe/London:20260710T103000
DTEND;TZID=Europe/London:20260710T120000
DTSTAMP:20260420T064942
CREATED:20250903T125703Z
LAST-MODIFIED:20250903T154757Z
UID:10001854-1783679400-1783684800@www.typawb.wales
SUMMARY:Addysg  Gartref  Clwb Celf
DESCRIPTION:Addysg Gartref Clwb Celf gyda’r artist Sophie Nina \nDydd Gwener 10.30 – 12.00  \nAm ddim\, croeso i roddion.  \nGweithgareddau creadigol ymarferol wythnosol wedi’u hysbrydoli gan ein rhaglen arddangosfeydd ar gyfer teuluoedd Addysg a Dysgu yn y Cartref.  \nCroeso i blant o bob oed. Rhaid i bob plentyn fod yng nghwmni oedolyn. Gwisgwch ar gyfer llanast!  \nCyfranogiad dewisol yn Arts Award Discover. \nE-bostiwch teampawb@wrexham.gov.uk i archebu neu am ragor o wybodaeth.
URL:https://www.typawb.wales/event/home-ed-art-club-2/2026-07-10/?lang=cy
LOCATION:Tŷ Pawb\, Stryd y Farchnad\, Wrecsam\, LL13 8BB
CATEGORIES:Dysgu,Learning,Teuluoedd
ATTACH;FMTTYPE=image/jpeg:https://www.typawb.wales/wp-content/uploads/2025/09/86-P1004009.jpg
ORGANIZER;CN="T%C5%B7 Pawb Arts Engagement Team":MAILTO:teampawb@wrexham.gov.uk
END:VEVENT
BEGIN:VEVENT
DTSTART;TZID=Europe/London:20260717T103000
DTEND;TZID=Europe/London:20260717T120000
DTSTAMP:20260420T064942
CREATED:20250903T125703Z
LAST-MODIFIED:20250903T154757Z
UID:10001855-1784284200-1784289600@www.typawb.wales
SUMMARY:Addysg  Gartref  Clwb Celf
DESCRIPTION:Addysg Gartref Clwb Celf gyda’r artist Sophie Nina \nDydd Gwener 10.30 – 12.00  \nAm ddim\, croeso i roddion.  \nGweithgareddau creadigol ymarferol wythnosol wedi’u hysbrydoli gan ein rhaglen arddangosfeydd ar gyfer teuluoedd Addysg a Dysgu yn y Cartref.  \nCroeso i blant o bob oed. Rhaid i bob plentyn fod yng nghwmni oedolyn. Gwisgwch ar gyfer llanast!  \nCyfranogiad dewisol yn Arts Award Discover. \nE-bostiwch teampawb@wrexham.gov.uk i archebu neu am ragor o wybodaeth.
URL:https://www.typawb.wales/event/home-ed-art-club-2/2026-07-17/?lang=cy
LOCATION:Tŷ Pawb\, Stryd y Farchnad\, Wrecsam\, LL13 8BB
CATEGORIES:Dysgu,Learning,Teuluoedd
ATTACH;FMTTYPE=image/jpeg:https://www.typawb.wales/wp-content/uploads/2025/09/86-P1004009.jpg
ORGANIZER;CN="T%C5%B7 Pawb Arts Engagement Team":MAILTO:teampawb@wrexham.gov.uk
END:VEVENT
END:VCALENDAR