BEGIN:VCALENDAR
VERSION:2.0
PRODID:-//Tŷ Pawb - ECPv6.15.20//NONSGML v1.0//EN
CALSCALE:GREGORIAN
METHOD:PUBLISH
X-ORIGINAL-URL:https://www.typawb.wales/?lang=cy
X-WR-CALDESC:Events for Tŷ Pawb
REFRESH-INTERVAL;VALUE=DURATION:PT1H
X-Robots-Tag:noindex
X-PUBLISHED-TTL:PT1H
BEGIN:VTIMEZONE
TZID:Europe/London
BEGIN:DAYLIGHT
TZOFFSETFROM:+0000
TZOFFSETTO:+0100
TZNAME:BST
DTSTART:20250330T010000
END:DAYLIGHT
BEGIN:STANDARD
TZOFFSETFROM:+0100
TZOFFSETTO:+0000
TZNAME:GMT
DTSTART:20251026T010000
END:STANDARD
BEGIN:DAYLIGHT
TZOFFSETFROM:+0000
TZOFFSETTO:+0100
TZNAME:BST
DTSTART:20260329T010000
END:DAYLIGHT
BEGIN:STANDARD
TZOFFSETFROM:+0100
TZOFFSETTO:+0000
TZNAME:GMT
DTSTART:20261025T010000
END:STANDARD
BEGIN:DAYLIGHT
TZOFFSETFROM:+0000
TZOFFSETTO:+0100
TZNAME:BST
DTSTART:20270328T010000
END:DAYLIGHT
BEGIN:STANDARD
TZOFFSETFROM:+0100
TZOFFSETTO:+0000
TZNAME:GMT
DTSTART:20271031T010000
END:STANDARD
END:VTIMEZONE
BEGIN:VEVENT
DTSTART;TZID=Europe/London:20260421T103000
DTEND;TZID=Europe/London:20260421T120000
DTSTAMP:20260420T043429
CREATED:20260326T140815Z
LAST-MODIFIED:20260326T140926Z
UID:10002653-1776767400-1776772800@www.typawb.wales
SUMMARY:Sesiynau chwarae gwyliau ysgol!
DESCRIPTION:Sesiynau chwarae gwyliau ysgol!\nMawrth 31/03 & 07/04\, 10:30 – 12:00\nGalw Heibio am Ddim!\nWedi’i gyflwyno gan Dîm Chwarae CBSW.\n \nYn fwyaf addas ar gyfer plant 5 oed a hŷn. Rhaid i blant dan 5 oed fod yng nghwmni oedolyn. \nMae angen gwaith papur cyn gollwng plant 5 oed a hŷn.\n  \n. \n 
URL:https://www.typawb.wales/event/school-holiday-play-sessions/2026-04-21/?lang=cy
LOCATION:Tŷ Pawb\, Stryd y Farchnad\, Wrecsam\, LL13 8BB
CATEGORIES:Learning,Teuluoedd
ATTACH;FMTTYPE=image/jpeg:https://www.typawb.wales/wp-content/uploads/2026/03/1-scaled.jpg
END:VEVENT
BEGIN:VEVENT
DTSTART;TZID=Europe/London:20260428T103000
DTEND;TZID=Europe/London:20260428T120000
DTSTAMP:20260420T043429
CREATED:20260326T140815Z
LAST-MODIFIED:20260326T140926Z
UID:10002654-1777372200-1777377600@www.typawb.wales
SUMMARY:Sesiynau chwarae gwyliau ysgol!
DESCRIPTION:Sesiynau chwarae gwyliau ysgol!\nMawrth 31/03 & 07/04\, 10:30 – 12:00\nGalw Heibio am Ddim!\nWedi’i gyflwyno gan Dîm Chwarae CBSW.\n \nYn fwyaf addas ar gyfer plant 5 oed a hŷn. Rhaid i blant dan 5 oed fod yng nghwmni oedolyn. \nMae angen gwaith papur cyn gollwng plant 5 oed a hŷn.\n  \n. \n 
URL:https://www.typawb.wales/event/school-holiday-play-sessions/2026-04-28/?lang=cy
LOCATION:Tŷ Pawb\, Stryd y Farchnad\, Wrecsam\, LL13 8BB
CATEGORIES:Learning,Teuluoedd
ATTACH;FMTTYPE=image/jpeg:https://www.typawb.wales/wp-content/uploads/2026/03/1-scaled.jpg
END:VEVENT
BEGIN:VEVENT
DTSTART;TZID=Europe/London:20260505T103000
DTEND;TZID=Europe/London:20260505T120000
DTSTAMP:20260420T043429
CREATED:20260326T140815Z
LAST-MODIFIED:20260326T140926Z
UID:10002655-1777977000-1777982400@www.typawb.wales
SUMMARY:Sesiynau chwarae gwyliau ysgol!
DESCRIPTION:Sesiynau chwarae gwyliau ysgol!\nMawrth 31/03 & 07/04\, 10:30 – 12:00\nGalw Heibio am Ddim!\nWedi’i gyflwyno gan Dîm Chwarae CBSW.\n \nYn fwyaf addas ar gyfer plant 5 oed a hŷn. Rhaid i blant dan 5 oed fod yng nghwmni oedolyn. \nMae angen gwaith papur cyn gollwng plant 5 oed a hŷn.\n  \n. \n 
URL:https://www.typawb.wales/event/school-holiday-play-sessions/2026-05-05/?lang=cy
LOCATION:Tŷ Pawb\, Stryd y Farchnad\, Wrecsam\, LL13 8BB
CATEGORIES:Learning,Teuluoedd
ATTACH;FMTTYPE=image/jpeg:https://www.typawb.wales/wp-content/uploads/2026/03/1-scaled.jpg
END:VEVENT
BEGIN:VEVENT
DTSTART;TZID=Europe/London:20260512T103000
DTEND;TZID=Europe/London:20260512T120000
DTSTAMP:20260420T043429
CREATED:20260326T140815Z
LAST-MODIFIED:20260326T140926Z
UID:10002656-1778581800-1778587200@www.typawb.wales
SUMMARY:Sesiynau chwarae gwyliau ysgol!
DESCRIPTION:Sesiynau chwarae gwyliau ysgol!\nMawrth 31/03 & 07/04\, 10:30 – 12:00\nGalw Heibio am Ddim!\nWedi’i gyflwyno gan Dîm Chwarae CBSW.\n \nYn fwyaf addas ar gyfer plant 5 oed a hŷn. Rhaid i blant dan 5 oed fod yng nghwmni oedolyn. \nMae angen gwaith papur cyn gollwng plant 5 oed a hŷn.\n  \n. \n 
URL:https://www.typawb.wales/event/school-holiday-play-sessions/2026-05-12/?lang=cy
LOCATION:Tŷ Pawb\, Stryd y Farchnad\, Wrecsam\, LL13 8BB
CATEGORIES:Learning,Teuluoedd
ATTACH;FMTTYPE=image/jpeg:https://www.typawb.wales/wp-content/uploads/2026/03/1-scaled.jpg
END:VEVENT
BEGIN:VEVENT
DTSTART;TZID=Europe/London:20260519T103000
DTEND;TZID=Europe/London:20260519T120000
DTSTAMP:20260420T043429
CREATED:20260326T140815Z
LAST-MODIFIED:20260326T140926Z
UID:10002657-1779186600-1779192000@www.typawb.wales
SUMMARY:Sesiynau chwarae gwyliau ysgol!
DESCRIPTION:Sesiynau chwarae gwyliau ysgol!\nMawrth 31/03 & 07/04\, 10:30 – 12:00\nGalw Heibio am Ddim!\nWedi’i gyflwyno gan Dîm Chwarae CBSW.\n \nYn fwyaf addas ar gyfer plant 5 oed a hŷn. Rhaid i blant dan 5 oed fod yng nghwmni oedolyn. \nMae angen gwaith papur cyn gollwng plant 5 oed a hŷn.\n  \n. \n 
URL:https://www.typawb.wales/event/school-holiday-play-sessions/2026-05-19/?lang=cy
LOCATION:Tŷ Pawb\, Stryd y Farchnad\, Wrecsam\, LL13 8BB
CATEGORIES:Learning,Teuluoedd
ATTACH;FMTTYPE=image/jpeg:https://www.typawb.wales/wp-content/uploads/2026/03/1-scaled.jpg
END:VEVENT
BEGIN:VEVENT
DTSTART;TZID=Europe/London:20260526T103000
DTEND;TZID=Europe/London:20260526T120000
DTSTAMP:20260420T043429
CREATED:20260326T140815Z
LAST-MODIFIED:20260326T140926Z
UID:10002658-1779791400-1779796800@www.typawb.wales
SUMMARY:Sesiynau chwarae gwyliau ysgol!
DESCRIPTION:Sesiynau chwarae gwyliau ysgol!\nMawrth 31/03 & 07/04\, 10:30 – 12:00\nGalw Heibio am Ddim!\nWedi’i gyflwyno gan Dîm Chwarae CBSW.\n \nYn fwyaf addas ar gyfer plant 5 oed a hŷn. Rhaid i blant dan 5 oed fod yng nghwmni oedolyn. \nMae angen gwaith papur cyn gollwng plant 5 oed a hŷn.\n  \n. \n 
URL:https://www.typawb.wales/event/school-holiday-play-sessions/2026-05-26/?lang=cy
LOCATION:Tŷ Pawb\, Stryd y Farchnad\, Wrecsam\, LL13 8BB
CATEGORIES:Learning,Teuluoedd
ATTACH;FMTTYPE=image/jpeg:https://www.typawb.wales/wp-content/uploads/2026/03/1-scaled.jpg
END:VEVENT
BEGIN:VEVENT
DTSTART;TZID=Europe/London:20260602T103000
DTEND;TZID=Europe/London:20260602T120000
DTSTAMP:20260420T043429
CREATED:20260326T140815Z
LAST-MODIFIED:20260326T140926Z
UID:10002659-1780396200-1780401600@www.typawb.wales
SUMMARY:Sesiynau chwarae gwyliau ysgol!
DESCRIPTION:Sesiynau chwarae gwyliau ysgol!\nMawrth 31/03 & 07/04\, 10:30 – 12:00\nGalw Heibio am Ddim!\nWedi’i gyflwyno gan Dîm Chwarae CBSW.\n \nYn fwyaf addas ar gyfer plant 5 oed a hŷn. Rhaid i blant dan 5 oed fod yng nghwmni oedolyn. \nMae angen gwaith papur cyn gollwng plant 5 oed a hŷn.\n  \n. \n 
URL:https://www.typawb.wales/event/school-holiday-play-sessions/2026-06-02/?lang=cy
LOCATION:Tŷ Pawb\, Stryd y Farchnad\, Wrecsam\, LL13 8BB
CATEGORIES:Learning,Teuluoedd
ATTACH;FMTTYPE=image/jpeg:https://www.typawb.wales/wp-content/uploads/2026/03/1-scaled.jpg
END:VEVENT
BEGIN:VEVENT
DTSTART;TZID=Europe/London:20260609T103000
DTEND;TZID=Europe/London:20260609T120000
DTSTAMP:20260420T043429
CREATED:20260326T140815Z
LAST-MODIFIED:20260326T140926Z
UID:10002660-1781001000-1781006400@www.typawb.wales
SUMMARY:Sesiynau chwarae gwyliau ysgol!
DESCRIPTION:Sesiynau chwarae gwyliau ysgol!\nMawrth 31/03 & 07/04\, 10:30 – 12:00\nGalw Heibio am Ddim!\nWedi’i gyflwyno gan Dîm Chwarae CBSW.\n \nYn fwyaf addas ar gyfer plant 5 oed a hŷn. Rhaid i blant dan 5 oed fod yng nghwmni oedolyn. \nMae angen gwaith papur cyn gollwng plant 5 oed a hŷn.\n  \n. \n 
URL:https://www.typawb.wales/event/school-holiday-play-sessions/2026-06-09/?lang=cy
LOCATION:Tŷ Pawb\, Stryd y Farchnad\, Wrecsam\, LL13 8BB
CATEGORIES:Learning,Teuluoedd
ATTACH;FMTTYPE=image/jpeg:https://www.typawb.wales/wp-content/uploads/2026/03/1-scaled.jpg
END:VEVENT
BEGIN:VEVENT
DTSTART;TZID=Europe/London:20260616T103000
DTEND;TZID=Europe/London:20260616T120000
DTSTAMP:20260420T043429
CREATED:20260326T140815Z
LAST-MODIFIED:20260326T140926Z
UID:10002661-1781605800-1781611200@www.typawb.wales
SUMMARY:Sesiynau chwarae gwyliau ysgol!
DESCRIPTION:Sesiynau chwarae gwyliau ysgol!\nMawrth 31/03 & 07/04\, 10:30 – 12:00\nGalw Heibio am Ddim!\nWedi’i gyflwyno gan Dîm Chwarae CBSW.\n \nYn fwyaf addas ar gyfer plant 5 oed a hŷn. Rhaid i blant dan 5 oed fod yng nghwmni oedolyn. \nMae angen gwaith papur cyn gollwng plant 5 oed a hŷn.\n  \n. \n 
URL:https://www.typawb.wales/event/school-holiday-play-sessions/2026-06-16/?lang=cy
LOCATION:Tŷ Pawb\, Stryd y Farchnad\, Wrecsam\, LL13 8BB
CATEGORIES:Learning,Teuluoedd
ATTACH;FMTTYPE=image/jpeg:https://www.typawb.wales/wp-content/uploads/2026/03/1-scaled.jpg
END:VEVENT
BEGIN:VEVENT
DTSTART;TZID=Europe/London:20260623T103000
DTEND;TZID=Europe/London:20260623T120000
DTSTAMP:20260420T043429
CREATED:20260326T140815Z
LAST-MODIFIED:20260326T140926Z
UID:10002662-1782210600-1782216000@www.typawb.wales
SUMMARY:Sesiynau chwarae gwyliau ysgol!
DESCRIPTION:Sesiynau chwarae gwyliau ysgol!\nMawrth 31/03 & 07/04\, 10:30 – 12:00\nGalw Heibio am Ddim!\nWedi’i gyflwyno gan Dîm Chwarae CBSW.\n \nYn fwyaf addas ar gyfer plant 5 oed a hŷn. Rhaid i blant dan 5 oed fod yng nghwmni oedolyn. \nMae angen gwaith papur cyn gollwng plant 5 oed a hŷn.\n  \n. \n 
URL:https://www.typawb.wales/event/school-holiday-play-sessions/2026-06-23/?lang=cy
LOCATION:Tŷ Pawb\, Stryd y Farchnad\, Wrecsam\, LL13 8BB
CATEGORIES:Learning,Teuluoedd
ATTACH;FMTTYPE=image/jpeg:https://www.typawb.wales/wp-content/uploads/2026/03/1-scaled.jpg
END:VEVENT
BEGIN:VEVENT
DTSTART;TZID=Europe/London:20260630T103000
DTEND;TZID=Europe/London:20260630T120000
DTSTAMP:20260420T043429
CREATED:20260326T140815Z
LAST-MODIFIED:20260326T140926Z
UID:10002663-1782815400-1782820800@www.typawb.wales
SUMMARY:Sesiynau chwarae gwyliau ysgol!
DESCRIPTION:Sesiynau chwarae gwyliau ysgol!\nMawrth 31/03 & 07/04\, 10:30 – 12:00\nGalw Heibio am Ddim!\nWedi’i gyflwyno gan Dîm Chwarae CBSW.\n \nYn fwyaf addas ar gyfer plant 5 oed a hŷn. Rhaid i blant dan 5 oed fod yng nghwmni oedolyn. \nMae angen gwaith papur cyn gollwng plant 5 oed a hŷn.\n  \n. \n 
URL:https://www.typawb.wales/event/school-holiday-play-sessions/2026-06-30/?lang=cy
LOCATION:Tŷ Pawb\, Stryd y Farchnad\, Wrecsam\, LL13 8BB
CATEGORIES:Learning,Teuluoedd
ATTACH;FMTTYPE=image/jpeg:https://www.typawb.wales/wp-content/uploads/2026/03/1-scaled.jpg
END:VEVENT
BEGIN:VEVENT
DTSTART;TZID=Europe/London:20260707T103000
DTEND;TZID=Europe/London:20260707T120000
DTSTAMP:20260420T043429
CREATED:20260326T140815Z
LAST-MODIFIED:20260326T140926Z
UID:10002664-1783420200-1783425600@www.typawb.wales
SUMMARY:Sesiynau chwarae gwyliau ysgol!
DESCRIPTION:Sesiynau chwarae gwyliau ysgol!\nMawrth 31/03 & 07/04\, 10:30 – 12:00\nGalw Heibio am Ddim!\nWedi’i gyflwyno gan Dîm Chwarae CBSW.\n \nYn fwyaf addas ar gyfer plant 5 oed a hŷn. Rhaid i blant dan 5 oed fod yng nghwmni oedolyn. \nMae angen gwaith papur cyn gollwng plant 5 oed a hŷn.\n  \n. \n 
URL:https://www.typawb.wales/event/school-holiday-play-sessions/2026-07-07/?lang=cy
LOCATION:Tŷ Pawb\, Stryd y Farchnad\, Wrecsam\, LL13 8BB
CATEGORIES:Learning,Teuluoedd
ATTACH;FMTTYPE=image/jpeg:https://www.typawb.wales/wp-content/uploads/2026/03/1-scaled.jpg
END:VEVENT
BEGIN:VEVENT
DTSTART;TZID=Europe/London:20260714T103000
DTEND;TZID=Europe/London:20260714T120000
DTSTAMP:20260420T043429
CREATED:20260326T140815Z
LAST-MODIFIED:20260326T140926Z
UID:10002665-1784025000-1784030400@www.typawb.wales
SUMMARY:Sesiynau chwarae gwyliau ysgol!
DESCRIPTION:Sesiynau chwarae gwyliau ysgol!\nMawrth 31/03 & 07/04\, 10:30 – 12:00\nGalw Heibio am Ddim!\nWedi’i gyflwyno gan Dîm Chwarae CBSW.\n \nYn fwyaf addas ar gyfer plant 5 oed a hŷn. Rhaid i blant dan 5 oed fod yng nghwmni oedolyn. \nMae angen gwaith papur cyn gollwng plant 5 oed a hŷn.\n  \n. \n 
URL:https://www.typawb.wales/event/school-holiday-play-sessions/2026-07-14/?lang=cy
LOCATION:Tŷ Pawb\, Stryd y Farchnad\, Wrecsam\, LL13 8BB
CATEGORIES:Learning,Teuluoedd
ATTACH;FMTTYPE=image/jpeg:https://www.typawb.wales/wp-content/uploads/2026/03/1-scaled.jpg
END:VEVENT
BEGIN:VEVENT
DTSTART;TZID=Europe/London:20260721T103000
DTEND;TZID=Europe/London:20260721T120000
DTSTAMP:20260420T043429
CREATED:20260326T140815Z
LAST-MODIFIED:20260326T140926Z
UID:10002666-1784629800-1784635200@www.typawb.wales
SUMMARY:Sesiynau chwarae gwyliau ysgol!
DESCRIPTION:Sesiynau chwarae gwyliau ysgol!\nMawrth 31/03 & 07/04\, 10:30 – 12:00\nGalw Heibio am Ddim!\nWedi’i gyflwyno gan Dîm Chwarae CBSW.\n \nYn fwyaf addas ar gyfer plant 5 oed a hŷn. Rhaid i blant dan 5 oed fod yng nghwmni oedolyn. \nMae angen gwaith papur cyn gollwng plant 5 oed a hŷn.\n  \n. \n 
URL:https://www.typawb.wales/event/school-holiday-play-sessions/2026-07-21/?lang=cy
LOCATION:Tŷ Pawb\, Stryd y Farchnad\, Wrecsam\, LL13 8BB
CATEGORIES:Learning,Teuluoedd
ATTACH;FMTTYPE=image/jpeg:https://www.typawb.wales/wp-content/uploads/2026/03/1-scaled.jpg
END:VEVENT
BEGIN:VEVENT
DTSTART;TZID=Europe/London:20260728T103000
DTEND;TZID=Europe/London:20260728T120000
DTSTAMP:20260420T043429
CREATED:20260326T140815Z
LAST-MODIFIED:20260326T140926Z
UID:10002667-1785234600-1785240000@www.typawb.wales
SUMMARY:Sesiynau chwarae gwyliau ysgol!
DESCRIPTION:Sesiynau chwarae gwyliau ysgol!\nMawrth 31/03 & 07/04\, 10:30 – 12:00\nGalw Heibio am Ddim!\nWedi’i gyflwyno gan Dîm Chwarae CBSW.\n \nYn fwyaf addas ar gyfer plant 5 oed a hŷn. Rhaid i blant dan 5 oed fod yng nghwmni oedolyn. \nMae angen gwaith papur cyn gollwng plant 5 oed a hŷn.\n  \n. \n 
URL:https://www.typawb.wales/event/school-holiday-play-sessions/2026-07-28/?lang=cy
LOCATION:Tŷ Pawb\, Stryd y Farchnad\, Wrecsam\, LL13 8BB
CATEGORIES:Learning,Teuluoedd
ATTACH;FMTTYPE=image/jpeg:https://www.typawb.wales/wp-content/uploads/2026/03/1-scaled.jpg
END:VEVENT
BEGIN:VEVENT
DTSTART;TZID=Europe/London:20260804T103000
DTEND;TZID=Europe/London:20260804T120000
DTSTAMP:20260420T043429
CREATED:20260326T140815Z
LAST-MODIFIED:20260326T140926Z
UID:10002668-1785839400-1785844800@www.typawb.wales
SUMMARY:Sesiynau chwarae gwyliau ysgol!
DESCRIPTION:Sesiynau chwarae gwyliau ysgol!\nMawrth 31/03 & 07/04\, 10:30 – 12:00\nGalw Heibio am Ddim!\nWedi’i gyflwyno gan Dîm Chwarae CBSW.\n \nYn fwyaf addas ar gyfer plant 5 oed a hŷn. Rhaid i blant dan 5 oed fod yng nghwmni oedolyn. \nMae angen gwaith papur cyn gollwng plant 5 oed a hŷn.\n  \n. \n 
URL:https://www.typawb.wales/event/school-holiday-play-sessions/2026-08-04/?lang=cy
LOCATION:Tŷ Pawb\, Stryd y Farchnad\, Wrecsam\, LL13 8BB
CATEGORIES:Learning,Teuluoedd
ATTACH;FMTTYPE=image/jpeg:https://www.typawb.wales/wp-content/uploads/2026/03/1-scaled.jpg
END:VEVENT
BEGIN:VEVENT
DTSTART;TZID=Europe/London:20260811T103000
DTEND;TZID=Europe/London:20260811T120000
DTSTAMP:20260420T043429
CREATED:20260326T140815Z
LAST-MODIFIED:20260326T140926Z
UID:10002669-1786444200-1786449600@www.typawb.wales
SUMMARY:Sesiynau chwarae gwyliau ysgol!
DESCRIPTION:Sesiynau chwarae gwyliau ysgol!\nMawrth 31/03 & 07/04\, 10:30 – 12:00\nGalw Heibio am Ddim!\nWedi’i gyflwyno gan Dîm Chwarae CBSW.\n \nYn fwyaf addas ar gyfer plant 5 oed a hŷn. Rhaid i blant dan 5 oed fod yng nghwmni oedolyn. \nMae angen gwaith papur cyn gollwng plant 5 oed a hŷn.\n  \n. \n 
URL:https://www.typawb.wales/event/school-holiday-play-sessions/2026-08-11/?lang=cy
LOCATION:Tŷ Pawb\, Stryd y Farchnad\, Wrecsam\, LL13 8BB
CATEGORIES:Learning,Teuluoedd
ATTACH;FMTTYPE=image/jpeg:https://www.typawb.wales/wp-content/uploads/2026/03/1-scaled.jpg
END:VEVENT
BEGIN:VEVENT
DTSTART;TZID=Europe/London:20260818T103000
DTEND;TZID=Europe/London:20260818T120000
DTSTAMP:20260420T043429
CREATED:20260326T140815Z
LAST-MODIFIED:20260326T140926Z
UID:10002670-1787049000-1787054400@www.typawb.wales
SUMMARY:Sesiynau chwarae gwyliau ysgol!
DESCRIPTION:Sesiynau chwarae gwyliau ysgol!\nMawrth 31/03 & 07/04\, 10:30 – 12:00\nGalw Heibio am Ddim!\nWedi’i gyflwyno gan Dîm Chwarae CBSW.\n \nYn fwyaf addas ar gyfer plant 5 oed a hŷn. Rhaid i blant dan 5 oed fod yng nghwmni oedolyn. \nMae angen gwaith papur cyn gollwng plant 5 oed a hŷn.\n  \n. \n 
URL:https://www.typawb.wales/event/school-holiday-play-sessions/2026-08-18/?lang=cy
LOCATION:Tŷ Pawb\, Stryd y Farchnad\, Wrecsam\, LL13 8BB
CATEGORIES:Learning,Teuluoedd
ATTACH;FMTTYPE=image/jpeg:https://www.typawb.wales/wp-content/uploads/2026/03/1-scaled.jpg
END:VEVENT
BEGIN:VEVENT
DTSTART;TZID=Europe/London:20260825T103000
DTEND;TZID=Europe/London:20260825T120000
DTSTAMP:20260420T043429
CREATED:20260326T140815Z
LAST-MODIFIED:20260326T140926Z
UID:10002671-1787653800-1787659200@www.typawb.wales
SUMMARY:Sesiynau chwarae gwyliau ysgol!
DESCRIPTION:Sesiynau chwarae gwyliau ysgol!\nMawrth 31/03 & 07/04\, 10:30 – 12:00\nGalw Heibio am Ddim!\nWedi’i gyflwyno gan Dîm Chwarae CBSW.\n \nYn fwyaf addas ar gyfer plant 5 oed a hŷn. Rhaid i blant dan 5 oed fod yng nghwmni oedolyn. \nMae angen gwaith papur cyn gollwng plant 5 oed a hŷn.\n  \n. \n 
URL:https://www.typawb.wales/event/school-holiday-play-sessions/2026-08-25/?lang=cy
LOCATION:Tŷ Pawb\, Stryd y Farchnad\, Wrecsam\, LL13 8BB
CATEGORIES:Learning,Teuluoedd
ATTACH;FMTTYPE=image/jpeg:https://www.typawb.wales/wp-content/uploads/2026/03/1-scaled.jpg
END:VEVENT
BEGIN:VEVENT
DTSTART;TZID=Europe/London:20260901T103000
DTEND;TZID=Europe/London:20260901T120000
DTSTAMP:20260420T043429
CREATED:20260326T140815Z
LAST-MODIFIED:20260326T140926Z
UID:10002672-1788258600-1788264000@www.typawb.wales
SUMMARY:Sesiynau chwarae gwyliau ysgol!
DESCRIPTION:Sesiynau chwarae gwyliau ysgol!\nMawrth 31/03 & 07/04\, 10:30 – 12:00\nGalw Heibio am Ddim!\nWedi’i gyflwyno gan Dîm Chwarae CBSW.\n \nYn fwyaf addas ar gyfer plant 5 oed a hŷn. Rhaid i blant dan 5 oed fod yng nghwmni oedolyn. \nMae angen gwaith papur cyn gollwng plant 5 oed a hŷn.\n  \n. \n 
URL:https://www.typawb.wales/event/school-holiday-play-sessions/2026-09-01/?lang=cy
LOCATION:Tŷ Pawb\, Stryd y Farchnad\, Wrecsam\, LL13 8BB
CATEGORIES:Learning,Teuluoedd
ATTACH;FMTTYPE=image/jpeg:https://www.typawb.wales/wp-content/uploads/2026/03/1-scaled.jpg
END:VEVENT
BEGIN:VEVENT
DTSTART;TZID=Europe/London:20260908T103000
DTEND;TZID=Europe/London:20260908T120000
DTSTAMP:20260420T043429
CREATED:20260326T140815Z
LAST-MODIFIED:20260326T140926Z
UID:10002673-1788863400-1788868800@www.typawb.wales
SUMMARY:Sesiynau chwarae gwyliau ysgol!
DESCRIPTION:Sesiynau chwarae gwyliau ysgol!\nMawrth 31/03 & 07/04\, 10:30 – 12:00\nGalw Heibio am Ddim!\nWedi’i gyflwyno gan Dîm Chwarae CBSW.\n \nYn fwyaf addas ar gyfer plant 5 oed a hŷn. Rhaid i blant dan 5 oed fod yng nghwmni oedolyn. \nMae angen gwaith papur cyn gollwng plant 5 oed a hŷn.\n  \n. \n 
URL:https://www.typawb.wales/event/school-holiday-play-sessions/2026-09-08/?lang=cy
LOCATION:Tŷ Pawb\, Stryd y Farchnad\, Wrecsam\, LL13 8BB
CATEGORIES:Learning,Teuluoedd
ATTACH;FMTTYPE=image/jpeg:https://www.typawb.wales/wp-content/uploads/2026/03/1-scaled.jpg
END:VEVENT
BEGIN:VEVENT
DTSTART;TZID=Europe/London:20260915T103000
DTEND;TZID=Europe/London:20260915T120000
DTSTAMP:20260420T043429
CREATED:20260326T140815Z
LAST-MODIFIED:20260326T140926Z
UID:10002674-1789468200-1789473600@www.typawb.wales
SUMMARY:Sesiynau chwarae gwyliau ysgol!
DESCRIPTION:Sesiynau chwarae gwyliau ysgol!\nMawrth 31/03 & 07/04\, 10:30 – 12:00\nGalw Heibio am Ddim!\nWedi’i gyflwyno gan Dîm Chwarae CBSW.\n \nYn fwyaf addas ar gyfer plant 5 oed a hŷn. Rhaid i blant dan 5 oed fod yng nghwmni oedolyn. \nMae angen gwaith papur cyn gollwng plant 5 oed a hŷn.\n  \n. \n 
URL:https://www.typawb.wales/event/school-holiday-play-sessions/2026-09-15/?lang=cy
LOCATION:Tŷ Pawb\, Stryd y Farchnad\, Wrecsam\, LL13 8BB
CATEGORIES:Learning,Teuluoedd
ATTACH;FMTTYPE=image/jpeg:https://www.typawb.wales/wp-content/uploads/2026/03/1-scaled.jpg
END:VEVENT
BEGIN:VEVENT
DTSTART;TZID=Europe/London:20260922T103000
DTEND;TZID=Europe/London:20260922T120000
DTSTAMP:20260420T043429
CREATED:20260326T140815Z
LAST-MODIFIED:20260326T140926Z
UID:10002675-1790073000-1790078400@www.typawb.wales
SUMMARY:Sesiynau chwarae gwyliau ysgol!
DESCRIPTION:Sesiynau chwarae gwyliau ysgol!\nMawrth 31/03 & 07/04\, 10:30 – 12:00\nGalw Heibio am Ddim!\nWedi’i gyflwyno gan Dîm Chwarae CBSW.\n \nYn fwyaf addas ar gyfer plant 5 oed a hŷn. Rhaid i blant dan 5 oed fod yng nghwmni oedolyn. \nMae angen gwaith papur cyn gollwng plant 5 oed a hŷn.\n  \n. \n 
URL:https://www.typawb.wales/event/school-holiday-play-sessions/2026-09-22/?lang=cy
LOCATION:Tŷ Pawb\, Stryd y Farchnad\, Wrecsam\, LL13 8BB
CATEGORIES:Learning,Teuluoedd
ATTACH;FMTTYPE=image/jpeg:https://www.typawb.wales/wp-content/uploads/2026/03/1-scaled.jpg
END:VEVENT
BEGIN:VEVENT
DTSTART;TZID=Europe/London:20260929T103000
DTEND;TZID=Europe/London:20260929T120000
DTSTAMP:20260420T043429
CREATED:20260326T140815Z
LAST-MODIFIED:20260326T140926Z
UID:10002676-1790677800-1790683200@www.typawb.wales
SUMMARY:Sesiynau chwarae gwyliau ysgol!
DESCRIPTION:Sesiynau chwarae gwyliau ysgol!\nMawrth 31/03 & 07/04\, 10:30 – 12:00\nGalw Heibio am Ddim!\nWedi’i gyflwyno gan Dîm Chwarae CBSW.\n \nYn fwyaf addas ar gyfer plant 5 oed a hŷn. Rhaid i blant dan 5 oed fod yng nghwmni oedolyn. \nMae angen gwaith papur cyn gollwng plant 5 oed a hŷn.\n  \n. \n 
URL:https://www.typawb.wales/event/school-holiday-play-sessions/2026-09-29/?lang=cy
LOCATION:Tŷ Pawb\, Stryd y Farchnad\, Wrecsam\, LL13 8BB
CATEGORIES:Learning,Teuluoedd
ATTACH;FMTTYPE=image/jpeg:https://www.typawb.wales/wp-content/uploads/2026/03/1-scaled.jpg
END:VEVENT
BEGIN:VEVENT
DTSTART;TZID=Europe/London:20261006T103000
DTEND;TZID=Europe/London:20261006T120000
DTSTAMP:20260420T043429
CREATED:20260326T140815Z
LAST-MODIFIED:20260326T140926Z
UID:10002677-1791282600-1791288000@www.typawb.wales
SUMMARY:Sesiynau chwarae gwyliau ysgol!
DESCRIPTION:Sesiynau chwarae gwyliau ysgol!\nMawrth 31/03 & 07/04\, 10:30 – 12:00\nGalw Heibio am Ddim!\nWedi’i gyflwyno gan Dîm Chwarae CBSW.\n \nYn fwyaf addas ar gyfer plant 5 oed a hŷn. Rhaid i blant dan 5 oed fod yng nghwmni oedolyn. \nMae angen gwaith papur cyn gollwng plant 5 oed a hŷn.\n  \n. \n 
URL:https://www.typawb.wales/event/school-holiday-play-sessions/2026-10-06/?lang=cy
LOCATION:Tŷ Pawb\, Stryd y Farchnad\, Wrecsam\, LL13 8BB
CATEGORIES:Learning,Teuluoedd
ATTACH;FMTTYPE=image/jpeg:https://www.typawb.wales/wp-content/uploads/2026/03/1-scaled.jpg
END:VEVENT
BEGIN:VEVENT
DTSTART;TZID=Europe/London:20261013T103000
DTEND;TZID=Europe/London:20261013T120000
DTSTAMP:20260420T043429
CREATED:20260326T140815Z
LAST-MODIFIED:20260326T140926Z
UID:10002678-1791887400-1791892800@www.typawb.wales
SUMMARY:Sesiynau chwarae gwyliau ysgol!
DESCRIPTION:Sesiynau chwarae gwyliau ysgol!\nMawrth 31/03 & 07/04\, 10:30 – 12:00\nGalw Heibio am Ddim!\nWedi’i gyflwyno gan Dîm Chwarae CBSW.\n \nYn fwyaf addas ar gyfer plant 5 oed a hŷn. Rhaid i blant dan 5 oed fod yng nghwmni oedolyn. \nMae angen gwaith papur cyn gollwng plant 5 oed a hŷn.\n  \n. \n 
URL:https://www.typawb.wales/event/school-holiday-play-sessions/2026-10-13/?lang=cy
LOCATION:Tŷ Pawb\, Stryd y Farchnad\, Wrecsam\, LL13 8BB
CATEGORIES:Learning,Teuluoedd
ATTACH;FMTTYPE=image/jpeg:https://www.typawb.wales/wp-content/uploads/2026/03/1-scaled.jpg
END:VEVENT
BEGIN:VEVENT
DTSTART;TZID=Europe/London:20261020T103000
DTEND;TZID=Europe/London:20261020T120000
DTSTAMP:20260420T043429
CREATED:20260326T140815Z
LAST-MODIFIED:20260326T140926Z
UID:10002679-1792492200-1792497600@www.typawb.wales
SUMMARY:Sesiynau chwarae gwyliau ysgol!
DESCRIPTION:Sesiynau chwarae gwyliau ysgol!\nMawrth 31/03 & 07/04\, 10:30 – 12:00\nGalw Heibio am Ddim!\nWedi’i gyflwyno gan Dîm Chwarae CBSW.\n \nYn fwyaf addas ar gyfer plant 5 oed a hŷn. Rhaid i blant dan 5 oed fod yng nghwmni oedolyn. \nMae angen gwaith papur cyn gollwng plant 5 oed a hŷn.\n  \n. \n 
URL:https://www.typawb.wales/event/school-holiday-play-sessions/2026-10-20/?lang=cy
LOCATION:Tŷ Pawb\, Stryd y Farchnad\, Wrecsam\, LL13 8BB
CATEGORIES:Learning,Teuluoedd
ATTACH;FMTTYPE=image/jpeg:https://www.typawb.wales/wp-content/uploads/2026/03/1-scaled.jpg
END:VEVENT
END:VCALENDAR