BEGIN:VCALENDAR
VERSION:2.0
PRODID:-//Tŷ Pawb - ECPv6.15.20//NONSGML v1.0//EN
CALSCALE:GREGORIAN
METHOD:PUBLISH
X-ORIGINAL-URL:https://www.typawb.wales
X-WR-CALDESC:Events for Tŷ Pawb
REFRESH-INTERVAL;VALUE=DURATION:PT1H
X-Robots-Tag:noindex
X-PUBLISHED-TTL:PT1H
BEGIN:VTIMEZONE
TZID:Europe/London
BEGIN:DAYLIGHT
TZOFFSETFROM:+0000
TZOFFSETTO:+0100
TZNAME:BST
DTSTART:20250330T010000
END:DAYLIGHT
BEGIN:STANDARD
TZOFFSETFROM:+0100
TZOFFSETTO:+0000
TZNAME:GMT
DTSTART:20251026T010000
END:STANDARD
BEGIN:DAYLIGHT
TZOFFSETFROM:+0000
TZOFFSETTO:+0100
TZNAME:BST
DTSTART:20260329T010000
END:DAYLIGHT
BEGIN:STANDARD
TZOFFSETFROM:+0100
TZOFFSETTO:+0000
TZNAME:GMT
DTSTART:20261025T010000
END:STANDARD
BEGIN:DAYLIGHT
TZOFFSETFROM:+0000
TZOFFSETTO:+0100
TZNAME:BST
DTSTART:20270328T010000
END:DAYLIGHT
BEGIN:STANDARD
TZOFFSETFROM:+0100
TZOFFSETTO:+0000
TZNAME:GMT
DTSTART:20271031T010000
END:STANDARD
END:VTIMEZONE
BEGIN:VEVENT
DTSTART;TZID=Europe/London:20260123T120000
DTEND;TZID=Europe/London:20260123T130000
DTSTAMP:20260420T093708
CREATED:20260109T135422Z
LAST-MODIFIED:20260109T135422Z
UID:10002389-1769169600-1769173200@www.typawb.wales
SUMMARY:Lend & Mend: Christmas Card to Gift Tag Upcycling Workshop
DESCRIPTION:Repurpose old Christmas cards by using our tools to turn them into gift tags to use next Christmas. \nSave money and reuse materials that may not be recyclable. Tools are provided\, please bring along cards you might otherwise dispose of. \nSpaces limited. \nBOOK ONLINE VIA EVENTBRITE
URL:https://www.typawb.wales/event/lend-mend-christmas-card-to-gift-tag-upcycling-workshop/2026-01-23/1/
LOCATION:Tŷ Pawb\, Market Street\, Wrexham\, LL13 8BB
CATEGORIES:Events
END:VEVENT
BEGIN:VEVENT
DTSTART;TZID=Europe/London:20260123T133000
DTEND;TZID=Europe/London:20260123T143000
DTSTAMP:20260420T093708
CREATED:20260109T135422Z
LAST-MODIFIED:20260109T135422Z
UID:10002390-1769175000-1769178600@www.typawb.wales
SUMMARY:Lend & Mend: Christmas Card to Gift Tag Upcycling Workshop
DESCRIPTION:Repurpose old Christmas cards by using our tools to turn them into gift tags to use next Christmas. \nSave money and reuse materials that may not be recyclable. Tools are provided\, please bring along cards you might otherwise dispose of. \nSpaces limited. \nBOOK ONLINE VIA EVENTBRITE
URL:https://www.typawb.wales/event/lend-mend-christmas-card-to-gift-tag-upcycling-workshop/2026-01-23/2/
LOCATION:Tŷ Pawb\, Market Street\, Wrexham\, LL13 8BB
CATEGORIES:Events
END:VEVENT
END:VCALENDAR