BEGIN:VCALENDAR
VERSION:2.0
PRODID:-//Tŷ Pawb - ECPv6.15.20//NONSGML v1.0//EN
CALSCALE:GREGORIAN
METHOD:PUBLISH
X-WR-CALNAME:Tŷ Pawb
X-ORIGINAL-URL:https://www.typawb.wales
X-WR-CALDESC:Events for Tŷ Pawb
REFRESH-INTERVAL;VALUE=DURATION:PT1H
X-Robots-Tag:noindex
X-PUBLISHED-TTL:PT1H
BEGIN:VTIMEZONE
TZID:Europe/London
BEGIN:DAYLIGHT
TZOFFSETFROM:+0000
TZOFFSETTO:+0100
TZNAME:BST
DTSTART:20250330T010000
END:DAYLIGHT
BEGIN:STANDARD
TZOFFSETFROM:+0100
TZOFFSETTO:+0000
TZNAME:GMT
DTSTART:20251026T010000
END:STANDARD
BEGIN:DAYLIGHT
TZOFFSETFROM:+0000
TZOFFSETTO:+0100
TZNAME:BST
DTSTART:20260329T010000
END:DAYLIGHT
BEGIN:STANDARD
TZOFFSETFROM:+0100
TZOFFSETTO:+0000
TZNAME:GMT
DTSTART:20261025T010000
END:STANDARD
BEGIN:DAYLIGHT
TZOFFSETFROM:+0000
TZOFFSETTO:+0100
TZNAME:BST
DTSTART:20270328T010000
END:DAYLIGHT
BEGIN:STANDARD
TZOFFSETFROM:+0100
TZOFFSETTO:+0000
TZNAME:GMT
DTSTART:20271031T010000
END:STANDARD
END:VTIMEZONE
BEGIN:VEVENT
DTSTART;TZID=Europe/London:20260530T100000
DTEND;TZID=Europe/London:20260530T160000
DTSTAMP:20260421T130428
CREATED:20260410T154850Z
LAST-MODIFIED:20260410T154850Z
UID:10002882-1780135200-1780156800@www.typawb.wales
SUMMARY:Tŷ Pawb Record Fair
DESCRIPTION:Come along and explore a treasure trove of records from 30+ stalls consisting of the UK’s top record dealers who will be selling vinyl of all eras and genres. Come find a bargain or that rare record you’ve been chasing. \nThroughout the day\, there will also be DJ sets and live music\, the bar will be open and great food will be on offer from our food court. \nBar\, food court\, market & gallery open all day – plus our very own record shop ReVibed Records.
URL:https://www.typawb.wales/event/ty-pawb-record-fair-2/2026-05-30/
LOCATION:Tŷ Pawb\, Market Street\, Wrexham\, LL13 8BB
CATEGORIES:Events
ATTACH;FMTTYPE=image/jpeg:https://www.typawb.wales/wp-content/uploads/2026/04/TyPawb_RecordFair_2026_A3-scaled.jpg
END:VEVENT
BEGIN:VEVENT
DTSTART;TZID=Europe/London:20260926T100000
DTEND;TZID=Europe/London:20260926T160000
DTSTAMP:20260421T130428
CREATED:20260410T154850Z
LAST-MODIFIED:20260410T154850Z
UID:10002883-1790416800-1790438400@www.typawb.wales
SUMMARY:Tŷ Pawb Record Fair
DESCRIPTION:Come along and explore a treasure trove of records from 30+ stalls consisting of the UK’s top record dealers who will be selling vinyl of all eras and genres. Come find a bargain or that rare record you’ve been chasing. \nThroughout the day\, there will also be DJ sets and live music\, the bar will be open and great food will be on offer from our food court. \nBar\, food court\, market & gallery open all day – plus our very own record shop ReVibed Records.
URL:https://www.typawb.wales/event/ty-pawb-record-fair-2/2026-09-26/
LOCATION:Tŷ Pawb\, Market Street\, Wrexham\, LL13 8BB
CATEGORIES:Events
ATTACH;FMTTYPE=image/jpeg:https://www.typawb.wales/wp-content/uploads/2026/04/TyPawb_RecordFair_2026_A3-scaled.jpg
END:VEVENT
BEGIN:VEVENT
DTSTART;TZID=Europe/London:20261114T100000
DTEND;TZID=Europe/London:20261114T160000
DTSTAMP:20260421T130428
CREATED:20260410T154850Z
LAST-MODIFIED:20260410T154850Z
UID:10002884-1794650400-1794672000@www.typawb.wales
SUMMARY:Tŷ Pawb Record Fair
DESCRIPTION:Come along and explore a treasure trove of records from 30+ stalls consisting of the UK’s top record dealers who will be selling vinyl of all eras and genres. Come find a bargain or that rare record you’ve been chasing. \nThroughout the day\, there will also be DJ sets and live music\, the bar will be open and great food will be on offer from our food court. \nBar\, food court\, market & gallery open all day – plus our very own record shop ReVibed Records.
URL:https://www.typawb.wales/event/ty-pawb-record-fair-2/2026-11-14/
LOCATION:Tŷ Pawb\, Market Street\, Wrexham\, LL13 8BB
CATEGORIES:Events
ATTACH;FMTTYPE=image/jpeg:https://www.typawb.wales/wp-content/uploads/2026/04/TyPawb_RecordFair_2026_A3-scaled.jpg
END:VEVENT
END:VCALENDAR