BEGIN:VCALENDAR
VERSION:2.0
PRODID:-//Tŷ Pawb - ECPv6.15.20//NONSGML v1.0//EN
CALSCALE:GREGORIAN
METHOD:PUBLISH
X-ORIGINAL-URL:https://www.typawb.wales
X-WR-CALDESC:Events for Tŷ Pawb
REFRESH-INTERVAL;VALUE=DURATION:PT1H
X-Robots-Tag:noindex
X-PUBLISHED-TTL:PT1H
BEGIN:VTIMEZONE
TZID:Europe/London
BEGIN:DAYLIGHT
TZOFFSETFROM:+0000
TZOFFSETTO:+0100
TZNAME:BST
DTSTART:20250330T010000
END:DAYLIGHT
BEGIN:STANDARD
TZOFFSETFROM:+0100
TZOFFSETTO:+0000
TZNAME:GMT
DTSTART:20251026T010000
END:STANDARD
BEGIN:DAYLIGHT
TZOFFSETFROM:+0000
TZOFFSETTO:+0100
TZNAME:BST
DTSTART:20260329T010000
END:DAYLIGHT
BEGIN:STANDARD
TZOFFSETFROM:+0100
TZOFFSETTO:+0000
TZNAME:GMT
DTSTART:20261025T010000
END:STANDARD
BEGIN:DAYLIGHT
TZOFFSETFROM:+0000
TZOFFSETTO:+0100
TZNAME:BST
DTSTART:20270328T010000
END:DAYLIGHT
BEGIN:STANDARD
TZOFFSETFROM:+0100
TZOFFSETTO:+0000
TZNAME:GMT
DTSTART:20271031T010000
END:STANDARD
END:VTIMEZONE
BEGIN:VEVENT
DTSTART;TZID=Europe/London:20260508T140000
DTEND;TZID=Europe/London:20260508T153000
DTSTAMP:20260421T014707
CREATED:20260420T141952Z
LAST-MODIFIED:20260420T143233Z
UID:10002895-1778248800-1778254200@www.typawb.wales
SUMMARY:Home Ed Garden Club
DESCRIPTION:Home Ed Garden Club\nEvery other Friday\, 14:00 – 15:30 \nDates:\n\n24 April\n8 May\n 22 May\n5 June\n19 June\n 5 July\n19 July\nBreak for summer holidays.\n\nKey Info: \n\n\nThe rooftop garden can be accessed via the gate on level 2a of the carpark. Visit reception on the ground floor if not parking in our carpark\, as you will need a member of staff to let you upstairs via the staff lift/stairs instead.\nPlease let us know if anyone in your group is a wheelchair user / has access challenges as there are multiple routes that may be suitable depending on needs.\nNature logbook to keep provided\nPay-what-you-can donations are welcome and can be paid on the day at reception\nParents must stay with their children for the duration of the session\nEmail teampawb@wrexham.gov.uk to book a place.
URL:https://www.typawb.wales/event/home-ed-garden-club/2026-05-08/
LOCATION:Tŷ Pawb\, Market Street\, Wrexham\, LL13 8BB
CATEGORIES:Families,Learning
ATTACH;FMTTYPE=image/jpeg:https://www.typawb.wales/wp-content/uploads/2026/04/667826560_1572423038221589_8183772078265495608_n.jpg
ORGANIZER;CN="T%C5%B7 Pawb Arts Engagement Team":MAILTO:teampawb@wrexham.gov.uk
END:VEVENT
END:VCALENDAR