BEGIN:VCALENDAR
VERSION:2.0
PRODID:-//Tŷ Pawb - ECPv6.15.20//NONSGML v1.0//EN
CALSCALE:GREGORIAN
METHOD:PUBLISH
X-ORIGINAL-URL:https://www.typawb.wales
X-WR-CALDESC:Events for Tŷ Pawb
REFRESH-INTERVAL;VALUE=DURATION:PT1H
X-Robots-Tag:noindex
X-PUBLISHED-TTL:PT1H
BEGIN:VTIMEZONE
TZID:Europe/London
BEGIN:DAYLIGHT
TZOFFSETFROM:+0000
TZOFFSETTO:+0100
TZNAME:BST
DTSTART:20250330T010000
END:DAYLIGHT
BEGIN:STANDARD
TZOFFSETFROM:+0100
TZOFFSETTO:+0000
TZNAME:GMT
DTSTART:20251026T010000
END:STANDARD
BEGIN:DAYLIGHT
TZOFFSETFROM:+0000
TZOFFSETTO:+0100
TZNAME:BST
DTSTART:20260329T010000
END:DAYLIGHT
BEGIN:STANDARD
TZOFFSETFROM:+0100
TZOFFSETTO:+0000
TZNAME:GMT
DTSTART:20261025T010000
END:STANDARD
BEGIN:DAYLIGHT
TZOFFSETFROM:+0000
TZOFFSETTO:+0100
TZNAME:BST
DTSTART:20270328T010000
END:DAYLIGHT
BEGIN:STANDARD
TZOFFSETFROM:+0100
TZOFFSETTO:+0000
TZNAME:GMT
DTSTART:20271031T010000
END:STANDARD
END:VTIMEZONE
BEGIN:VEVENT
DTSTART;TZID=Europe/London:20260216T130000
DTEND;TZID=Europe/London:20260216T160000
DTSTAMP:20260421T163012
CREATED:20260202T140042Z
LAST-MODIFIED:20260202T142221Z
UID:10002424-1771246800-1771257600@www.typawb.wales
SUMMARY:Teen Art Club (11-17s) - Reverse Painting with David Setter
DESCRIPTION:Teen Art Club (11-17s)\n16/02/2026\, 13:00 – 16:00\n£6.50 per young person. Booking essential.\nThis is a drop-off session\, but parents / carers are welcome to stay if young people feel anxious or require support for additional needs. Parents / carers will be asked to complete an emergency contact form ahead of the session. \nReverse painting with David Setter\nHave you ever wondered what it’s like to create a painting\, illustration or doodle backwards?\nColour first and then ‘trapping’ that colour with line work….It’s a lovely loose way to create\, and it eliminates the need to attempt to paint neatly to the line. A time saving\, fun and improvised way of creating pictures which works well in any medium.\nWe’ll be looking at and listening to the wonderful work of Jonathan le Vay for inspiration. David will also bring examples of his own floral paintings along to the session\, and will be demonstrating tips and tricks on doodle character creation.\nWe will be using music to create one line (continuous line) drawings to find out if the tempo of music plays a part in how we draw.
URL:https://www.typawb.wales/event/42915/
LOCATION:Tŷ Pawb\, Market Street\, Wrexham\, LL13 8BB
ATTACH;FMTTYPE=image/jpeg:https://www.typawb.wales/wp-content/uploads/2026/02/pexels-shvetsa-4587831-scaled-e1770042189493.jpg
ORGANIZER;CN="T%C5%B7 Pawb Arts Engagement Team":MAILTO:teampawb@wrexham.gov.uk
END:VEVENT
BEGIN:VEVENT
DTSTART;TZID=Europe/London:20260216T140000
DTEND;TZID=Europe/London:20260216T153000
DTSTAMP:20260421T163012
CREATED:20260129T165950Z
LAST-MODIFIED:20260129T170157Z
UID:10002418-1771250400-1771255800@www.typawb.wales
SUMMARY:Family Music Workshop with Andy Hickie
DESCRIPTION:Learn to play Welsh langauage songs in this fun\, relaxed and collaborative family friendly workshop. No musical experience needed. Most suitable for children 6+\, all children must be accompanied by an adult. \nAndy Hickie is a singer-songwriter focusing on traditional Welsh and Irish folk songs\, as well as being the regular host of “Gathering of Folk”. Andy is a well-known figure in the local music scene\, and has a wealth of musical experience across a diverse range of projects including Merry Maidens\, PAPERHOUSE and Cosmic Dog Fog. \nSupported by Welsh Government.
URL:https://www.typawb.wales/event/family-music-workshop-with-andy-hickie/
LOCATION:Tŷ Pawb\, Market Street\, Wrexham\, LL13 8BB
CATEGORIES:Families,Learning
ATTACH;FMTTYPE=image/jpeg:https://www.typawb.wales/wp-content/uploads/2026/01/fm1-scaled.jpg
END:VEVENT
BEGIN:VEVENT
DTSTART;TZID=Europe/London:20260216T140000
DTEND;TZID=Europe/London:20260216T153000
DTSTAMP:20260421T163012
CREATED:20260326T133920Z
LAST-MODIFIED:20260326T134106Z
UID:10002527-1771250400-1771255800@www.typawb.wales
SUMMARY:Family Music Workshop with Andy Hickie
DESCRIPTION:Learn to play Welsh langauage songs in this fun\, relaxed and collaborative family friendly workshop. No musical experience needed. Most suitable for children 6+\, all children must be accompanied by an adult. \nAndy Hickie is a singer-songwriter focusing on traditional Welsh and Irish folk songs\, as well as being the regular host of “Gathering of Folk”. Andy is a well-known figure in the local music scene\, and has a wealth of musical experience across a diverse range of projects including Merry Maidens\, PAPERHOUSE and Cosmic Dog Fog. \nhttps://www.eventbrite.com/e/gweithdy-cerddoriaeth-ir-teulu-family-music-workshop-tickets-1985989107883
URL:https://www.typawb.wales/event/family-music-workshop-with-andy-hickie-2/
LOCATION:Tŷ Pawb\, Market Street\, Wrexham\, LL13 8BB
CATEGORIES:Families,Learning
ATTACH;FMTTYPE=image/jpeg:https://www.typawb.wales/wp-content/uploads/2026/01/fm1-scaled.jpg
END:VEVENT
END:VCALENDAR