BEGIN:VCALENDAR
VERSION:2.0
PRODID:-//Tŷ Pawb - ECPv6.15.20//NONSGML v1.0//EN
CALSCALE:GREGORIAN
METHOD:PUBLISH
X-ORIGINAL-URL:https://www.typawb.wales
X-WR-CALDESC:Events for Tŷ Pawb
REFRESH-INTERVAL;VALUE=DURATION:PT1H
X-Robots-Tag:noindex
X-PUBLISHED-TTL:PT1H
BEGIN:VTIMEZONE
TZID:Europe/London
BEGIN:DAYLIGHT
TZOFFSETFROM:+0000
TZOFFSETTO:+0100
TZNAME:BST
DTSTART:20250330T010000
END:DAYLIGHT
BEGIN:STANDARD
TZOFFSETFROM:+0100
TZOFFSETTO:+0000
TZNAME:GMT
DTSTART:20251026T010000
END:STANDARD
BEGIN:DAYLIGHT
TZOFFSETFROM:+0000
TZOFFSETTO:+0100
TZNAME:BST
DTSTART:20260329T010000
END:DAYLIGHT
BEGIN:STANDARD
TZOFFSETFROM:+0100
TZOFFSETTO:+0000
TZNAME:GMT
DTSTART:20261025T010000
END:STANDARD
BEGIN:DAYLIGHT
TZOFFSETFROM:+0000
TZOFFSETTO:+0100
TZNAME:BST
DTSTART:20270328T010000
END:DAYLIGHT
BEGIN:STANDARD
TZOFFSETFROM:+0100
TZOFFSETTO:+0000
TZNAME:GMT
DTSTART:20271031T010000
END:STANDARD
END:VTIMEZONE
BEGIN:VEVENT
DTSTART;TZID=Europe/London:20260416T160000
DTEND;TZID=Europe/London:20260416T173000
DTSTAMP:20260420T194231
CREATED:20250903T112114Z
LAST-MODIFIED:20260408T153457Z
UID:10001493-1776355200-1776360600@www.typawb.wales
SUMMARY:Free Play Sessions!
DESCRIPTION:Free Play Sessions!Term Time Thursdays16:00 – 17:30Free!\nNo need to book\, just drop-in.Children under 5 must be accompanied by an adult.Child-led\, active\, creative\, fun!
URL:https://www.typawb.wales/event/sesiynau-chwaraw-am-ddim/2026-04-16/
LOCATION:Tŷ Pawb\, Market Street\, Wrexham\, LL13 8BB
CATEGORIES:Families,Learning
ATTACH;FMTTYPE=image/jpeg:https://www.typawb.wales/wp-content/uploads/2025/02/PlaySessionDisplay.jpg
END:VEVENT
BEGIN:VEVENT
DTSTART;TZID=Europe/London:20260408T110000
DTEND;TZID=Europe/London:20260408T130000
DTSTAMP:20260420T194231
CREATED:20250730T091154Z
LAST-MODIFIED:20260407T165255Z
UID:10001146-1775646000-1775653200@www.typawb.wales
SUMMARY:Mombies
DESCRIPTION:Mombies\nWednesdays 11am – 1pm \nA free parent and families friendship group designed to support parents to combat loneliness and anxiety. Join us for a cuppa\, a chat\, and let the kids play! For more information about visit:\nwww.facebook.com/wrexhammombies \n 
URL:https://www.typawb.wales/event/mombies/2026-04-08/
LOCATION:Tŷ Pawb\, Market Street\, Wrexham\, LL13 8BB
CATEGORIES:Events,Families
ATTACH;FMTTYPE=image/jpeg:https://www.typawb.wales/wp-content/uploads/2025/07/424958289_926793042779704_580054936145583248_n.jpg
END:VEVENT
BEGIN:VEVENT
DTSTART;TZID=Europe/London:20260408T110000
DTEND;TZID=Europe/London:20260408T123000
DTSTAMP:20260420T194231
CREATED:20250904T121639Z
LAST-MODIFIED:20260407T165415Z
UID:10001980-1775646000-1775651400@www.typawb.wales
SUMMARY:Toddler Time!
DESCRIPTION:Toddler Time! \nWednesdays\n11.00 – 12.30 \nFree\, donations welcome. \nPlayful and creative activities for children under 4 and their carers.  \nAll children must be accompanied by an adult.\nIn partnership with Mombies Parent Support Group.
URL:https://www.typawb.wales/event/toddler-time/2026-04-08/
LOCATION:Tŷ Pawb\, Market Street\, Wrexham\, LL13 8BB
CATEGORIES:Families,Learning
ATTACH;FMTTYPE=image/jpeg:https://www.typawb.wales/wp-content/uploads/2025/09/Toddler-e1770042497952.jpg
ORGANIZER;CN="T%C5%B7 Pawb Arts Engagement Team":MAILTO:teampawb@wrexham.gov.uk
END:VEVENT
BEGIN:VEVENT
DTSTART;TZID=Europe/London:20260406T130000
DTEND;TZID=Europe/London:20260406T150000
DTSTAMP:20260420T194231
CREATED:20260326T121935Z
LAST-MODIFIED:20260326T132006Z
UID:10002523-1775480400-1775487600@www.typawb.wales
SUMMARY:Bank Holiday Family Disco
DESCRIPTION:Bank Holiday Family Disco\nBank Holiday Monday\, 06/04/2026\, 13:00 – 15:00 \nJoin us this bank holiday Monday for a family fun disco including:\n• Dressing up station\n• Dancing\n• Craft activities\n• Party games\n• Hoops\, skittles and loose parts play\nMost suitable for children aged 3 to 12. Children must be accompanied by an adult. Booking recommended to avoid disappointment. Pay what you can to support our activities for families. \n\n\nhttps://www.eventbrite.co.uk/e/disgo-teulu-gwyl-y-banc-bank-holiday-family-disco-tickets-1985155379178
URL:https://www.typawb.wales/event/disgo-teulu-gwyl-y-banc/
LOCATION:Tŷ Pawb\, Market Street\, Wrexham\, LL13 8BB
CATEGORIES:Dysgu,Families
ATTACH;FMTTYPE=image/jpeg:https://www.typawb.wales/wp-content/uploads/2026/03/16-scaled-e1774527491778.jpg
ORGANIZER;CN="T%C5%B7 Pawb Arts Engagement Team":MAILTO:teampawb@wrexham.gov.uk
END:VEVENT
BEGIN:VEVENT
DTSTART;TZID=Europe/London:20260402T160000
DTEND;TZID=Europe/London:20260402T173000
DTSTAMP:20260420T194231
CREATED:20250903T112114Z
LAST-MODIFIED:20260408T153457Z
UID:10001491-1775145600-1775151000@www.typawb.wales
SUMMARY:Free Play Sessions!
DESCRIPTION:Free Play Sessions!Term Time Thursdays16:00 – 17:30Free!\nNo need to book\, just drop-in.Children under 5 must be accompanied by an adult.Child-led\, active\, creative\, fun!
URL:https://www.typawb.wales/event/sesiynau-chwaraw-am-ddim/2026-04-02/
LOCATION:Tŷ Pawb\, Market Street\, Wrexham\, LL13 8BB
CATEGORIES:Families,Learning
ATTACH;FMTTYPE=image/jpeg:https://www.typawb.wales/wp-content/uploads/2025/02/PlaySessionDisplay.jpg
END:VEVENT
BEGIN:VEVENT
DTSTART;TZID=Europe/London:20260401T110000
DTEND;TZID=Europe/London:20260401T130000
DTSTAMP:20260420T194231
CREATED:20250730T091154Z
LAST-MODIFIED:20260407T165255Z
UID:10001145-1775041200-1775048400@www.typawb.wales
SUMMARY:Mombies
DESCRIPTION:Mombies\nWednesdays 11am – 1pm \nA free parent and families friendship group designed to support parents to combat loneliness and anxiety. Join us for a cuppa\, a chat\, and let the kids play! For more information about visit:\nwww.facebook.com/wrexhammombies \n 
URL:https://www.typawb.wales/event/mombies/2026-04-01/
LOCATION:Tŷ Pawb\, Market Street\, Wrexham\, LL13 8BB
CATEGORIES:Events,Families
ATTACH;FMTTYPE=image/jpeg:https://www.typawb.wales/wp-content/uploads/2025/07/424958289_926793042779704_580054936145583248_n.jpg
END:VEVENT
BEGIN:VEVENT
DTSTART;TZID=Europe/London:20260401T110000
DTEND;TZID=Europe/London:20260401T123000
DTSTAMP:20260420T194231
CREATED:20250904T121639Z
LAST-MODIFIED:20260407T165415Z
UID:10001979-1775041200-1775046600@www.typawb.wales
SUMMARY:Toddler Time!
DESCRIPTION:Toddler Time! \nWednesdays\n11.00 – 12.30 \nFree\, donations welcome. \nPlayful and creative activities for children under 4 and their carers.  \nAll children must be accompanied by an adult.\nIn partnership with Mombies Parent Support Group.
URL:https://www.typawb.wales/event/toddler-time/2026-04-01/
LOCATION:Tŷ Pawb\, Market Street\, Wrexham\, LL13 8BB
CATEGORIES:Families,Learning
ATTACH;FMTTYPE=image/jpeg:https://www.typawb.wales/wp-content/uploads/2025/09/Toddler-e1770042497952.jpg
ORGANIZER;CN="T%C5%B7 Pawb Arts Engagement Team":MAILTO:teampawb@wrexham.gov.uk
END:VEVENT
BEGIN:VEVENT
DTSTART;TZID=Europe/London:20260326T160000
DTEND;TZID=Europe/London:20260326T173000
DTSTAMP:20260420T194231
CREATED:20250903T112114Z
LAST-MODIFIED:20260408T153457Z
UID:10001490-1774540800-1774546200@www.typawb.wales
SUMMARY:Free Play Sessions!
DESCRIPTION:Free Play Sessions!Term Time Thursdays16:00 – 17:30Free!\nNo need to book\, just drop-in.Children under 5 must be accompanied by an adult.Child-led\, active\, creative\, fun!
URL:https://www.typawb.wales/event/sesiynau-chwaraw-am-ddim/2026-03-26/
LOCATION:Tŷ Pawb\, Market Street\, Wrexham\, LL13 8BB
CATEGORIES:Families,Learning
ATTACH;FMTTYPE=image/jpeg:https://www.typawb.wales/wp-content/uploads/2025/02/PlaySessionDisplay.jpg
END:VEVENT
BEGIN:VEVENT
DTSTART;TZID=Europe/London:20260325T110000
DTEND;TZID=Europe/London:20260325T130000
DTSTAMP:20260420T194231
CREATED:20250730T091154Z
LAST-MODIFIED:20260407T165255Z
UID:10001144-1774436400-1774443600@www.typawb.wales
SUMMARY:Mombies
DESCRIPTION:Mombies\nWednesdays 11am – 1pm \nA free parent and families friendship group designed to support parents to combat loneliness and anxiety. Join us for a cuppa\, a chat\, and let the kids play! For more information about visit:\nwww.facebook.com/wrexhammombies \n 
URL:https://www.typawb.wales/event/mombies/2026-03-25/
LOCATION:Tŷ Pawb\, Market Street\, Wrexham\, LL13 8BB
CATEGORIES:Events,Families
ATTACH;FMTTYPE=image/jpeg:https://www.typawb.wales/wp-content/uploads/2025/07/424958289_926793042779704_580054936145583248_n.jpg
END:VEVENT
BEGIN:VEVENT
DTSTART;TZID=Europe/London:20260325T110000
DTEND;TZID=Europe/London:20260325T123000
DTSTAMP:20260420T194231
CREATED:20250904T121639Z
LAST-MODIFIED:20260407T165415Z
UID:10001978-1774436400-1774441800@www.typawb.wales
SUMMARY:Toddler Time!
DESCRIPTION:Toddler Time! \nWednesdays\n11.00 – 12.30 \nFree\, donations welcome. \nPlayful and creative activities for children under 4 and their carers.  \nAll children must be accompanied by an adult.\nIn partnership with Mombies Parent Support Group.
URL:https://www.typawb.wales/event/toddler-time/2026-03-25/
LOCATION:Tŷ Pawb\, Market Street\, Wrexham\, LL13 8BB
CATEGORIES:Families,Learning
ATTACH;FMTTYPE=image/jpeg:https://www.typawb.wales/wp-content/uploads/2025/09/Toddler-e1770042497952.jpg
ORGANIZER;CN="T%C5%B7 Pawb Arts Engagement Team":MAILTO:teampawb@wrexham.gov.uk
END:VEVENT
BEGIN:VEVENT
DTSTART;TZID=Europe/London:20260319T160000
DTEND;TZID=Europe/London:20260319T173000
DTSTAMP:20260420T194231
CREATED:20250903T112114Z
LAST-MODIFIED:20260408T153457Z
UID:10001489-1773936000-1773941400@www.typawb.wales
SUMMARY:Free Play Sessions!
DESCRIPTION:Free Play Sessions!Term Time Thursdays16:00 – 17:30Free!\nNo need to book\, just drop-in.Children under 5 must be accompanied by an adult.Child-led\, active\, creative\, fun!
URL:https://www.typawb.wales/event/sesiynau-chwaraw-am-ddim/2026-03-19/
LOCATION:Tŷ Pawb\, Market Street\, Wrexham\, LL13 8BB
CATEGORIES:Families,Learning
ATTACH;FMTTYPE=image/jpeg:https://www.typawb.wales/wp-content/uploads/2025/02/PlaySessionDisplay.jpg
END:VEVENT
BEGIN:VEVENT
DTSTART;TZID=Europe/London:20260318T110000
DTEND;TZID=Europe/London:20260318T130000
DTSTAMP:20260420T194231
CREATED:20250730T091154Z
LAST-MODIFIED:20260407T165255Z
UID:10001143-1773831600-1773838800@www.typawb.wales
SUMMARY:Mombies
DESCRIPTION:Mombies\nWednesdays 11am – 1pm \nA free parent and families friendship group designed to support parents to combat loneliness and anxiety. Join us for a cuppa\, a chat\, and let the kids play! For more information about visit:\nwww.facebook.com/wrexhammombies \n 
URL:https://www.typawb.wales/event/mombies/2026-03-18/
LOCATION:Tŷ Pawb\, Market Street\, Wrexham\, LL13 8BB
CATEGORIES:Events,Families
ATTACH;FMTTYPE=image/jpeg:https://www.typawb.wales/wp-content/uploads/2025/07/424958289_926793042779704_580054936145583248_n.jpg
END:VEVENT
BEGIN:VEVENT
DTSTART;TZID=Europe/London:20260318T110000
DTEND;TZID=Europe/London:20260318T123000
DTSTAMP:20260420T194231
CREATED:20250904T121639Z
LAST-MODIFIED:20260407T165415Z
UID:10001977-1773831600-1773837000@www.typawb.wales
SUMMARY:Toddler Time!
DESCRIPTION:Toddler Time! \nWednesdays\n11.00 – 12.30 \nFree\, donations welcome. \nPlayful and creative activities for children under 4 and their carers.  \nAll children must be accompanied by an adult.\nIn partnership with Mombies Parent Support Group.
URL:https://www.typawb.wales/event/toddler-time/2026-03-18/
LOCATION:Tŷ Pawb\, Market Street\, Wrexham\, LL13 8BB
CATEGORIES:Families,Learning
ATTACH;FMTTYPE=image/jpeg:https://www.typawb.wales/wp-content/uploads/2025/09/Toddler-e1770042497952.jpg
ORGANIZER;CN="T%C5%B7 Pawb Arts Engagement Team":MAILTO:teampawb@wrexham.gov.uk
END:VEVENT
BEGIN:VEVENT
DTSTART;TZID=Europe/London:20260312T160000
DTEND;TZID=Europe/London:20260312T173000
DTSTAMP:20260420T194231
CREATED:20250903T112114Z
LAST-MODIFIED:20260408T153457Z
UID:10001488-1773331200-1773336600@www.typawb.wales
SUMMARY:Free Play Sessions!
DESCRIPTION:Free Play Sessions!Term Time Thursdays16:00 – 17:30Free!\nNo need to book\, just drop-in.Children under 5 must be accompanied by an adult.Child-led\, active\, creative\, fun!
URL:https://www.typawb.wales/event/sesiynau-chwaraw-am-ddim/2026-03-12/
LOCATION:Tŷ Pawb\, Market Street\, Wrexham\, LL13 8BB
CATEGORIES:Families,Learning
ATTACH;FMTTYPE=image/jpeg:https://www.typawb.wales/wp-content/uploads/2025/02/PlaySessionDisplay.jpg
END:VEVENT
BEGIN:VEVENT
DTSTART;TZID=Europe/London:20260311T110000
DTEND;TZID=Europe/London:20260311T130000
DTSTAMP:20260420T194231
CREATED:20250730T091154Z
LAST-MODIFIED:20260407T165255Z
UID:10001142-1773226800-1773234000@www.typawb.wales
SUMMARY:Mombies
DESCRIPTION:Mombies\nWednesdays 11am – 1pm \nA free parent and families friendship group designed to support parents to combat loneliness and anxiety. Join us for a cuppa\, a chat\, and let the kids play! For more information about visit:\nwww.facebook.com/wrexhammombies \n 
URL:https://www.typawb.wales/event/mombies/2026-03-11/
LOCATION:Tŷ Pawb\, Market Street\, Wrexham\, LL13 8BB
CATEGORIES:Events,Families
ATTACH;FMTTYPE=image/jpeg:https://www.typawb.wales/wp-content/uploads/2025/07/424958289_926793042779704_580054936145583248_n.jpg
END:VEVENT
BEGIN:VEVENT
DTSTART;TZID=Europe/London:20260311T110000
DTEND;TZID=Europe/London:20260311T123000
DTSTAMP:20260420T194231
CREATED:20250904T121639Z
LAST-MODIFIED:20260407T165415Z
UID:10001976-1773226800-1773232200@www.typawb.wales
SUMMARY:Toddler Time!
DESCRIPTION:Toddler Time! \nWednesdays\n11.00 – 12.30 \nFree\, donations welcome. \nPlayful and creative activities for children under 4 and their carers.  \nAll children must be accompanied by an adult.\nIn partnership with Mombies Parent Support Group.
URL:https://www.typawb.wales/event/toddler-time/2026-03-11/
LOCATION:Tŷ Pawb\, Market Street\, Wrexham\, LL13 8BB
CATEGORIES:Families,Learning
ATTACH;FMTTYPE=image/jpeg:https://www.typawb.wales/wp-content/uploads/2025/09/Toddler-e1770042497952.jpg
ORGANIZER;CN="T%C5%B7 Pawb Arts Engagement Team":MAILTO:teampawb@wrexham.gov.uk
END:VEVENT
BEGIN:VEVENT
DTSTART;TZID=Europe/London:20260305T160000
DTEND;TZID=Europe/London:20260305T173000
DTSTAMP:20260420T194231
CREATED:20250903T112114Z
LAST-MODIFIED:20260408T153457Z
UID:10001487-1772726400-1772731800@www.typawb.wales
SUMMARY:Free Play Sessions!
DESCRIPTION:Free Play Sessions!Term Time Thursdays16:00 – 17:30Free!\nNo need to book\, just drop-in.Children under 5 must be accompanied by an adult.Child-led\, active\, creative\, fun!
URL:https://www.typawb.wales/event/sesiynau-chwaraw-am-ddim/2026-03-05/
LOCATION:Tŷ Pawb\, Market Street\, Wrexham\, LL13 8BB
CATEGORIES:Families,Learning
ATTACH;FMTTYPE=image/jpeg:https://www.typawb.wales/wp-content/uploads/2025/02/PlaySessionDisplay.jpg
END:VEVENT
BEGIN:VEVENT
DTSTART;TZID=Europe/London:20260304T110000
DTEND;TZID=Europe/London:20260304T130000
DTSTAMP:20260420T194231
CREATED:20250730T091154Z
LAST-MODIFIED:20260407T165255Z
UID:10001141-1772622000-1772629200@www.typawb.wales
SUMMARY:Mombies
DESCRIPTION:Mombies\nWednesdays 11am – 1pm \nA free parent and families friendship group designed to support parents to combat loneliness and anxiety. Join us for a cuppa\, a chat\, and let the kids play! For more information about visit:\nwww.facebook.com/wrexhammombies \n 
URL:https://www.typawb.wales/event/mombies/2026-03-04/
LOCATION:Tŷ Pawb\, Market Street\, Wrexham\, LL13 8BB
CATEGORIES:Events,Families
ATTACH;FMTTYPE=image/jpeg:https://www.typawb.wales/wp-content/uploads/2025/07/424958289_926793042779704_580054936145583248_n.jpg
END:VEVENT
BEGIN:VEVENT
DTSTART;TZID=Europe/London:20260304T110000
DTEND;TZID=Europe/London:20260304T123000
DTSTAMP:20260420T194231
CREATED:20250904T121639Z
LAST-MODIFIED:20260407T165415Z
UID:10001975-1772622000-1772627400@www.typawb.wales
SUMMARY:Toddler Time!
DESCRIPTION:Toddler Time! \nWednesdays\n11.00 – 12.30 \nFree\, donations welcome. \nPlayful and creative activities for children under 4 and their carers.  \nAll children must be accompanied by an adult.\nIn partnership with Mombies Parent Support Group.
URL:https://www.typawb.wales/event/toddler-time/2026-03-04/
LOCATION:Tŷ Pawb\, Market Street\, Wrexham\, LL13 8BB
CATEGORIES:Families,Learning
ATTACH;FMTTYPE=image/jpeg:https://www.typawb.wales/wp-content/uploads/2025/09/Toddler-e1770042497952.jpg
ORGANIZER;CN="T%C5%B7 Pawb Arts Engagement Team":MAILTO:teampawb@wrexham.gov.uk
END:VEVENT
BEGIN:VEVENT
DTSTART;TZID=Europe/London:20260226T160000
DTEND;TZID=Europe/London:20260226T173000
DTSTAMP:20260420T194231
CREATED:20250903T112114Z
LAST-MODIFIED:20260408T153457Z
UID:10001486-1772121600-1772127000@www.typawb.wales
SUMMARY:Free Play Sessions!
DESCRIPTION:Free Play Sessions!Term Time Thursdays16:00 – 17:30Free!\nNo need to book\, just drop-in.Children under 5 must be accompanied by an adult.Child-led\, active\, creative\, fun!
URL:https://www.typawb.wales/event/sesiynau-chwaraw-am-ddim/2026-02-26/
LOCATION:Tŷ Pawb\, Market Street\, Wrexham\, LL13 8BB
CATEGORIES:Families,Learning
ATTACH;FMTTYPE=image/jpeg:https://www.typawb.wales/wp-content/uploads/2025/02/PlaySessionDisplay.jpg
END:VEVENT
BEGIN:VEVENT
DTSTART;TZID=Europe/London:20260225T110000
DTEND;TZID=Europe/London:20260225T130000
DTSTAMP:20260420T194231
CREATED:20250730T091154Z
LAST-MODIFIED:20260407T165255Z
UID:10001140-1772017200-1772024400@www.typawb.wales
SUMMARY:Mombies
DESCRIPTION:Mombies\nWednesdays 11am – 1pm \nA free parent and families friendship group designed to support parents to combat loneliness and anxiety. Join us for a cuppa\, a chat\, and let the kids play! For more information about visit:\nwww.facebook.com/wrexhammombies \n 
URL:https://www.typawb.wales/event/mombies/2026-02-25/
LOCATION:Tŷ Pawb\, Market Street\, Wrexham\, LL13 8BB
CATEGORIES:Events,Families
ATTACH;FMTTYPE=image/jpeg:https://www.typawb.wales/wp-content/uploads/2025/07/424958289_926793042779704_580054936145583248_n.jpg
END:VEVENT
BEGIN:VEVENT
DTSTART;TZID=Europe/London:20260225T110000
DTEND;TZID=Europe/London:20260225T123000
DTSTAMP:20260420T194231
CREATED:20250904T121639Z
LAST-MODIFIED:20260407T165415Z
UID:10001974-1772017200-1772022600@www.typawb.wales
SUMMARY:Toddler Time!
DESCRIPTION:Toddler Time! \nWednesdays\n11.00 – 12.30 \nFree\, donations welcome. \nPlayful and creative activities for children under 4 and their carers.  \nAll children must be accompanied by an adult.\nIn partnership with Mombies Parent Support Group.
URL:https://www.typawb.wales/event/toddler-time/2026-02-25/
LOCATION:Tŷ Pawb\, Market Street\, Wrexham\, LL13 8BB
CATEGORIES:Families,Learning
ATTACH;FMTTYPE=image/jpeg:https://www.typawb.wales/wp-content/uploads/2025/09/Toddler-e1770042497952.jpg
ORGANIZER;CN="T%C5%B7 Pawb Arts Engagement Team":MAILTO:teampawb@wrexham.gov.uk
END:VEVENT
BEGIN:VEVENT
DTSTART;TZID=Europe/London:20260219T160000
DTEND;TZID=Europe/London:20260219T173000
DTSTAMP:20260420T194231
CREATED:20250903T112114Z
LAST-MODIFIED:20260408T153457Z
UID:10001485-1771516800-1771522200@www.typawb.wales
SUMMARY:Free Play Sessions!
DESCRIPTION:Free Play Sessions!Term Time Thursdays16:00 – 17:30Free!\nNo need to book\, just drop-in.Children under 5 must be accompanied by an adult.Child-led\, active\, creative\, fun!
URL:https://www.typawb.wales/event/sesiynau-chwaraw-am-ddim/2026-02-19/
LOCATION:Tŷ Pawb\, Market Street\, Wrexham\, LL13 8BB
CATEGORIES:Families,Learning
ATTACH;FMTTYPE=image/jpeg:https://www.typawb.wales/wp-content/uploads/2025/02/PlaySessionDisplay.jpg
END:VEVENT
BEGIN:VEVENT
DTSTART;TZID=Europe/London:20260218T110000
DTEND;TZID=Europe/London:20260218T130000
DTSTAMP:20260420T194231
CREATED:20250730T091154Z
LAST-MODIFIED:20260407T165255Z
UID:10001139-1771412400-1771419600@www.typawb.wales
SUMMARY:Mombies
DESCRIPTION:Mombies\nWednesdays 11am – 1pm \nA free parent and families friendship group designed to support parents to combat loneliness and anxiety. Join us for a cuppa\, a chat\, and let the kids play! For more information about visit:\nwww.facebook.com/wrexhammombies \n 
URL:https://www.typawb.wales/event/mombies/2026-02-18/
LOCATION:Tŷ Pawb\, Market Street\, Wrexham\, LL13 8BB
CATEGORIES:Events,Families
ATTACH;FMTTYPE=image/jpeg:https://www.typawb.wales/wp-content/uploads/2025/07/424958289_926793042779704_580054936145583248_n.jpg
END:VEVENT
BEGIN:VEVENT
DTSTART;TZID=Europe/London:20260218T110000
DTEND;TZID=Europe/London:20260218T123000
DTSTAMP:20260420T194231
CREATED:20250904T121639Z
LAST-MODIFIED:20260407T165415Z
UID:10001973-1771412400-1771417800@www.typawb.wales
SUMMARY:Toddler Time!
DESCRIPTION:Toddler Time! \nWednesdays\n11.00 – 12.30 \nFree\, donations welcome. \nPlayful and creative activities for children under 4 and their carers.  \nAll children must be accompanied by an adult.\nIn partnership with Mombies Parent Support Group.
URL:https://www.typawb.wales/event/toddler-time/2026-02-18/
LOCATION:Tŷ Pawb\, Market Street\, Wrexham\, LL13 8BB
CATEGORIES:Families,Learning
ATTACH;FMTTYPE=image/jpeg:https://www.typawb.wales/wp-content/uploads/2025/09/Toddler-e1770042497952.jpg
ORGANIZER;CN="T%C5%B7 Pawb Arts Engagement Team":MAILTO:teampawb@wrexham.gov.uk
END:VEVENT
BEGIN:VEVENT
DTSTART;TZID=Europe/London:20260212T160000
DTEND;TZID=Europe/London:20260212T173000
DTSTAMP:20260420T194231
CREATED:20250903T112114Z
LAST-MODIFIED:20260408T153457Z
UID:10001484-1770912000-1770917400@www.typawb.wales
SUMMARY:Free Play Sessions!
DESCRIPTION:Free Play Sessions!Term Time Thursdays16:00 – 17:30Free!\nNo need to book\, just drop-in.Children under 5 must be accompanied by an adult.Child-led\, active\, creative\, fun!
URL:https://www.typawb.wales/event/sesiynau-chwaraw-am-ddim/2026-02-12/
LOCATION:Tŷ Pawb\, Market Street\, Wrexham\, LL13 8BB
CATEGORIES:Families,Learning
ATTACH;FMTTYPE=image/jpeg:https://www.typawb.wales/wp-content/uploads/2025/02/PlaySessionDisplay.jpg
END:VEVENT
BEGIN:VEVENT
DTSTART;TZID=Europe/London:20260211T110000
DTEND;TZID=Europe/London:20260211T130000
DTSTAMP:20260420T194231
CREATED:20250730T091154Z
LAST-MODIFIED:20260407T165255Z
UID:10001138-1770807600-1770814800@www.typawb.wales
SUMMARY:Mombies
DESCRIPTION:Mombies\nWednesdays 11am – 1pm \nA free parent and families friendship group designed to support parents to combat loneliness and anxiety. Join us for a cuppa\, a chat\, and let the kids play! For more information about visit:\nwww.facebook.com/wrexhammombies \n 
URL:https://www.typawb.wales/event/mombies/2026-02-11/
LOCATION:Tŷ Pawb\, Market Street\, Wrexham\, LL13 8BB
CATEGORIES:Events,Families
ATTACH;FMTTYPE=image/jpeg:https://www.typawb.wales/wp-content/uploads/2025/07/424958289_926793042779704_580054936145583248_n.jpg
END:VEVENT
BEGIN:VEVENT
DTSTART;TZID=Europe/London:20260211T110000
DTEND;TZID=Europe/London:20260211T123000
DTSTAMP:20260420T194231
CREATED:20250904T121639Z
LAST-MODIFIED:20260407T165415Z
UID:10001972-1770807600-1770813000@www.typawb.wales
SUMMARY:Toddler Time!
DESCRIPTION:Toddler Time! \nWednesdays\n11.00 – 12.30 \nFree\, donations welcome. \nPlayful and creative activities for children under 4 and their carers.  \nAll children must be accompanied by an adult.\nIn partnership with Mombies Parent Support Group.
URL:https://www.typawb.wales/event/toddler-time/2026-02-11/
LOCATION:Tŷ Pawb\, Market Street\, Wrexham\, LL13 8BB
CATEGORIES:Families,Learning
ATTACH;FMTTYPE=image/jpeg:https://www.typawb.wales/wp-content/uploads/2025/09/Toddler-e1770042497952.jpg
ORGANIZER;CN="T%C5%B7 Pawb Arts Engagement Team":MAILTO:teampawb@wrexham.gov.uk
END:VEVENT
BEGIN:VEVENT
DTSTART;TZID=Europe/London:20260205T160000
DTEND;TZID=Europe/London:20260205T173000
DTSTAMP:20260420T194231
CREATED:20250903T112114Z
LAST-MODIFIED:20260408T153457Z
UID:10001483-1770307200-1770312600@www.typawb.wales
SUMMARY:Free Play Sessions!
DESCRIPTION:Free Play Sessions!Term Time Thursdays16:00 – 17:30Free!\nNo need to book\, just drop-in.Children under 5 must be accompanied by an adult.Child-led\, active\, creative\, fun!
URL:https://www.typawb.wales/event/sesiynau-chwaraw-am-ddim/2026-02-05/
LOCATION:Tŷ Pawb\, Market Street\, Wrexham\, LL13 8BB
CATEGORIES:Families,Learning
ATTACH;FMTTYPE=image/jpeg:https://www.typawb.wales/wp-content/uploads/2025/02/PlaySessionDisplay.jpg
END:VEVENT
BEGIN:VEVENT
DTSTART;TZID=Europe/London:20260204T110000
DTEND;TZID=Europe/London:20260204T130000
DTSTAMP:20260420T194231
CREATED:20250730T091154Z
LAST-MODIFIED:20260407T165255Z
UID:10001137-1770202800-1770210000@www.typawb.wales
SUMMARY:Mombies
DESCRIPTION:Mombies\nWednesdays 11am – 1pm \nA free parent and families friendship group designed to support parents to combat loneliness and anxiety. Join us for a cuppa\, a chat\, and let the kids play! For more information about visit:\nwww.facebook.com/wrexhammombies \n 
URL:https://www.typawb.wales/event/mombies/2026-02-04/
LOCATION:Tŷ Pawb\, Market Street\, Wrexham\, LL13 8BB
CATEGORIES:Events,Families
ATTACH;FMTTYPE=image/jpeg:https://www.typawb.wales/wp-content/uploads/2025/07/424958289_926793042779704_580054936145583248_n.jpg
END:VEVENT
END:VCALENDAR